BEGIN:VCALENDAR
VERSION:2.0
PRODID:-//Chicago Cultural Alliance - ECPv6.15.20//NONSGML v1.0//EN
CALSCALE:GREGORIAN
METHOD:PUBLISH
X-ORIGINAL-URL:https://www.chicagoculturalalliance.org
X-WR-CALDESC:Events for Chicago Cultural Alliance
REFRESH-INTERVAL;VALUE=DURATION:PT1H
X-Robots-Tag:noindex
X-PUBLISHED-TTL:PT1H
BEGIN:VTIMEZONE
TZID:America/Chicago
BEGIN:DAYLIGHT
TZOFFSETFROM:-0600
TZOFFSETTO:-0500
TZNAME:CDT
DTSTART:20200308T080000
END:DAYLIGHT
BEGIN:STANDARD
TZOFFSETFROM:-0500
TZOFFSETTO:-0600
TZNAME:CST
DTSTART:20201101T070000
END:STANDARD
BEGIN:DAYLIGHT
TZOFFSETFROM:-0600
TZOFFSETTO:-0500
TZNAME:CDT
DTSTART:20210314T080000
END:DAYLIGHT
BEGIN:STANDARD
TZOFFSETFROM:-0500
TZOFFSETTO:-0600
TZNAME:CST
DTSTART:20211107T070000
END:STANDARD
BEGIN:DAYLIGHT
TZOFFSETFROM:-0600
TZOFFSETTO:-0500
TZNAME:CDT
DTSTART:20220313T080000
END:DAYLIGHT
BEGIN:STANDARD
TZOFFSETFROM:-0500
TZOFFSETTO:-0600
TZNAME:CST
DTSTART:20221106T070000
END:STANDARD
BEGIN:DAYLIGHT
TZOFFSETFROM:-0600
TZOFFSETTO:-0500
TZNAME:CDT
DTSTART:20230312T080000
END:DAYLIGHT
BEGIN:STANDARD
TZOFFSETFROM:-0500
TZOFFSETTO:-0600
TZNAME:CST
DTSTART:20231105T070000
END:STANDARD
END:VTIMEZONE
BEGIN:VEVENT
DTSTART;TZID=America/Chicago:20220219T070000
DTEND;TZID=America/Chicago:20220219T090000
DTSTAMP:20260423T093912
CREATED:20220208T211304Z
LAST-MODIFIED:20220208T211304Z
UID:10001312-1645254000-1645261200@www.chicagoculturalalliance.org
SUMMARY:Bronzeville Children's Museum: Black History Month Celebration
DESCRIPTION:“Communications from Past to Present” \nSaturday\, February 19\, 1pm-3pm \nTickets: $5 (members free) \nCrafts\, Balloons\, Music\, Storytelling
URL:https://www.chicagoculturalalliance.org/event/bronzeville-childrens-museum-black-history-month-celebration/
LOCATION:Bronzeville Children’s Museum\, 9301 S Stony Island Ave\, Chicago\, IL\, 60617\, United States
CATEGORIES:Cultural Festivals and Fairs,Member Events
ATTACH;FMTTYPE=image/jpeg:https://www.chicagoculturalalliance.org/wp-content/uploads/2022/02/bcm-black-history-month.jpeg
GEO:41.7257517;-87.5844813
X-APPLE-STRUCTURED-LOCATION;VALUE=URI;X-ADDRESS=Bronzeville Children’s Museum 9301 S Stony Island Ave Chicago IL 60617 United States;X-APPLE-RADIUS=500;X-TITLE=9301 S Stony Island Ave:geo:-87.5844813,41.7257517
END:VEVENT
BEGIN:VEVENT
DTSTART;TZID=America/Chicago:20220219T060000
DTEND;TZID=America/Chicago:20220219T090000
DTSTAMP:20260423T093912
CREATED:20220215T004614Z
LAST-MODIFIED:20220215T004614Z
UID:10001316-1645250400-1645261200@www.chicagoculturalalliance.org
SUMMARY:Kaffee\, Kuchen\, und Kino
DESCRIPTION:Join us on the 1st and 3rd Saturday of each month for a free German language film screening! Kaffee und Kuchen (coffee & cakes) will be served at 12:00 PM and the film will begin at 1:00 PM. Stick around after the credits roll to discuss the film and flex your German language skills.
URL:https://www.chicagoculturalalliance.org/event/kaffee-kuchen-und-kino-2/
LOCATION:DANK Haus German American Cultural Center\, 4740 N. Western Ave.\, Chicago\, IL\, 60625\, United States
CATEGORIES:Cultural Festivals and Fairs,Food and Drink,Talks and Gatherings
ATTACH;FMTTYPE=image/png:https://www.chicagoculturalalliance.org/wp-content/uploads/2022/02/Kino-Facebook-Event-Header-1920-x-1040-px.png
GEO:41.9680013;-87.6890642
X-APPLE-STRUCTURED-LOCATION;VALUE=URI;X-ADDRESS=DANK Haus German American Cultural Center 4740 N. Western Ave. Chicago IL 60625 United States;X-APPLE-RADIUS=500;X-TITLE=4740 N. Western Ave.:geo:-87.6890642,41.9680013
END:VEVENT
BEGIN:VEVENT
DTSTART;TZID=America/Chicago:20220218T133000
DTEND;TZID=America/Chicago:20220218T170000
DTSTAMP:20260423T093912
CREATED:20220124T225523Z
LAST-MODIFIED:20220124T225523Z
UID:10001290-1645191000-1645203600@www.chicagoculturalalliance.org
SUMMARY:Open Haus Stammtisch - Karneval!
DESCRIPTION:Friday February 18th is a night of fun at our Open Haus! This month’s theme is Karneval! Get in the mood and come wearing a festive hat of your choice. We will have German Bier on tap and food for purchase! \nThis is a great way to meet new friends\, or bring your friends and introduce them to the Haus! Stammtisch is located in our popular 6th Floor Skyline Lounge\, complete with vintage bar and sweeping panoramic views of the Chicago skyline.
URL:https://www.chicagoculturalalliance.org/event/open-haus-stammtisch-karneval/
LOCATION:DANK Haus German American Cultural Center\, 4740 N. Western Ave.\, Chicago\, IL\, 60625\, United States
CATEGORIES:Cultural Festivals and Fairs,Food and Drink,Talks and Gatherings
ATTACH;FMTTYPE=image/png:https://www.chicagoculturalalliance.org/wp-content/uploads/2022/01/Karneval-Stammtisch.png
GEO:41.9680013;-87.6890642
X-APPLE-STRUCTURED-LOCATION;VALUE=URI;X-ADDRESS=DANK Haus German American Cultural Center 4740 N. Western Ave. Chicago IL 60625 United States;X-APPLE-RADIUS=500;X-TITLE=4740 N. Western Ave.:geo:-87.6890642,41.9680013
END:VEVENT
BEGIN:VEVENT
DTSTART;TZID=America/Chicago:20220211T130000
DTEND;TZID=America/Chicago:20220211T160000
DTSTAMP:20260423T093912
CREATED:20220124T225614Z
LAST-MODIFIED:20220124T225614Z
UID:10001291-1644584400-1644595200@www.chicagoculturalalliance.org
SUMMARY:Feierabend
DESCRIPTION:Join us for our first Feierabend of the new year on Friday\, February 11th at 7pm. Feierabend is the German concept of being done with work for the day – basically\, time to relax with friends! \nWe will have a free french fry bar available while supplies last. Drinks will be sold on location. \nThe theme of this Feierabend is… New Year! Jumpstart the year 2022 at the DANK Haus! \nThe event will take place in our 6th floor Skyline Lounge\, where there is a lovely view of the Chicago skyline!
URL:https://www.chicagoculturalalliance.org/event/feierabend/
LOCATION:DANK Haus German American Cultural Center\, 4740 N. Western Ave.\, Chicago\, IL\, 60625\, United States
CATEGORIES:Cultural Festivals and Fairs,Food and Drink,Member Events,Talks and Gatherings
ATTACH;FMTTYPE=image/png:https://www.chicagoculturalalliance.org/wp-content/uploads/2022/01/Copy-of-Feierabend.png
GEO:41.9680013;-87.6890642
X-APPLE-STRUCTURED-LOCATION;VALUE=URI;X-ADDRESS=DANK Haus German American Cultural Center 4740 N. Western Ave. Chicago IL 60625 United States;X-APPLE-RADIUS=500;X-TITLE=4740 N. Western Ave.:geo:-87.6890642,41.9680013
END:VEVENT
BEGIN:VEVENT
DTSTART;TZID=America/Chicago:20220210T130000
DTEND;TZID=America/Chicago:20220210T170000
DTSTAMP:20260423T093912
CREATED:20220122T045005Z
LAST-MODIFIED:20220122T045005Z
UID:10001289-1644498000-1644512400@www.chicagoculturalalliance.org
SUMMARY:Neighborhood Nights
DESCRIPTION:Come enjoy a beverage with a spectacular view from our Skyline Lounge & Terrace. A perfect place to meet your neighbors and socialize. Each 2nd & 4th Thursday of the month from 7-11 PM. Proceeds support the DANK Haus Museum.
URL:https://www.chicagoculturalalliance.org/event/neighborhood-nights/
LOCATION:DANK Haus German American Cultural Center\, 4740 N. Western Ave.\, Chicago\, IL\, 60625\, United States
CATEGORIES:Cultural Festivals and Fairs,Food and Drink,Talks and Gatherings
ATTACH;FMTTYPE=image/png:https://www.chicagoculturalalliance.org/wp-content/uploads/2022/01/Neighborhood-Nights-Heute-Abend-1920-x-1040-px.png
GEO:41.9680013;-87.6890642
X-APPLE-STRUCTURED-LOCATION;VALUE=URI;X-ADDRESS=DANK Haus German American Cultural Center 4740 N. Western Ave. Chicago IL 60625 United States;X-APPLE-RADIUS=500;X-TITLE=4740 N. Western Ave.:geo:-87.6890642,41.9680013
END:VEVENT
BEGIN:VEVENT
DTSTART;TZID=America/Chicago:20220205T060000
DTEND;TZID=America/Chicago:20220205T090000
DTSTAMP:20260423T093912
CREATED:20220118T215433Z
LAST-MODIFIED:20220118T215433Z
UID:10001280-1644040800-1644051600@www.chicagoculturalalliance.org
SUMMARY:Kaffee\, Kuchen\, und Kino
DESCRIPTION:Join us on the 1st and 3rd Saturday of each month for a free German language film screening! Kaffee und Kuchen (coffee & cakes) will be served at 12:00 PM and the film will begin at 1:00 PM. Stick around after the credits roll to discuss the film and flex your German language skills.
URL:https://www.chicagoculturalalliance.org/event/kaffee-kuchen-und-kino/
LOCATION:DANK Haus German American Cultural Center\, 4740 N. Western Ave.\, Chicago\, IL\, 60625\, United States
CATEGORIES:Cultural Festivals and Fairs,Food and Drink,Music, Film, and Theater,Talks and Gatherings
ATTACH;FMTTYPE=image/png:https://www.chicagoculturalalliance.org/wp-content/uploads/2022/01/Kino-Facebook-Event-Header-1920-x-1040-px.png
GEO:41.9680013;-87.6890642
X-APPLE-STRUCTURED-LOCATION;VALUE=URI;X-ADDRESS=DANK Haus German American Cultural Center 4740 N. Western Ave. Chicago IL 60625 United States;X-APPLE-RADIUS=500;X-TITLE=4740 N. Western Ave.:geo:-87.6890642,41.9680013
END:VEVENT
BEGIN:VEVENT
DTSTART;TZID=America/Chicago:20220205T040000
DTEND;TZID=America/Chicago:20220205T110000
DTSTAMP:20260423T093912
CREATED:20220118T215308Z
LAST-MODIFIED:20220118T215308Z
UID:10001279-1644033600-1644058800@www.chicagoculturalalliance.org
SUMMARY:Spring Flohmarkt (Flea Market)
DESCRIPTION:Looking to get rid of some old items that you don’t have a use for anymore? Don’t throw them away! Bring them to the DANK Haus and let them become another family’s treasure! You can donate items to the DANK Haus to sell in the Flohmarkt (Flea market)\, or you can rent your own table for $25 to sell your items. Tables are limited\, so claim yours soon! Bring dishes\, small appliances\, books\, collectibles\, coins\, jewelry\, whatever will fit into your space!  \nLooking for some gently used treasures yourself? Come shop the market from 10 am-5 pm. \nThe market will be open to the public from 10:00 AM – 5:00 PM one day only.
URL:https://www.chicagoculturalalliance.org/event/spring-flohmarkt-flea-market/
LOCATION:DANK Haus German American Cultural Center\, 4740 N. Western Ave.\, Chicago\, IL\, 60625\, United States
CATEGORIES:Cultural Festivals and Fairs
ATTACH;FMTTYPE=image/png:https://www.chicagoculturalalliance.org/wp-content/uploads/2022/01/Copy-of-Flohmarkt-1920-x-1040-px-2.png
GEO:41.9680013;-87.6890642
X-APPLE-STRUCTURED-LOCATION;VALUE=URI;X-ADDRESS=DANK Haus German American Cultural Center 4740 N. Western Ave. Chicago IL 60625 United States;X-APPLE-RADIUS=500;X-TITLE=4740 N. Western Ave.:geo:-87.6890642,41.9680013
END:VEVENT
BEGIN:VEVENT
DTSTART;TZID=America/Chicago:20220202T120000
DTEND;TZID=America/Chicago:20220202T130000
DTSTAMP:20260423T093912
CREATED:20220118T215114Z
LAST-MODIFIED:20220118T215114Z
UID:10001278-1643803200-1643806800@www.chicagoculturalalliance.org
SUMMARY:2022 Chinese New Year Celebration
DESCRIPTION:Celebrate the new Year of the Tiger with the Chinese American Museum of Chicago at our annual Chinese New Year Celebration. This year’s event will take place virtually on YouTube. Festivities include learning about Chinese New Year traditions\, musical performances\, lion dance\, paper-cutting art\, and much more! This event is FREE and for all ages. Ring in the lunar new year with a night of celebration! Register here \nA link to the watch page will be sent out prior to the event.
URL:https://www.chicagoculturalalliance.org/event/2022-chinese-new-year-celebration/
LOCATION:Online Event
CATEGORIES:Cultural Festivals and Fairs
ATTACH;FMTTYPE=image/png:https://www.chicagoculturalalliance.org/wp-content/uploads/2022/01/2022-CNY-Celebration-English.png
END:VEVENT
BEGIN:VEVENT
DTSTART;TZID=America/Chicago:20210210T110000
DTEND;TZID=America/Chicago:20210210T120000
DTSTAMP:20260423T093912
CREATED:20210210T032952Z
LAST-MODIFIED:20210210T032952Z
UID:10001191-1612954800-1612958400@www.chicagoculturalalliance.org
SUMMARY:Chinese New Year Preparation with Jewel Osco
DESCRIPTION:The Chinese American Museum of Chicago is partnering with Jewel Osco to get ready to ring in the Year of The Ox! Join us via Zoom\, where we’ll show you how to prepare delicious cuisine and drink recipe for the upcoming Chinese New Year holiday\, teach you about the history\, and more excitement! \nThis event includes: \n\nCooking demonstrations from Ying Stoller\, President & Founder of Ying’s Kitchen\, who’ll be showing you how to prepare General Tso’s Chicken and KA-ME Noodles\, and Chicken Broccoli\nCocktail making lesson from Christophe Pienkowski\, Martell Brand Ambassador\, who’ll be teaching you how to make a Martell Sidecar\nCultural activities from the Chinese American Museum\nRoxanne Janiczek local food blogger and recipe developer will join us as host\nGiveaways and more!\n\nWe’ll also be featuring more products from these brands: Ying’s Kitchen\, Martell\, KA-ME\, Cuties Mandarins\, Wonderful Pistachios\, Tropicana\, Scott\, and Viva.
URL:https://www.chicagoculturalalliance.org/event/chinese-new-year-preparation-with-jewel-osco/2021-02-10/
LOCATION:IL\, United States
CATEGORIES:Cultural Festivals and Fairs,Food and Drink,Workshops and Classes
GEO:41.8781136;-87.6297982
END:VEVENT
BEGIN:VEVENT
DTSTART;TZID=America/Chicago:20210204T110000
DTEND;TZID=America/Chicago:20210204T120000
DTSTAMP:20260423T093912
CREATED:20210210T032952Z
LAST-MODIFIED:20210210T032952Z
UID:10001190-1612436400-1612440000@www.chicagoculturalalliance.org
SUMMARY:Chinese New Year Preparation with Jewel Osco
DESCRIPTION:The Chinese American Museum of Chicago is partnering with Jewel Osco to get ready to ring in the Year of The Ox! Join us via Zoom\, where we’ll show you how to prepare delicious cuisine and drink recipe for the upcoming Chinese New Year holiday\, teach you about the history\, and more excitement! \nThis event includes: \n\nCooking demonstrations from Ying Stoller\, President & Founder of Ying’s Kitchen\, who’ll be showing you how to prepare General Tso’s Chicken and KA-ME Noodles\, and Chicken Broccoli\nCocktail making lesson from Christophe Pienkowski\, Martell Brand Ambassador\, who’ll be teaching you how to make a Martell Sidecar\nCultural activities from the Chinese American Museum\nRoxanne Janiczek local food blogger and recipe developer will join us as host\nGiveaways and more!\n\nWe’ll also be featuring more products from these brands: Ying’s Kitchen\, Martell\, KA-ME\, Cuties Mandarins\, Wonderful Pistachios\, Tropicana\, Scott\, and Viva.
URL:https://www.chicagoculturalalliance.org/event/chinese-new-year-preparation-with-jewel-osco/2021-02-04/
LOCATION:IL\, United States
CATEGORIES:Cultural Festivals and Fairs,Food and Drink,Workshops and Classes
GEO:41.8781136;-87.6297982
END:VEVENT
END:VCALENDAR