BEGIN:VCALENDAR
VERSION:2.0
PRODID:-//Chicago Cultural Alliance - ECPv6.15.20//NONSGML v1.0//EN
CALSCALE:GREGORIAN
METHOD:PUBLISH
X-WR-CALNAME:Chicago Cultural Alliance
X-ORIGINAL-URL:https://www.chicagoculturalalliance.org
X-WR-CALDESC:Events for Chicago Cultural Alliance
REFRESH-INTERVAL;VALUE=DURATION:PT1H
X-Robots-Tag:noindex
X-PUBLISHED-TTL:PT1H
BEGIN:VTIMEZONE
TZID:America/Chicago
BEGIN:DAYLIGHT
TZOFFSETFROM:-0600
TZOFFSETTO:-0500
TZNAME:CDT
DTSTART:20230312T080000
END:DAYLIGHT
BEGIN:STANDARD
TZOFFSETFROM:-0500
TZOFFSETTO:-0600
TZNAME:CST
DTSTART:20231105T070000
END:STANDARD
BEGIN:DAYLIGHT
TZOFFSETFROM:-0600
TZOFFSETTO:-0500
TZNAME:CDT
DTSTART:20240310T080000
END:DAYLIGHT
BEGIN:STANDARD
TZOFFSETFROM:-0500
TZOFFSETTO:-0600
TZNAME:CST
DTSTART:20241103T070000
END:STANDARD
BEGIN:DAYLIGHT
TZOFFSETFROM:-0600
TZOFFSETTO:-0500
TZNAME:CDT
DTSTART:20250309T080000
END:DAYLIGHT
BEGIN:STANDARD
TZOFFSETFROM:-0500
TZOFFSETTO:-0600
TZNAME:CST
DTSTART:20251102T070000
END:STANDARD
END:VTIMEZONE
BEGIN:VEVENT
DTSTART;TZID=America/Chicago:20240607T180000
DTEND;TZID=America/Chicago:20240607T220000
DTSTAMP:20260424T092152
CREATED:20240301T182405Z
LAST-MODIFIED:20240301T182405Z
UID:10006150-1717783200-1717797600@www.chicagoculturalalliance.org
SUMMARY:2024 MODU GALA
DESCRIPTION:MODU (모두) means “all” in Korean\, and we are proud to celebrate all that our community has accomplished together with all of our HANA friends and family. \nHANA continues to build the power of Korean\, Asian American\, and multiethnic immigrant communities in Chicagoland through social services\, education\, culture\, and community organizing to advance human rights — including a pathway to citizenship for all 11 million undocumented immigrants and adoptees. Your support is vital to these crucial efforts! \nEach gala ticket purchase includes admission to the event\, cocktail hour\, dinner\, and a gala program filled with celebration of our beloved community!
URL:https://www.chicagoculturalalliance.org/event/2024-modu-gala/
LOCATION:IL
CATEGORIES:Formal and Black Tie Events
ATTACH;FMTTYPE=image/jpeg:https://www.chicagoculturalalliance.org/wp-content/uploads/2024/03/modu-gala.jpg
END:VEVENT
BEGIN:VEVENT
DTSTART;TZID=America/Chicago:20240608T173000
DTEND;TZID=America/Chicago:20240608T210000
DTSTAMP:20260424T092152
CREATED:20240505T225542Z
LAST-MODIFIED:20240505T234355Z
UID:10006382-1717867800-1717880400@www.chicagoculturalalliance.org
SUMMARY:Heritage Museum of Asian Art 10th Anniversary Celebration Gala
DESCRIPTION:Greetings\, \nThe Heritage Museum of Asian Art will be 10 years old. It’s hard to believe that we have reached this milestone. The Board of Directors would like to thank our donors on every level for their support\, monetary donations and service. We are grateful for all your contributions\, and look forward to your continued support. In order to continue building on our success\, we are starting an endowment to secure our future. Today\, an anonymous donor has stepped up who will match each dollar of your financial support up to $500\,000. Let’s show our anonymous benefactor that we can do it. Bring your check book! \n善長仁翁： \n芝加哥亞洲傳統藝術博物館將迎來十周年。難以置信我們已經達到這個重要的里程碑。董事會希望對各層面的捐助者致以誠摯的感謝，感謝他們的支持、金錢捐贈和服務。對於您的所有貢獻，我們心懷感激，並期待著您的持續支持。為了繼續在成功的基礎上發展，我們正在建立一個基金，以確保我們的未來。今天，一位匿名捐助者站了出來，將匹配您的每一筆財政支持，最高可達50萬美元。讓我們向這位匿名恩人展示我們的能力。請攜帶支票簿!
URL:https://www.chicagoculturalalliance.org/event/heritage-museum-of-asian-art-10th-anniversary-celebration/
LOCATION:Heritage Museum of Asian Art\, 3500 S Morgan St\, Chicago\, IL\, 60609\, United States
CATEGORIES:Formal and Black Tie Events
ATTACH;FMTTYPE=image/png:https://www.chicagoculturalalliance.org/wp-content/uploads/2024/05/Screenshot-2024-05-05-at-5.55.13-PM.png
ORGANIZER;CN="Heritage Museum of Asian Art":MAILTO:info@heritageasianart.org
GEO:41.8304864;-87.6513977
X-APPLE-STRUCTURED-LOCATION;VALUE=URI;X-ADDRESS=Heritage Museum of Asian Art 3500 S Morgan St Chicago IL 60609 United States;X-APPLE-RADIUS=500;X-TITLE=3500 S Morgan St:geo:-87.6513977,41.8304864
END:VEVENT
BEGIN:VEVENT
DTSTART;TZID=America/Chicago:20240614T000000
DTEND;TZID=America/Chicago:20240614T000000
DTSTAMP:20260424T092152
CREATED:20240318T141657Z
LAST-MODIFIED:20240318T141657Z
UID:10006233-1718323200-1718323200@www.chicagoculturalalliance.org
SUMMARY:44th Annual Summer Gala - Polish Museum of America
DESCRIPTION:
URL:https://www.chicagoculturalalliance.org/event/44th-annual-summer-gala-polish-museum-of-america/
LOCATION:IL
CATEGORIES:Formal and Black Tie Events
ATTACH;FMTTYPE=image/jpeg:https://www.chicagoculturalalliance.org/wp-content/uploads/2024/03/44th-Annual-Summer-Gala-Polish-Museum-of-America.jpeg
END:VEVENT
BEGIN:VEVENT
DTSTART;TZID=America/Chicago:20240615T080000
DTEND;TZID=America/Chicago:20240615T170000
DTSTAMP:20260424T092152
CREATED:20240318T213508Z
LAST-MODIFIED:20240318T213608Z
UID:10006238-1718438400-1718470800@www.chicagoculturalalliance.org
SUMMARY:SAI's SECOND ANNUAL FUNDRAISER
DESCRIPTION:Mark your calendars! Save the date! South Asia Institute is hosting its Second Annual Fundraiser on Saturday\, June 15\, 2024 ! \nThe highlight of the evening will be a live performance by Popular South Asian American artist who revolutionized Bhangra\, DJ Rekha\, along with other artists\, amazing food and drinks\, an art auction and much\, much more! \nWe are also thrilled to share that Rupee Beer will be sponsoring the SAI fundraiser event! Come enjoy this renowned beer founded by two South Asian American brothers who are taking back the narrative of India Pale Ale! \nFollow us for more details about this upcoming event!
URL:https://www.chicagoculturalalliance.org/event/sais-second-annual-fundraiser-2/
LOCATION:South Asia Institute\, 1925 South Michigan Avenue\, Chicago\, IL\, 60616\, United States
CATEGORIES:Formal and Black Tie Events
ATTACH;FMTTYPE=image/png:https://www.chicagoculturalalliance.org/wp-content/uploads/2024/03/unnamed-14.png
GEO:41.8558642;-87.6234583
X-APPLE-STRUCTURED-LOCATION;VALUE=URI;X-ADDRESS=South Asia Institute 1925 South Michigan Avenue Chicago IL 60616 United States;X-APPLE-RADIUS=500;X-TITLE=1925 South Michigan Avenue:geo:-87.6234583,41.8558642
END:VEVENT
BEGIN:VEVENT
DTSTART;VALUE=DATE:20240622
DTEND;VALUE=DATE:20240623
DTSTAMP:20260424T092152
CREATED:20240322T034524Z
LAST-MODIFIED:20240325T163530Z
UID:10006253-1719014400-1719100799@www.chicagoculturalalliance.org
SUMMARY:Ukrainian Institute of Modern Art Annual Benefit Gala
DESCRIPTION:We’re thrilled to announce our upcoming Benefit Gala! Save the date and join us for an unforgettable evening filled with elegance\, entertainment\, and meaningful connections. Be sure to mark your calendar and stay tuned for more details\, including special guests\, performances\, and ways you can support our cause. It’s an event you won’t want to miss\, so keep an eye out for updates!
URL:https://www.chicagoculturalalliance.org/event/ukrainian-institute-of-modern-art-annual-benefit-gala/
LOCATION:Ukrainian Institute of Modern Art\, 2320 W Chicago Ave\, Chicago\, IL\, 60622\, United States
CATEGORIES:Formal and Black Tie Events
ATTACH;FMTTYPE=image/png:https://www.chicagoculturalalliance.org/wp-content/uploads/2024/03/uima-gala.png
GEO:41.8959672;-87.6850398
X-APPLE-STRUCTURED-LOCATION;VALUE=URI;X-ADDRESS=Ukrainian Institute of Modern Art 2320 W Chicago Ave Chicago IL 60622 United States;X-APPLE-RADIUS=500;X-TITLE=2320 W Chicago Ave:geo:-87.6850398,41.8959672
END:VEVENT
END:VCALENDAR