BEGIN:VCALENDAR
VERSION:2.0
PRODID:-//Chicago Cultural Alliance - ECPv6.15.20//NONSGML v1.0//EN
CALSCALE:GREGORIAN
METHOD:PUBLISH
X-WR-CALNAME:Chicago Cultural Alliance
X-ORIGINAL-URL:https://www.chicagoculturalalliance.org
X-WR-CALDESC:Events for Chicago Cultural Alliance
REFRESH-INTERVAL;VALUE=DURATION:PT1H
X-Robots-Tag:noindex
X-PUBLISHED-TTL:PT1H
BEGIN:VTIMEZONE
TZID:America/Chicago
BEGIN:DAYLIGHT
TZOFFSETFROM:-0600
TZOFFSETTO:-0500
TZNAME:CDT
DTSTART:20230312T080000
END:DAYLIGHT
BEGIN:STANDARD
TZOFFSETFROM:-0500
TZOFFSETTO:-0600
TZNAME:CST
DTSTART:20231105T070000
END:STANDARD
BEGIN:DAYLIGHT
TZOFFSETFROM:-0600
TZOFFSETTO:-0500
TZNAME:CDT
DTSTART:20240310T080000
END:DAYLIGHT
BEGIN:STANDARD
TZOFFSETFROM:-0500
TZOFFSETTO:-0600
TZNAME:CST
DTSTART:20241103T070000
END:STANDARD
BEGIN:DAYLIGHT
TZOFFSETFROM:-0600
TZOFFSETTO:-0500
TZNAME:CDT
DTSTART:20250309T080000
END:DAYLIGHT
BEGIN:STANDARD
TZOFFSETFROM:-0500
TZOFFSETTO:-0600
TZNAME:CST
DTSTART:20251102T070000
END:STANDARD
END:VTIMEZONE
BEGIN:VEVENT
DTSTART;VALUE=DATE:20240622
DTEND;VALUE=DATE:20240623
DTSTAMP:20260424T153839
CREATED:20240322T034524Z
LAST-MODIFIED:20240325T163530Z
UID:10006253-1719014400-1719100799@www.chicagoculturalalliance.org
SUMMARY:Ukrainian Institute of Modern Art Annual Benefit Gala
DESCRIPTION:We’re thrilled to announce our upcoming Benefit Gala! Save the date and join us for an unforgettable evening filled with elegance\, entertainment\, and meaningful connections. Be sure to mark your calendar and stay tuned for more details\, including special guests\, performances\, and ways you can support our cause. It’s an event you won’t want to miss\, so keep an eye out for updates!
URL:https://www.chicagoculturalalliance.org/event/ukrainian-institute-of-modern-art-annual-benefit-gala/
LOCATION:Ukrainian Institute of Modern Art\, 2320 W Chicago Ave\, Chicago\, IL\, 60622\, United States
CATEGORIES:Formal and Black Tie Events
ATTACH;FMTTYPE=image/png:https://www.chicagoculturalalliance.org/wp-content/uploads/2024/03/uima-gala.png
GEO:41.8959672;-87.6850398
X-APPLE-STRUCTURED-LOCATION;VALUE=URI;X-ADDRESS=Ukrainian Institute of Modern Art 2320 W Chicago Ave Chicago IL 60622 United States;X-APPLE-RADIUS=500;X-TITLE=2320 W Chicago Ave:geo:-87.6850398,41.8959672
END:VEVENT
END:VCALENDAR