BEGIN:VCALENDAR
VERSION:2.0
PRODID:-//Chicago Cultural Alliance - ECPv6.15.20//NONSGML v1.0//EN
CALSCALE:GREGORIAN
METHOD:PUBLISH
X-WR-CALNAME:Chicago Cultural Alliance
X-ORIGINAL-URL:https://www.chicagoculturalalliance.org
X-WR-CALDESC:Events for Chicago Cultural Alliance
REFRESH-INTERVAL;VALUE=DURATION:PT1H
X-Robots-Tag:noindex
X-PUBLISHED-TTL:PT1H
BEGIN:VTIMEZONE
TZID:America/Chicago
BEGIN:DAYLIGHT
TZOFFSETFROM:-0600
TZOFFSETTO:-0500
TZNAME:CDT
DTSTART:20210314T080000
END:DAYLIGHT
BEGIN:STANDARD
TZOFFSETFROM:-0500
TZOFFSETTO:-0600
TZNAME:CST
DTSTART:20211107T070000
END:STANDARD
BEGIN:DAYLIGHT
TZOFFSETFROM:-0600
TZOFFSETTO:-0500
TZNAME:CDT
DTSTART:20220313T080000
END:DAYLIGHT
BEGIN:STANDARD
TZOFFSETFROM:-0500
TZOFFSETTO:-0600
TZNAME:CST
DTSTART:20221106T070000
END:STANDARD
BEGIN:DAYLIGHT
TZOFFSETFROM:-0600
TZOFFSETTO:-0500
TZNAME:CDT
DTSTART:20230312T080000
END:DAYLIGHT
BEGIN:STANDARD
TZOFFSETFROM:-0500
TZOFFSETTO:-0600
TZNAME:CST
DTSTART:20231105T070000
END:STANDARD
END:VTIMEZONE
BEGIN:VEVENT
DTSTART;TZID=America/Chicago:20220205T060000
DTEND;TZID=America/Chicago:20220205T080000
DTSTAMP:20260425T180759
CREATED:20220120T000816Z
LAST-MODIFIED:20220120T000816Z
UID:10001284-1644040800-1644048000@www.chicagoculturalalliance.org
SUMMARY:Exhibition Opening: "Naturally"
DESCRIPTION:The Ukrainian Institute of Modern Art is delighted to announce Naturally opening on February 5th\, 2022 featuring works by Judith Roston Freilich and Lilach Schrag who have come together for their first joint exhibition.\nFascinated by forces of nature and mind\, Judith Roston Freilich and Lilach Schrag examine\, each in her own way\, essence\, energy\, and evolution. Judith Roston Freilich’s works on paper and textiles were inspired by her aspirations to integrate the arts into everyday life. Throughout her life\, Roston Freilich’s home and works have always centered around the cycles of life and the natural offerings of every season. The vital consequences of climate change and the COVID-19 virus have impacted the artist’s work\, and aspires that her artistic creation will act as a springboard for awareness towards scientific ways that aim to heal our planet. With images and materials drawn from both her natural and domestic environment\, Lilach Schrag uses organic found objects\, fabric\, paper\, enamel\, and acrylic paints\, charcoal\, graphite\, threads\, pins\, and staples in making large-scale energy-packed paintings with epic figures and creatures transforming into each other and into vegetation. Layered\, camouflaged\, and not immediately identified\, they convey a sense of awe\, urgency\, determination\, and vulnerability. The natural materials rich with texture\, meaning\, and previous life sends Schrag on a fantastic flight\, and at the same time keeping her grounded in this physical world.\nArtist Biographies:\nJudith Roston Freilich earned a BFA and merit-based scholarship award from Washington University in St. Louis. While working at Landfall Press as a printing assistant and curator\, she earned a graduate degree in printmaking with Misch Kohn from the Illinois Institute of Technology. She has exhibited at the Art Institute of Chicago. Her work has been selected for the Rockford Midwestern Biennial at the Rockford Art Museum\, the Evanston and Vicinity Biennial at the Evanston Art Center\, the Bradley International Print and Drawing Show. Her work is in multiple permanent collections including the Library of Congress.\nLilach Schrag graduated from Hamidrasha Art School in Israel\, and holds a Master of Arts from Spertus Institute\, Chicago. Her work has been featured in publications such as the Chicago Tribune\, and The Jerusalem Post\, and she has exhibited in solo and group shows in the United States and in Israel including: Spertus Institute\, Governors State University\, 33 Contemporary Gallery in Chicago as well as the Janco Dada Museum and the Jerusalem Biennale in Israel.
URL:https://www.chicagoculturalalliance.org/event/exhibition-opening-naturally/
LOCATION:Ukrainian Institute of Modern Art\, 2320 W Chicago Ave\, Chicago\, IL\, 60622\, United States
CATEGORIES:Exhibitions and Gallery Events,Member Events
ATTACH;FMTTYPE=image/jpeg:https://www.chicagoculturalalliance.org/wp-content/uploads/2022/01/naturally-uima.jpeg
GEO:41.8959672;-87.6850398
X-APPLE-STRUCTURED-LOCATION;VALUE=URI;X-ADDRESS=Ukrainian Institute of Modern Art 2320 W Chicago Ave Chicago IL 60622 United States;X-APPLE-RADIUS=500;X-TITLE=2320 W Chicago Ave:geo:-87.6850398,41.8959672
END:VEVENT
BEGIN:VEVENT
DTSTART;TZID=America/Chicago:20220207T133000
DTEND;TZID=America/Chicago:20220207T153000
DTSTAMP:20260425T180759
CREATED:20220107T031047Z
LAST-MODIFIED:20220120T014418Z
UID:10001269-1644240600-1644247800@www.chicagoculturalalliance.org
SUMMARY:First Blacks Chicago Concert
DESCRIPTION:  \nMon\, Feb 7\, 2022\, 7:30 PM CST \nUsing music as a lens to celebrate Black History\, Crossing Borders Music Collective presents works honoring the legacies of four black Chicago trailblazers: Chicago’s Haitian founder\, Jean Baptiste Pointe du Sable; Chicago’s first black mayor\, Harold Washington; the first black president of the United States\, Barack Obama; and Chicago’s first black female mayor\, Lori Lightfoot. Performing music that was commissioned especially for this program\, the musicians will use both live music and visual art to tell the stories of these important figures. \nAttend this concert in-person or watch it online! Simply choose your preference when purchasing your ticket. \n$10-$20\nPURCHASE TICKETS HERE: https://www.eventbrite.com/e/first-blacks-chicago-tickets-168277842557
URL:https://www.chicagoculturalalliance.org/event/first-blacks-chicago-concert/
LOCATION:First Congregational Church of Dundee\, 900 South 8th Street\, West Dundee\, IL\, 60118\, United States
CATEGORIES:Member Events,Music, Film, and Theater
ATTACH;FMTTYPE=image/jpeg:https://www.chicagoculturalalliance.org/wp-content/uploads/2022/01/first-blacks-chicago-concert.jpeg
GEO:42.0882879;-88.2904369
X-APPLE-STRUCTURED-LOCATION;VALUE=URI;X-ADDRESS=First Congregational Church of Dundee 900 South 8th Street West Dundee IL 60118 United States;X-APPLE-RADIUS=500;X-TITLE=900 South 8th Street:geo:-88.2904369,42.0882879
END:VEVENT
BEGIN:VEVENT
DTSTART;TZID=America/Chicago:20220211T130000
DTEND;TZID=America/Chicago:20220211T160000
DTSTAMP:20260425T180759
CREATED:20220124T225614Z
LAST-MODIFIED:20220124T225614Z
UID:10001291-1644584400-1644595200@www.chicagoculturalalliance.org
SUMMARY:Feierabend
DESCRIPTION:Join us for our first Feierabend of the new year on Friday\, February 11th at 7pm. Feierabend is the German concept of being done with work for the day – basically\, time to relax with friends! \nWe will have a free french fry bar available while supplies last. Drinks will be sold on location. \nThe theme of this Feierabend is… New Year! Jumpstart the year 2022 at the DANK Haus! \nThe event will take place in our 6th floor Skyline Lounge\, where there is a lovely view of the Chicago skyline!
URL:https://www.chicagoculturalalliance.org/event/feierabend/
LOCATION:DANK Haus German American Cultural Center\, 4740 N. Western Ave.\, Chicago\, IL\, 60625\, United States
CATEGORIES:Cultural Festivals and Fairs,Food and Drink,Member Events,Talks and Gatherings
ATTACH;FMTTYPE=image/png:https://www.chicagoculturalalliance.org/wp-content/uploads/2022/01/Copy-of-Feierabend.png
GEO:41.9680013;-87.6890642
X-APPLE-STRUCTURED-LOCATION;VALUE=URI;X-ADDRESS=DANK Haus German American Cultural Center 4740 N. Western Ave. Chicago IL 60625 United States;X-APPLE-RADIUS=500;X-TITLE=4740 N. Western Ave.:geo:-87.6890642,41.9680013
END:VEVENT
BEGIN:VEVENT
DTSTART;TZID=America/Chicago:20220212T080000
DTEND;TZID=America/Chicago:20220212T100000
DTSTAMP:20260425T180759
CREATED:20220203T220411Z
LAST-MODIFIED:20220203T220411Z
UID:10001299-1644652800-1644660000@www.chicagoculturalalliance.org
SUMMARY:Balzekas Museum Film Screening: "Second Hand"
DESCRIPTION:See “Second Hand” (2019) an award-winning documentary on migrants caught up in UK’s used clothing trade by filmmaker Artūras Jevdokimovas \n“Second Hand”\, is a tragicomic tale of the long\, meandering journey of donated second hand clothing: from the doorsteps of English manor houses to smalltown Lithuanian markets and charity shops.\n“Second Hand” (2019) exposes the gritty underside of Europe’s used-clothing trade and the lives of the people caught up in its intricate and far-reaching web. The film exposes how clothes donated to charity in the UK become windfall for profiteers\, who capture and move the goods to second-hand markets in Lithuania and other European countries.\nPart documentary comedy\, part detective story\, “Second Hand” tells the story of four Lithuanian migrants–who come to the UK in search of opportunity but who fall prey to human traffikers and organized criminals. These ringleaders appear to care less for the people they exploit than for the used and discarded clothing they peddle. Despite the clash of cultures and tragicomic incidents\, the four characters manage to maintain hope\, humor\, and dignity in a cruel and inhumane environment thanks to their own grit and to filmmaker/director Artūras Jevdokimovas’s sensitive portrayal . \nMEET FILMMAKER ARTŪRAS JEVDOKIMOVAS\nArtūras Jevdokimovas\, an award-winning Lithuanian filmmaker\, will be on hand for the screening and Q& A afterwards. This program is in English. \nRun Time (1 hr. 26 min.) In English and Lithuanian\, with English subtitles\nDirector: Arturas Jevdokimovas\nWriters: Arturas Jevdokimovas\, Arunas Matelis\, Ramune Rakauskaite\nProducers: Jeremiah Cullinane\, Algimante Matelis\, Arunas Matelis\, Mark Olexa\nLine producer:Julija Matulyte\nCinematography: Eitvydas Doskus\, Vytautas Rimkevicius\nProduction Companies: Dok Mobile\, Planet Korda Pictures\, Studio Nominum\nMature subject matter may not be suitable for all audiences. \nREFRESHMENTS PROVIDED: Masks and Proof of Vaccination Required \nTHIS EVENT IS FREE TO CURRENTLY ENROLLED FILM STUDENTS! \n 
URL:https://www.chicagoculturalalliance.org/event/balzekas-museum-film-screening-second-hand/
LOCATION:Balzekas Museum of Lithuanian Culture\, 6500 South Pulaski Road\, Chicago\, IL\, 60629\, United States
CATEGORIES:Member Events,Music, Film, and Theater
ATTACH;FMTTYPE=image/jpeg:https://www.chicagoculturalalliance.org/wp-content/uploads/2022/02/balzekas-second-hand.jpeg
GEO:41.7746508;-87.7229183
X-APPLE-STRUCTURED-LOCATION;VALUE=URI;X-ADDRESS=Balzekas Museum of Lithuanian Culture 6500 South Pulaski Road Chicago IL 60629 United States;X-APPLE-RADIUS=500;X-TITLE=6500 South Pulaski Road:geo:-87.7229183,41.7746508
END:VEVENT
BEGIN:VEVENT
DTSTART;TZID=America/Chicago:20220213T043000
DTEND;TZID=America/Chicago:20220213T053000
DTSTAMP:20260425T180759
CREATED:20220126T044602Z
LAST-MODIFIED:20220126T044759Z
UID:10001293-1644726600-1644730200@www.chicagoculturalalliance.org
SUMMARY:Beyond the India-America Dichotomy: Global Dynamism in Contemporary Art
DESCRIPTION:Engage with our Panel of Artists\, Curators\, Writers and Creators in a 𝐯𝐢𝐫𝐭𝐮𝐚𝐥 immersive discourse on zoom. Listen to the first hand narratives from the diasporic creators of contemporary art. \nDate: 𝐒𝐮𝐧𝐝𝐚𝐲\, 𝐅𝐞𝐛𝐫𝐮𝐚𝐫𝐲 𝟏𝟑\, 𝟐𝟎𝟐𝟐\nTime: 𝟏𝟎:𝟑𝟎𝐚𝐦 – 𝟏𝟏:𝟑𝟎𝐚𝐦 𝐂𝐓\n(register to receive free zoom link by email)\nFor enquiries: info@niam.org \n𝐍𝐞𝐡𝐚 𝐕𝐞𝐝𝐩𝐚𝐭𝐡𝐚𝐤 employs a plucking\, a rigorous self-invented process to create works that aim to broaden the dialog and understanding of issues related to identity\, spirituality\, social and gender politics. \n𝐊𝐮𝐬𝐡𝐚𝐥𝐚 𝐕𝐨𝐫𝐚 is a dreamer\, community organizer and an interdisciplinary artist working in sculpture and drawing. Her practice is deeply influenced by the ecological and social landscape of Panchgani\, India\, where she grew up. \n𝐒𝐡𝐚𝐮𝐫𝐲𝐚 𝐊𝐮𝐦𝐚𝐫 is the curator for E/Merge: Art of the Indian Diaspora. He currently lives and works in Chicago\, IL. Kumar is an Associate Professor at the School of the Art Institute of Chicago and the Chair of the Department of Printmedia. \n𝐊𝐮𝐦𝐤𝐮𝐦 𝐒𝐚𝐧𝐠𝐚𝐫𝐢 the panel moderator\, is the William F. Vilas Research Professor of English and the Humanities at the University of Wisconsin-Milwaukee.\nDr. Sangari has published extensively on British\, American and Indian literature\, the gendering of South Asian medieval devotional traditions\, nationalist figures such as M.K.Gandhi\, and several contemporary gender issues and communal violence. She will be the moderator for the panel.This is part of our series of programs for E/Merge: Art of the Indian Diaspora. \nIn accordance with pandemic related public health and safety advisory\, we have transitioned our program to a virtual platform.\nDue to limited availability please register early! \nVisit www.niam.org for registrations\, COVID safety protocols and other details
URL:https://www.chicagoculturalalliance.org/event/beyond-the-india-america/
LOCATION:Online Event
CATEGORIES:Exhibitions and Gallery Events,Member Events,Online Events,Talks and Gatherings
ATTACH;FMTTYPE=image/jpeg:https://www.chicagoculturalalliance.org/wp-content/uploads/2022/01/beyond-india.jpeg
END:VEVENT
BEGIN:VEVENT
DTSTART;TZID=America/Chicago:20220214T123000
DTEND;TZID=America/Chicago:20220214T153000
DTSTAMP:20260425T180759
CREATED:20220113T001246Z
LAST-MODIFIED:20220122T015610Z
UID:10001274-1644841800-1644852600@www.chicagoculturalalliance.org
SUMMARY:Desde Mi Barrio Concert Series: Milly Santiago
DESCRIPTION:  \nPuerto Rican Arts Alliance’s Desde Mi Barrio Concert Series continues with a February 14 performance by Milly Santiago. \nPurchase tickets at: https://praachicago.networkforgood.com/events/38148-milly-santiago-valentine-s-day-concert
URL:https://www.chicagoculturalalliance.org/event/desde-mi-barrio-concert-series-milly-santiago/
LOCATION:Latin Music Project Center\, 2958 north Milwaukee ave\, Chicago\, IL\, United States
CATEGORIES:Member Events,Music, Film, and Theater
ATTACH;FMTTYPE=image/jpeg:https://www.chicagoculturalalliance.org/wp-content/uploads/2022/01/milly-santiago-0214.jpeg
GEO:41.9349332;-87.7174925
X-APPLE-STRUCTURED-LOCATION;VALUE=URI;X-ADDRESS=Latin Music Project Center 2958 north Milwaukee ave Chicago IL United States;X-APPLE-RADIUS=500;X-TITLE=2958 north Milwaukee ave:geo:-87.7174925,41.9349332
END:VEVENT
BEGIN:VEVENT
DTSTART;TZID=America/Chicago:20220215T123000
DTEND;TZID=America/Chicago:20220215T133000
DTSTAMP:20260425T180759
CREATED:20220122T020216Z
LAST-MODIFIED:20220122T020216Z
UID:10001287-1644928200-1644931800@www.chicagoculturalalliance.org
SUMMARY:Virtual Exhibit Tour: "Rise Up: Stonewall and the LGBTQ Rights Movement"
DESCRIPTION:Pride came with a cost. Explore Rise Up: Stonewall and the LGBTQ Rights Movement through our virtual exhibition tour and discover how the Stonewall Uprising sparked a national movement for LGBTQ+ rights across the United States and its connection to Chicago. \nThe exhibition blends historic images and artifacts from the movement to share the voices and tell the stories of those who took a stand for LGBTQ+ rights\, including posters from Harvey Milk’s campaign for public office in San Francisco\, a rainbow flag in its original colors signed by creator Gilbert Baker\, and early LGBTQ+ magazine publications. \nOur virtual tour includes a video presentation narrated by Chief Curator of Collections and Exhibitions\, Arielle Weininger\, and a live Q&A moderated by Museum personnel. \nNon-Members: $10.00 \nMembers: Free \nReservations are required. Members must sign in to take advantage of their member discount. \nIf you are under 18 years old and would like to attend a virtual Rise Up tour at no cost\, please email education@ilhmec.org
URL:https://www.chicagoculturalalliance.org/event/virtual-exhibit-tour-rise-up-stonewall-and-the-lgbtq-rights-movement/
LOCATION:Online Event
CATEGORIES:Exhibitions and Gallery Events,Member Events,Online Events
ATTACH;FMTTYPE=image/png:https://www.chicagoculturalalliance.org/wp-content/uploads/2022/01/rise-up.png
END:VEVENT
BEGIN:VEVENT
DTSTART;TZID=America/Chicago:20220219T070000
DTEND;TZID=America/Chicago:20220219T090000
DTSTAMP:20260425T180759
CREATED:20220208T211304Z
LAST-MODIFIED:20220208T211304Z
UID:10001312-1645254000-1645261200@www.chicagoculturalalliance.org
SUMMARY:Bronzeville Children's Museum: Black History Month Celebration
DESCRIPTION:“Communications from Past to Present” \nSaturday\, February 19\, 1pm-3pm \nTickets: $5 (members free) \nCrafts\, Balloons\, Music\, Storytelling
URL:https://www.chicagoculturalalliance.org/event/bronzeville-childrens-museum-black-history-month-celebration/
LOCATION:Bronzeville Children’s Museum\, 9301 S Stony Island Ave\, Chicago\, IL\, 60617\, United States
CATEGORIES:Cultural Festivals and Fairs,Member Events
ATTACH;FMTTYPE=image/jpeg:https://www.chicagoculturalalliance.org/wp-content/uploads/2022/02/bcm-black-history-month.jpeg
GEO:41.7257517;-87.5844813
X-APPLE-STRUCTURED-LOCATION;VALUE=URI;X-ADDRESS=Bronzeville Children’s Museum 9301 S Stony Island Ave Chicago IL 60617 United States;X-APPLE-RADIUS=500;X-TITLE=9301 S Stony Island Ave:geo:-87.5844813,41.7257517
END:VEVENT
BEGIN:VEVENT
DTSTART;TZID=America/Chicago:20220220T080000
DTEND;TZID=America/Chicago:20220220T093000
DTSTAMP:20260425T180759
CREATED:20220126T044304Z
LAST-MODIFIED:20220126T044304Z
UID:10001292-1645344000-1645349400@www.chicagoculturalalliance.org
SUMMARY:Day of Remembrance 2022: The TEAACH Act
DESCRIPTION:The TEAACH Act: What it means for Illinois\, educators\, and the Japanese American community\nSunday\, February 20th | 2:00pm-3:30pm CST \nChicago History Museum\, 1601 N. Clark Street \nFREE\, PRE-REGISTRATION REQUIRED – Click here to register \n\n\nSigned by President Franklin D. Roosevelt on February 19\, 1942\, Executive Order 9066 led to the incarceration of 120\,000 Japanese Americans during WWII.  Every year\, the Japanese American community in Chicago comes together to commemorate EO9066 as a reminder of the fragility of civil liberties in times of crisis and the importance of remaining vigilant in protecting the rights and freedoms of all. \nDay of Remembrance 2022 features a variety of speakers celebrating the passage of the Teaching Equitable Asian American Community History (TEAACH) Act.  Signed into law on July 9\, 2021\, the TEAACH Act makes Illinois the first state to mandate that Asian American history be taught in public schools.  Join us to learn why the TEAACH Act matters\, how the task of implementation is being addressed\, and how the Japanese American community is contributing to the effort.  The program will feature a showcase of classroom-ready resources for teaching about EO9066 and incarceration through a Chicago lens. \nChicago-based Ho Etsu Taiko will take the stage to perform a new work composed especially for Day of Remembrance 2022.  Ho Etsu Taiko blends the deep-rooted culture of Japanese American drumming with influences that inspire and celebrate the diversity of their performing members. \nMasks and vaccinations required.  There will be no refreshments served at this year’s event. \n  \nTHIS EVENT IS SPONSORED BY THE CHICAGO JAPANESE AMERICAN COUNCIL\, CHICAGO JAPANESE AMERICAN HISTORICAL SOCIETY\, JAPANESE AMERICAN CITIZENS LEAGUE – CHICAGO CHAPTER\, JAPANESE AMERICAN SERVICE COMMITTEE\, AND JAPANESE MUTUAL AID SOCIETY OF CHICAGO
URL:https://www.chicagoculturalalliance.org/event/day-of-remembrance-2022-the-teaach-act/
LOCATION:Chicago History Museum\, 1601 N. Clark St.\, Chicago\, IL\, 60614\, United States
CATEGORIES:Member Events,Talks and Gatherings
ATTACH;FMTTYPE=image/jpeg:https://www.chicagoculturalalliance.org/wp-content/uploads/2022/01/day-of-remembrance.jpeg
GEO:41.9118171;-87.6316716
X-APPLE-STRUCTURED-LOCATION;VALUE=URI;X-ADDRESS=Chicago History Museum 1601 N. Clark St. Chicago IL 60614 United States;X-APPLE-RADIUS=500;X-TITLE=1601 N. Clark St.:geo:-87.6316716,41.9118171
END:VEVENT
BEGIN:VEVENT
DTSTART;TZID=America/Chicago:20220220T090000
DTEND;TZID=America/Chicago:20220220T110000
DTSTAMP:20260425T180759
CREATED:20220215T032011Z
LAST-MODIFIED:20220215T032011Z
UID:10001326-1645347600-1645354800@www.chicagoculturalalliance.org
SUMMARY:Book Talk: Operation Payback
DESCRIPTION:What We Didn’t Know Then\, What We Know Now\nProf. Luciuk is a renowned scholar in the field of Ukrainian studies specializing in the history of the Ukrainian diaspora in Canada and the United States. He is a full professor of political geography at the Royal Military College of Canada.\n\nProf. Luciuk will discuss a book\, titled “Operation Payback: Soviet Disinformation and Alleged Nazi War Criminals in North America.” The book is a compilation of approximately 40 commentaries written by Prof. Luciuk in the past four decades\, along with documentation related to the topic of how Jewish and Ukrainian communities in the United States and Canada were manipulated with disinformation and set against each other since the 1960s in an overt plan to set both communities against each other.\n\nThe key document of the book is the translation of the KGB memorandum written in October 1985 that outlines Operation Payback (Retribution)\, which confirms that the KGB had several directorates created to advance Jewish demands that Nazi war criminals be brought to justice by alleging that many of these war collaborators were living among Ukrainian emigres. These allegations were repeated so often that they were presumed to be true.
URL:https://www.chicagoculturalalliance.org/event/book-talk-operation-payback/
LOCATION:Ukrainian Institute of Modern Art\, 2320 W Chicago Ave\, Chicago\, IL\, 60622\, United States
CATEGORIES:Member Events,Talks and Gatherings
ATTACH;FMTTYPE=image/jpeg:https://www.chicagoculturalalliance.org/wp-content/uploads/2022/02/operation-payback.jpeg
GEO:41.8959672;-87.6850398
X-APPLE-STRUCTURED-LOCATION;VALUE=URI;X-ADDRESS=Ukrainian Institute of Modern Art 2320 W Chicago Ave Chicago IL 60622 United States;X-APPLE-RADIUS=500;X-TITLE=2320 W Chicago Ave:geo:-87.6850398,41.8959672
END:VEVENT
BEGIN:VEVENT
DTSTART;TZID=America/Chicago:20220224T120000
DTEND;TZID=America/Chicago:20220224T140000
DTSTAMP:20260425T180759
CREATED:20220215T023011Z
LAST-MODIFIED:20220215T023011Z
UID:10001322-1645704000-1645711200@www.chicagoculturalalliance.org
SUMMARY:Book Talk and Signing: Soy la vida que he vivido
DESCRIPTION:For over 37 years\, our Founder and Executive Director\, Pepe Vargas\, has been committed to bringing Chicago the best Latino cultural offerings! Now\, he shares his life story in his memoir\, Soy la vida que he vivido. Join us for a presentation and conversation (held in Spanish) between Marcela Muñoz\, Co-Artist Director and Managing Director of Aguijón Theater\, and Pepe before his book signing/sale. This is a FREE event\, with complimentary empanadas and wine; each ticket is good for two people. RSVP your spot here: bit.ly/PBPF2022! The book is now available at Amazon.\n—–\n¡Por más de 37 años\, nuestro Fundador y Director Ejecutivo\, Pepe Vargas\, se ha comprometido a llevar a Chicago las mejores ofertas culturales latinas! Ahora\, comparte la historia de su vida en su autobiografía\, Soy la vida que he vivido. Acompáñanos en una presentación y conversación (llevada a cabo en español) entre Marcela Muñoz\, Co-Artista Directora y Directora General del Teatro Aguijón\, y Pepe antes de la firma/venta de su libro. Este es un evento GRATIS\, con empanadas y vino de cortesía; cada entrada es válida para dos personas. Confirma tu lugar aquí: bit.ly/PBPF2022. El libro ya está disponible en Amazon.
URL:https://www.chicagoculturalalliance.org/event/book-talk-and-signing-soy-la-vida-que-he-vivido/
LOCATION:Instituto Cervantes\, 31 West Ohio Street\, Chicago\, IL\, 60654\, United States
CATEGORIES:Member Events,Talks and Gatherings
ATTACH;FMTTYPE=image/png:https://www.chicagoculturalalliance.org/wp-content/uploads/2022/02/pepe-book-1.png
GEO:41.8923227;-87.6291719
X-APPLE-STRUCTURED-LOCATION;VALUE=URI;X-ADDRESS=Instituto Cervantes 31 West Ohio Street Chicago IL 60654 United States;X-APPLE-RADIUS=500;X-TITLE=31 West Ohio Street:geo:-87.6291719,41.8923227
END:VEVENT
BEGIN:VEVENT
DTSTART;TZID=America/Chicago:20220227T050000
DTEND;TZID=America/Chicago:20220227T060000
DTSTAMP:20260425T180759
CREATED:20220208T011828Z
LAST-MODIFIED:20220208T011925Z
UID:10001305-1645938000-1645941600@www.chicagoculturalalliance.org
SUMMARY:Guided Tour: Swedish American Museum
DESCRIPTION:Dive into the history of Swedish immigration to Chicago with a guided tour of the Swedish American Museum’s permanent exhibit\, “The Dream of America.” Uncover the stories of real immigrants like Karl Karlsson\, who left Sweden with his family in 1893\, or Elin and Birgitta Hedman\, who made the journey in 1924. Learn about what awaited the millions who came to America via Ellis Island and what life was like in Swedish neighborhoods such as Andersonville in Chicago then and now. The tour is free with admissions\, and members are free. Reservations are recommended and can be made via email to museum@samac.org.
URL:https://www.chicagoculturalalliance.org/event/guided-tour/
LOCATION:Swedish American Museum\, 5211 N. Clark St.\, Chicago\, IL\, 60640\, United States
CATEGORIES:Member Events,Workshops and Classes
ATTACH;FMTTYPE=image/jpeg:https://www.chicagoculturalalliance.org/wp-content/uploads/2018/10/36291203_10157050110794714_4243821777467211776_o.jpg
GEO:41.9766451;-87.668015
X-APPLE-STRUCTURED-LOCATION;VALUE=URI;X-ADDRESS=Swedish American Museum 5211 N. Clark St. Chicago IL 60640 United States;X-APPLE-RADIUS=500;X-TITLE=5211 N. Clark St.:geo:-87.668015,41.9766451
END:VEVENT
BEGIN:VEVENT
DTSTART;TZID=America/Chicago:20220228T123000
DTEND;TZID=America/Chicago:20220228T133000
DTSTAMP:20260425T180759
CREATED:20220122T020454Z
LAST-MODIFIED:20220122T020454Z
UID:10001288-1646051400-1646055000@www.chicagoculturalalliance.org
SUMMARY:Virtual Exhibit Tour: "Shanghai: Safe Haven During the Holocaust"
DESCRIPTION:Join a virtual tour of the special exhibition\, Shanghai: Safe Haven During the Holocaust\, and explore the lesser-known stories of European Jewish refugees who escaped Nazism in the Shanghai ghetto. The virtual tour includes a video presentation with Chief Curator of Collections and Exhibitions\, Arielle Weininger\, and a live Q&A moderated by Museum personnel. \nArthur Rothstein\, best-known for his Dust Bowl photography during the Great Depression\, was the recipient of more than three dozen awards in photography and photojournalism throughout his career. One of his lesser-known projects included an assignment photographing the Jewish refugee community in Shanghai during World War II. These photographs – alongside artifacts donated by local Holocaust Survivors who lived in the Shanghai ghetto – are featured in the exhibition. \n  \nA link will be e-mailed to the email address you signed up with at least 24 hours before the scheduled program. \nNon-Members: $10.00 \nMembers: Free \nReservations are required. Members must sign in to take advantage of their member discount.
URL:https://www.chicagoculturalalliance.org/event/virtual-exhibit-tour-shanghai-safe-haven-during-the-holocaust/
LOCATION:Online Event
CATEGORIES:Exhibitions and Gallery Events,Member Events,Online Events
END:VEVENT
END:VCALENDAR