BEGIN:VCALENDAR
VERSION:2.0
PRODID:-//Chicago Cultural Alliance - ECPv6.15.20//NONSGML v1.0//EN
CALSCALE:GREGORIAN
METHOD:PUBLISH
X-ORIGINAL-URL:https://www.chicagoculturalalliance.org
X-WR-CALDESC:Events for Chicago Cultural Alliance
REFRESH-INTERVAL;VALUE=DURATION:PT1H
X-Robots-Tag:noindex
X-PUBLISHED-TTL:PT1H
BEGIN:VTIMEZONE
TZID:America/Chicago
BEGIN:DAYLIGHT
TZOFFSETFROM:-0600
TZOFFSETTO:-0500
TZNAME:CDT
DTSTART:20220313T080000
END:DAYLIGHT
BEGIN:STANDARD
TZOFFSETFROM:-0500
TZOFFSETTO:-0600
TZNAME:CST
DTSTART:20221106T070000
END:STANDARD
BEGIN:DAYLIGHT
TZOFFSETFROM:-0600
TZOFFSETTO:-0500
TZNAME:CDT
DTSTART:20230312T080000
END:DAYLIGHT
BEGIN:STANDARD
TZOFFSETFROM:-0500
TZOFFSETTO:-0600
TZNAME:CST
DTSTART:20231105T070000
END:STANDARD
BEGIN:DAYLIGHT
TZOFFSETFROM:-0600
TZOFFSETTO:-0500
TZNAME:CDT
DTSTART:20240310T080000
END:DAYLIGHT
BEGIN:STANDARD
TZOFFSETFROM:-0500
TZOFFSETTO:-0600
TZNAME:CST
DTSTART:20241103T070000
END:STANDARD
END:VTIMEZONE
BEGIN:VEVENT
DTSTART;TZID=America/Chicago:20230412T170000
DTEND;TZID=America/Chicago:20230412T193000
DTSTAMP:20260424T120153
CREATED:20230328T161722Z
LAST-MODIFIED:20230328T161733Z
UID:10003764-1681318800-1681327800@www.chicagoculturalalliance.org
SUMMARY:From BordersCruzadas to Borderlines
DESCRIPTION:Immigration is one of the most politicized issues in the United States\, as politicians across both aisles debate the fate of people fleeing violence\, poverty\, trafficking\, hunger\, and [political instability. ART WORKS Projects presents From BordersCruzadas to Borderlines\, a discussion between photographers Will Sands\, Oscar Castillo (BordersCruzadas project] and Cathy Edelman\, from Illinois based nonprofit CASE Art Fund [Borderlines exhibition]\, presenting two sides of a very complex issue facing the US Southern border. \nBordersCruzadas: A Collaborative Story recognizes that people impacted by displacement are often excluded from the conversations that determine their fate. Through documentary photography and content collaboratively created with four people fleeing their homeland\, BordersCruzadas explores the physical and symbolic boundaries that define the lived experience of those seeking to cross the United States’ southern border. \nBorderlines is CASE Art Fund’s ongoing photographic exhibition about the Juarez/Texas/New Mexico border. At Expo Chicago\, CASE will recreate the Sunland Park\, NM desert\, the site of the most recent cros­­sings in the El Paso region. The exhibition includes photographs of the terrain\, objects found in the desert\, photographs and videos of helicopters and border patrol searching the desert\, and a poignant interview from a local proprietor whose business is the site of most desert crossings today and in 2022. \nFrom BordersCruzadas to Borderlines will be held in person at ART WORKS Projects\, 625 N Kingsbury St\, Chicago\, on Wednesday\, April 12. \nDoors open at 5 pm to for an early preview of an exhibition in development\, BordersCruzadas. \nThe presentation and discussion will be from 6:00 – 7:15 pm.
URL:https://www.chicagoculturalalliance.org/event/from-borderscruzadas-to-borderlines/
LOCATION:625 North Kingsbury Street Chicago\, IL 60654\, 625 North Kingsbury Street\, Chicago\, IL\, 60654\, United States
CATEGORIES:Member Events
ATTACH;FMTTYPE=image/png:https://www.chicagoculturalalliance.org/wp-content/uploads/2023/03/Screen-Shot-2023-03-27-at-2.44.23-PM.png
ORGANIZER;CN="Art Works Projects":MAILTO:info@artworksprojects.org
GEO:41.8928209;-87.6407311
X-APPLE-STRUCTURED-LOCATION;VALUE=URI;X-ADDRESS=625 North Kingsbury Street Chicago IL 60654 625 North Kingsbury Street Chicago IL 60654 United States;X-APPLE-RADIUS=500;X-TITLE=625 North Kingsbury Street:geo:-87.6407311,41.8928209
END:VEVENT
BEGIN:VEVENT
DTSTART;TZID=America/Chicago:20230422T110000
DTEND;TZID=America/Chicago:20230422T120000
DTSTAMP:20260424T120153
CREATED:20230404T154505Z
LAST-MODIFIED:20230404T154505Z
UID:10003777-1682161200-1682164800@www.chicagoculturalalliance.org
SUMMARY:Pullman National Park: Discovering National Parks in Your Backyard
DESCRIPTION:In December 2022 Pullman National Monument was designated a National Historical Park. It’s only the second national park site in Illinois. Join Pullman Park Ranger\, Grace Kruse\, to learn about the Pullman “experiment” and what this designation means to Chicago and the South Side. \nThis program is FREE with advanced registration. \nLearn about the Pullman designation\, why it was chosen and what it means for Chicago. Ranger Kruse will also share information about National Parks and how you can plan to visit these important resources in our communities. \n \nGrace Kruse has been a park ranger with Pullman National Historical Park since 2019. Growing up in the “back yard” of Indiana Dunes National Park She’s always felt a sense of connection and stewardship towards National Parks. Although working for the park service since 2016\, Pullman truly feels like home. The dynamic stories (and lessons) Pullman has to tell makes this park so special.
URL:https://www.chicagoculturalalliance.org/event/pullman-national-park-discovering-national-parks-in-your-backyard/
LOCATION:Chicago Architecture Center\, 111 E Wacker Dr\, Chicago\, IL\, 60601\, United States
CATEGORIES:Member Events,Talks and Gatherings
ATTACH;FMTTYPE=image/jpeg:https://www.chicagoculturalalliance.org/wp-content/uploads/2023/04/wide_lrg_pullman-historic-site-entrance.jpg
ORGANIZER;CN="Chicago Architecture Center":MAILTO:info@architecture.org
GEO:41.8876241;-87.6236513
X-APPLE-STRUCTURED-LOCATION;VALUE=URI;X-ADDRESS=Chicago Architecture Center 111 E Wacker Dr Chicago IL 60601 United States;X-APPLE-RADIUS=500;X-TITLE=111 E Wacker Dr:geo:-87.6236513,41.8876241
END:VEVENT
BEGIN:VEVENT
DTSTART;VALUE=DATE:20230425
DTEND;VALUE=DATE:20231108
DTSTAMP:20260424T120153
CREATED:20230518T195811Z
LAST-MODIFIED:20231127T213608Z
UID:10004038-1682380800-1699401599@www.chicagoculturalalliance.org
SUMMARY:ReFramed: The Future of Cities in Wood
DESCRIPTION:This exhibition tells the story of building with mass timber and features architectural models of mass timber projects\, from public spaces to office buildings.
URL:https://www.chicagoculturalalliance.org/event/reframed-the-future-of-cities-in-wood/
LOCATION:Chicago Architecture Center\, 111 E Wacker Dr\, Chicago\, IL\, 60601\, United States
CATEGORIES:Exhibitions and Gallery Events,Member Events
ATTACH;FMTTYPE=image/png:https://www.chicagoculturalalliance.org/wp-content/uploads/2023/05/341860732_623042585949624_1454994044599878949_n.png
ORGANIZER;CN="Chicago Architecture Center":MAILTO:info@architecture.org
GEO:41.8876241;-87.6236513
X-APPLE-STRUCTURED-LOCATION;VALUE=URI;X-ADDRESS=Chicago Architecture Center 111 E Wacker Dr Chicago IL 60601 United States;X-APPLE-RADIUS=500;X-TITLE=111 E Wacker Dr:geo:-87.6236513,41.8876241
END:VEVENT
BEGIN:VEVENT
DTSTART;TZID=America/Chicago:20230425T173000
DTEND;TZID=America/Chicago:20230425T183000
DTSTAMP:20260424T120153
CREATED:20230328T180514Z
LAST-MODIFIED:20230328T180514Z
UID:10003763-1682443800-1682447400@www.chicagoculturalalliance.org
SUMMARY:Talking Timber: Can Wood Save Us?
DESCRIPTION:Join us for a special panel discussion exploring the wide world of mass timber design and construction\, coinciding with the opening of our new exhibition\, ReFramed: The Future of Cities in Wood. \nThis program is FREE with advanced registration. Both In-Person & Virtual options are available. Following the panel discussion\, attendees will be able to view the new exhibit. \nMass timber brings many advantages to architecture and construction by virtue of its prefabricated versatility\, relative light weight\, low embodied carbon\, and natural beauty. It is the only commonly used building material that grows back and has shown to provide health and wellness benefits for those who spend their days immersed in wooden environs. Best of all\, the United States and Canada have abundant forestlands that are managed for long-term sustainable harvest. What else can wood do? Find out at this presentation and spirited discussion with leaders in mass timber design\, engineering\, construction\, and testing. \nReFramed: The Future of Cities in Wood and associated “Talking Timber” lecture series are created in partnership with the Council on Tall Buildings and Urban Habitat (CTBUH) and with the support of presenting sponsor the Softwood Lumber Board. \nAIA/CES Credits: 1 LUs
URL:https://www.chicagoculturalalliance.org/event/talking-timber-can-wood-save-us/
LOCATION:Chicago Architecture Center\, 111 E Wacker Dr\, Chicago\, IL\, 60601\, United States
CATEGORIES:Exhibitions and Gallery Events,Member Events,Online Events,Talks and Gatherings
ATTACH;FMTTYPE=image/jpeg:https://www.chicagoculturalalliance.org/wp-content/uploads/2023/03/t3-photos-construction-c-paulcasselman-6.jpeg
ORGANIZER;CN="Chicago Architecture Center":MAILTO:info@architecture.org
GEO:41.8876241;-87.6236513
X-APPLE-STRUCTURED-LOCATION;VALUE=URI;X-ADDRESS=Chicago Architecture Center 111 E Wacker Dr Chicago IL 60601 United States;X-APPLE-RADIUS=500;X-TITLE=111 E Wacker Dr:geo:-87.6236513,41.8876241
END:VEVENT
BEGIN:VEVENT
DTSTART;TZID=America/Chicago:20230426T120000
DTEND;TZID=America/Chicago:20230426T130000
DTSTAMP:20260424T120153
CREATED:20230316T172559Z
LAST-MODIFIED:20230316T172559Z
UID:10003747-1682510400-1682514000@www.chicagoculturalalliance.org
SUMMARY:Art Deco: Landmarks in Chicago's Communites
DESCRIPTION:Art Deco is not just for downtown. Explore the city’s north\, west and south sides and discover a variety of landmark Art Deco buildings whose lavish and colorful ornament reflect the prosperity and optimism of the Roaring 20s. \nThe buildings highlighted in this program—big banks\, small commercial buildings and residences both big and small—are among the city’s best. All of them have been officially designated as historically significant by the City of Chicago or the National Park Service for their design\, artistry and connection to noteworthy people or events. Join us for a close-up look at these neighborhood buildings—reminders of the past that are still functional and still beautiful today. \n$15 Registration\, Free for CAC Members \nPRESENTER: BILL COFFIN\n \nA former appellate attorney and adjunct professor of legal research and writing\, Bill Coffin became a CAC docent in 2004. He is the tour director for the CAC’s two Art Deco walking tours and has presented lectures about Art Deco at the CAC and at the Osher Lifelong Learning Institute\, a program of Northwestern University’s School of Professional Studies.
URL:https://www.chicagoculturalalliance.org/event/art-deco-landmarks-in-chicagos-communites/
LOCATION:Online Event
CATEGORIES:Member Events,Online Events,Talks and Gatherings
ATTACH;FMTTYPE=image/jpeg:https://www.chicagoculturalalliance.org/wp-content/uploads/2023/03/wide_lrg_thumbnail-union-park-hotel.jpg
ORGANIZER;CN="Chicago Architecture Center":MAILTO:info@architecture.org
END:VEVENT
BEGIN:VEVENT
DTSTART;TZID=America/Chicago:20230427T180000
DTEND;TZID=America/Chicago:20230427T193000
DTSTAMP:20260424T120153
CREATED:20230404T154444Z
LAST-MODIFIED:20230404T154444Z
UID:10003778-1682618400-1682623800@www.chicagoculturalalliance.org
SUMMARY:Book Talk: Ballpark
DESCRIPTION:What can Chicago’s ballparks tell us about the evolution of our city? Pulitzer Prize winning architecture critic Paul Goldberger will discuss the connection between American cities and America’s favorite pastime. \nThis program is $15 to attend and $7 for CAC Members. \nIn a discussion of his 2019 book Ballpark: Baseball in the American City\, Goldberger offers some valuable context about how baseball and ballparks have shaped our cities\, both physically and psychologically. He tracks the evolution of baseball’s tastes in stadium location and design and why they matter. He explores how the architecture of ballparks\, reflects how we view our cities and the game and how the two relate to each other. \nA book signing will take place at the conclusion of the program. Books will be available at the CAC design store. \nAUTHOR: PAUL GOLDBERGER\n \nPaul Goldberger\, a contributing editor at Vanity Fair\, began his career at The New York Times\, where he was awarded the Pulitzer Prize for distinguished criticism for his writing on architecture. Later\, and for 15 years\, he was architecture critic for The New Yorker. He is the author of many books\, most recently Ballpark: Baseball in the American City (May\, 2019). Goldberger teaches at the New School and lectures widely around the country on architecture\, design\, historic preservation\, and cities.
URL:https://www.chicagoculturalalliance.org/event/book-talk-ballpark/
LOCATION:Chicago Architecture Center\, 111 E Wacker Dr\, Chicago\, IL\, 60601\, United States
CATEGORIES:Member Events,Talks and Gatherings
ATTACH;FMTTYPE=image/jpeg:https://www.chicagoculturalalliance.org/wp-content/uploads/2023/04/wide_lrg_shutterstock-1412692760.jpg
ORGANIZER;CN="Chicago Architecture Center":MAILTO:info@architecture.org
GEO:41.8876241;-87.6236513
X-APPLE-STRUCTURED-LOCATION;VALUE=URI;X-ADDRESS=Chicago Architecture Center 111 E Wacker Dr Chicago IL 60601 United States;X-APPLE-RADIUS=500;X-TITLE=111 E Wacker Dr:geo:-87.6236513,41.8876241
END:VEVENT
END:VCALENDAR