BEGIN:VCALENDAR
VERSION:2.0
PRODID:-//Chicago Cultural Alliance - ECPv6.15.20//NONSGML v1.0//EN
CALSCALE:GREGORIAN
METHOD:PUBLISH
X-WR-CALNAME:Chicago Cultural Alliance
X-ORIGINAL-URL:https://www.chicagoculturalalliance.org
X-WR-CALDESC:Events for Chicago Cultural Alliance
REFRESH-INTERVAL;VALUE=DURATION:PT1H
X-Robots-Tag:noindex
X-PUBLISHED-TTL:PT1H
BEGIN:VTIMEZONE
TZID:America/Chicago
BEGIN:DAYLIGHT
TZOFFSETFROM:-0600
TZOFFSETTO:-0500
TZNAME:CDT
DTSTART:20220313T080000
END:DAYLIGHT
BEGIN:STANDARD
TZOFFSETFROM:-0500
TZOFFSETTO:-0600
TZNAME:CST
DTSTART:20221106T070000
END:STANDARD
BEGIN:DAYLIGHT
TZOFFSETFROM:-0600
TZOFFSETTO:-0500
TZNAME:CDT
DTSTART:20230312T080000
END:DAYLIGHT
BEGIN:STANDARD
TZOFFSETFROM:-0500
TZOFFSETTO:-0600
TZNAME:CST
DTSTART:20231105T070000
END:STANDARD
BEGIN:DAYLIGHT
TZOFFSETFROM:-0600
TZOFFSETTO:-0500
TZNAME:CDT
DTSTART:20240310T080000
END:DAYLIGHT
BEGIN:STANDARD
TZOFFSETFROM:-0500
TZOFFSETTO:-0600
TZNAME:CST
DTSTART:20241103T070000
END:STANDARD
END:VTIMEZONE
BEGIN:VEVENT
DTSTART;VALUE=DATE:20230425
DTEND;VALUE=DATE:20231108
DTSTAMP:20260424T103112
CREATED:20230518T195811Z
LAST-MODIFIED:20231127T213608Z
UID:10004038-1682380800-1699401599@www.chicagoculturalalliance.org
SUMMARY:ReFramed: The Future of Cities in Wood
DESCRIPTION:This exhibition tells the story of building with mass timber and features architectural models of mass timber projects\, from public spaces to office buildings.
URL:https://www.chicagoculturalalliance.org/event/reframed-the-future-of-cities-in-wood/
LOCATION:Chicago Architecture Center\, 111 E Wacker Dr\, Chicago\, IL\, 60601\, United States
CATEGORIES:Exhibitions and Gallery Events,Member Events
ATTACH;FMTTYPE=image/png:https://www.chicagoculturalalliance.org/wp-content/uploads/2023/05/341860732_623042585949624_1454994044599878949_n.png
ORGANIZER;CN="Chicago Architecture Center":MAILTO:info@architecture.org
GEO:41.8876241;-87.6236513
X-APPLE-STRUCTURED-LOCATION;VALUE=URI;X-ADDRESS=Chicago Architecture Center 111 E Wacker Dr Chicago IL 60601 United States;X-APPLE-RADIUS=500;X-TITLE=111 E Wacker Dr:geo:-87.6236513,41.8876241
END:VEVENT
BEGIN:VEVENT
DTSTART;TZID=America/Chicago:20230506T130000
DTEND;TZID=America/Chicago:20230506T150000
DTSTAMP:20260424T103112
CREATED:20230404T155444Z
LAST-MODIFIED:20230502T204805Z
UID:10003779-1683378000-1683385200@www.chicagoculturalalliance.org
SUMMARY:Windows on Design Workshop
DESCRIPTION:Stained glass has been enhancing buildings around the world for thousands of years. Discover how these windows are designed and then make your own acrylic stained-glass window. \nThis hands-on session will begin with a tour of one of Chicago’s most iconic stained glass windows\, the Preston Bradley Hall’s Tiffany Dome at the Chicago Cultural Center. Workshop participants will learn about the significance of this and other windows around the city. Back at the CAC\, participants will take what they learned and make their own acrylic stained window project to take home. \nThis workshop costs $25 for general admission and $17 for CAC Members. Price includes cost of materials. \nAll supplies for this workshop are provided. \nPlease note that this program will involve a short walk outside between the CAC and the Chicago Cultural Center (about 1 mile).
URL:https://www.chicagoculturalalliance.org/event/windows-on-design-workshop/
LOCATION:Chicago Architecture Center\, 111 E Wacker Dr\, Chicago\, IL\, 60601\, United States
CATEGORIES:Member Events,Workshops and Classes
ATTACH;FMTTYPE=image/jpeg:https://www.chicagoculturalalliance.org/wp-content/uploads/2023/04/wide_lrg_tiffany-dome-chicago-cultural-center.jpg
ORGANIZER;CN="Chicago Architecture Center":MAILTO:info@architecture.org
GEO:41.8876241;-87.6236513
X-APPLE-STRUCTURED-LOCATION;VALUE=URI;X-ADDRESS=Chicago Architecture Center 111 E Wacker Dr Chicago IL 60601 United States;X-APPLE-RADIUS=500;X-TITLE=111 E Wacker Dr:geo:-87.6236513,41.8876241
END:VEVENT
BEGIN:VEVENT
DTSTART;TZID=America/Chicago:20230509T173000
DTEND;TZID=America/Chicago:20230509T190000
DTSTAMP:20260424T103112
CREATED:20230404T160713Z
LAST-MODIFIED:20230404T160713Z
UID:10003781-1683653400-1683658800@www.chicagoculturalalliance.org
SUMMARY:ReFramed and ReCovered: A Conversation with the Curators
DESCRIPTION:This intimate event brings co-curators for ReFramed and ReCovered into conversation around the many benefits that trees impart to cities. Learn about the vision and themes of these complementary exhibits and join the curators for a gallery tour. \nThis program is $15 for admission and $7 for CAC Members. \nIn “ReCovered: Chicago’s Urban Tree Canopy” we consider the many benefits of lining our streets with trees. This immersive exhibit connects people to an element of nature we are inherently drawn to but often ignore as integral to the livability of cities and resilience of neighborhoods. Through the exhibit’s interactivity\, we can sense how trees serve to soften the hard edges of our built surroundings. \nThe companion exhibit\, “ReFramed: The Future of Cities in Wood\,” transitions from horizontal\, protective cover to a soaring vertical space\, introducing visitors to a very different function for trees in the city: buildings constructed from mass timber\, a new structural material which holds great promise for sustainable development and breathtaking design. \nHear from Ryan Gann and Ian Spula\, co-curators on ReCovered and ReFramed\, respectively. The conversation will be moderated by CAC’s Director of Exhibitions\, Eve Fineman. \nAt the conclusion of the program\, attendees are invited to tour both exhibitions with the curators.
URL:https://www.chicagoculturalalliance.org/event/reframed-and-recovered-a-conversation-with-the-curators/
LOCATION:Chicago Architecture Center\, 111 E Wacker Dr\, Chicago\, IL\, 60601\, United States
CATEGORIES:Exhibitions and Gallery Events,Member Events,Talks and Gatherings
ATTACH;FMTTYPE=image/jpeg:https://www.chicagoculturalalliance.org/wp-content/uploads/2023/04/wide_lrg_reframed-mass-timber-bayside-rendering.jpeg
ORGANIZER;CN="Chicago Architecture Center":MAILTO:info@architecture.org
GEO:41.8876241;-87.6236513
X-APPLE-STRUCTURED-LOCATION;VALUE=URI;X-ADDRESS=Chicago Architecture Center 111 E Wacker Dr Chicago IL 60601 United States;X-APPLE-RADIUS=500;X-TITLE=111 E Wacker Dr:geo:-87.6236513,41.8876241
END:VEVENT
BEGIN:VEVENT
DTSTART;TZID=America/Chicago:20230520T133000
DTEND;TZID=America/Chicago:20230520T150000
DTSTAMP:20260424T103112
CREATED:20230404T160659Z
LAST-MODIFIED:20230404T160659Z
UID:10003782-1684589400-1684594800@www.chicagoculturalalliance.org
SUMMARY:Walk Like a Preservationist
DESCRIPTION:How can you look at an historic building and know that it should be preserved or landmarked? Join Adam Rubin\, CAC Director of Interpretation\, and member of the Commission on Chicago Landmarks\, and learn what to look for to determine if a building qualifies for preservation designation. \nChicago’s historic resources lend our city its unique sense of place. But what does it take to legally ensure a building’s protection? How are historic construction materials cared for differently than newer materials? And what will we need to do differently to protect a newer and expanded class of culturally significant sites as they become “historic”? \nThis program is $15 to attend and $7 for CAC Members. \nThis outdoor program will focus on sites near the CAC and the Chicago River and will involve walking less than a mile. The program will begin and end at the CAC. \nPROGRAM SPEAKER: ADAM RUBIN\n \nAdam Rubin is an architectural historian and has worked as a researcher\, writer and preservation educator in cities across the country. He currently serves as Director of Interpretation at the Chicago Architecture Center. Prior to assuming this position\, Adam contributed work to an historic resources study of properties along Chicago’s North Lake Shore Drive\, with an emphasis on the documentation of Modernist residential high-rises along the lakefront. Previously\, Adam has developed and led public education initiatives and outreach programs focused on historic resources and landscapes at Docomomo US\, Landmark West\, the Brooklyn Historical Society and the Los Angeles Conservancy.
URL:https://www.chicagoculturalalliance.org/event/walk-like-a-preservationist/
LOCATION:Chicago Architecture Center\, 111 E Wacker Dr\, Chicago\, IL\, 60601\, United States
CATEGORIES:Member Events,Talks and Gatherings
ATTACH;FMTTYPE=image/jpeg:https://www.chicagoculturalalliance.org/wp-content/uploads/2023/04/wide_lrg_chicago-tribune-tower-04-ear-1.jpg
ORGANIZER;CN="Chicago Architecture Center":MAILTO:info@architecture.org
GEO:41.8876241;-87.6236513
X-APPLE-STRUCTURED-LOCATION;VALUE=URI;X-ADDRESS=Chicago Architecture Center 111 E Wacker Dr Chicago IL 60601 United States;X-APPLE-RADIUS=500;X-TITLE=111 E Wacker Dr:geo:-87.6236513,41.8876241
END:VEVENT
BEGIN:VEVENT
DTSTART;TZID=America/Chicago:20230524T120000
DTEND;TZID=America/Chicago:20230524T130000
DTSTAMP:20260424T103112
CREATED:20230410T183500Z
LAST-MODIFIED:20230522T192441Z
UID:10003785-1684929600-1684933200@www.chicagoculturalalliance.org
SUMMARY:Architecture Basics in Seven Structures
DESCRIPTION:Believe it or not\, all of architecture boils down to seven basic structures. Yet they can be combined in more than 5\,000 ways to create our built environment. Join us to learn more.
URL:https://www.chicagoculturalalliance.org/event/architecture-basics-in-seven-structures/
LOCATION:Online Event
CATEGORIES:Member Events,Online Events,Talks and Gatherings
ATTACH;FMTTYPE=image/jpeg:https://www.chicagoculturalalliance.org/wp-content/uploads/2023/04/wide_lrg_union-station-jim-bauer-cc-by-nd-20.jpg
ORGANIZER;CN="Chicago Architecture Center":MAILTO:info@architecture.org
END:VEVENT
BEGIN:VEVENT
DTSTART;TZID=America/Chicago:20230525T180000
DTEND;TZID=America/Chicago:20230525T193000
DTSTAMP:20260424T103112
CREATED:20230501T205232Z
LAST-MODIFIED:20230522T193210Z
UID:10003931-1685037600-1685043000@www.chicagoculturalalliance.org
SUMMARY:Starship Chicago II: World Premiere
DESCRIPTION:This film features Chicago’s James R. Thompson Center as it transforms from a public office building into Google’s downtown headquarters\, raising questions about architecture.
URL:https://www.chicagoculturalalliance.org/event/starship-chicago-ii-world-premiere/
LOCATION:Chicago Architecture Center\, 111 E Wacker Dr\, Chicago\, IL\, 60601\, United States
CATEGORIES:Member Events,Music, Film, and Theater,Talks and Gatherings
ATTACH;FMTTYPE=image/jpeg:https://www.chicagoculturalalliance.org/wp-content/uploads/2023/04/wide_lrg_poster-starship-chicago-ii.jpg
ORGANIZER;CN="Chicago Architecture Center":MAILTO:info@architecture.org
GEO:41.8876241;-87.6236513
X-APPLE-STRUCTURED-LOCATION;VALUE=URI;X-ADDRESS=Chicago Architecture Center 111 E Wacker Dr Chicago IL 60601 United States;X-APPLE-RADIUS=500;X-TITLE=111 E Wacker Dr:geo:-87.6236513,41.8876241
END:VEVENT
END:VCALENDAR