BEGIN:VCALENDAR
VERSION:2.0
PRODID:-//Chicago Cultural Alliance - ECPv6.15.20//NONSGML v1.0//EN
CALSCALE:GREGORIAN
METHOD:PUBLISH
X-WR-CALNAME:Chicago Cultural Alliance
X-ORIGINAL-URL:https://www.chicagoculturalalliance.org
X-WR-CALDESC:Events for Chicago Cultural Alliance
REFRESH-INTERVAL;VALUE=DURATION:PT1H
X-Robots-Tag:noindex
X-PUBLISHED-TTL:PT1H
BEGIN:VTIMEZONE
TZID:America/Chicago
BEGIN:DAYLIGHT
TZOFFSETFROM:-0600
TZOFFSETTO:-0500
TZNAME:CDT
DTSTART:20230312T080000
END:DAYLIGHT
BEGIN:STANDARD
TZOFFSETFROM:-0500
TZOFFSETTO:-0600
TZNAME:CST
DTSTART:20231105T070000
END:STANDARD
BEGIN:DAYLIGHT
TZOFFSETFROM:-0600
TZOFFSETTO:-0500
TZNAME:CDT
DTSTART:20240310T080000
END:DAYLIGHT
BEGIN:STANDARD
TZOFFSETFROM:-0500
TZOFFSETTO:-0600
TZNAME:CST
DTSTART:20241103T070000
END:STANDARD
BEGIN:DAYLIGHT
TZOFFSETFROM:-0600
TZOFFSETTO:-0500
TZNAME:CDT
DTSTART:20250309T080000
END:DAYLIGHT
BEGIN:STANDARD
TZOFFSETFROM:-0500
TZOFFSETTO:-0600
TZNAME:CST
DTSTART:20251102T070000
END:STANDARD
END:VTIMEZONE
BEGIN:VEVENT
DTSTART;TZID=America/Chicago:20240908T140000
DTEND;TZID=America/Chicago:20240908T150000
DTSTAMP:20260423T032838
CREATED:20240815T143255Z
LAST-MODIFIED:20240815T143255Z
UID:10007138-1725804000-1725807600@www.chicagoculturalalliance.org
SUMMARY:Through Fish Eyes
DESCRIPTION:This event is FREE and open to the public. \nTHROUGH FISH EYES: A DANCE PRODUCTION THAT COMBINES ART\, SCIENCE\, AND A CALL TO ACTION \n“Through Fish Eyes” is a unique performance that utilizes dance to create awareness of and evoke empathy in audiences about our dwindling marine ecosystems. This art-science-dance work follows the relationship between mankind and the ocean\, starting at a time when man lived in harmony with nature and ending with the current fragmented world. It brings a voice to water which is all around us in so many forms. The once abundant and thriving ocean has been ravaged by humans. The relationship between man and water is no longer sacred and the damage is done. Humanity is the hand that has been destroyed\, but can it now be the hand of change? \nThis work was initially conceptualized by Kasi Aysola & Madhvi Venkatesh. Research and fieldwork was done at the Great Barrier Reef in Cairns\, Australia. The creative development of this piece has been funded by the National Academies Keck Futures Initiative\, The Boston Foundation\, and the Boston Cultural Council. \n” \nThrough Fish Eyes’ cannot be classified merely as a Bharatanatyam piece – though it has fast-paced rhythmic sections drawn from the art form’s toolkit. It cannot be classified as a Nature drama – though it has marvelous depictions of marine life. It cannot be classified as romantic yearning for the past – though it portrays the idyllic times of yore. At best\, ‘Through Fish Eyes’ can be considered a Call to Arms. It is a devastating depiction of the present and an urgent beseeching to imagine new futures.” – Aditya Venkataraman\, Narthaki.com \n“Transported to a faraway place…dynamic music\, intricate movements\, percussive detailed footwork impressed a story that was well thought out and executed” -Raquel Lake\, Dance Metro DC \nThis project has been funded by the National Academies Keck Futures Initiative\, The Boston Foundation’s Live Arts Boston program\, and the Boston Cultural Council. Prakriti Dance uses the vocabulary of Indian dance to narrate a story that is so relevant to the world today. \n“Through Fish Eyes” has been choreographed by Kasi Aysola\, and conceptualized by Kasi Aysola & Madhvi Venkatesh.\n\nDancers:\nKasi Aysola\nArchana Raja\nMadhuvanti Sundararajan\nHarini Nilakantan\nSangeeta Chettia\nKavisha Prajapathi \n 
URL:https://www.chicagoculturalalliance.org/event/through-fish-eyes/2024-09-08/
LOCATION:3400 N Rockwell St\, Chicago IL\, 60618\, 3400 N Rockwell St\, Chicago\, 60618
CATEGORIES:Dance,Member Events
ATTACH;FMTTYPE=image/png:https://www.chicagoculturalalliance.org/wp-content/uploads/2024/08/Through_Fish_Eyes_September.png
ORGANIZER;CN="Kalapriya Center for Indian Performing Arts":MAILTO:info@kalapriya.org
END:VEVENT
BEGIN:VEVENT
DTSTART;TZID=America/Chicago:20240909T173000
DTEND;TZID=America/Chicago:20240909T183000
DTSTAMP:20260423T032838
CREATED:20240815T143255Z
LAST-MODIFIED:20240815T143255Z
UID:10007139-1725903000-1725906600@www.chicagoculturalalliance.org
SUMMARY:Through Fish Eyes
DESCRIPTION:This event is FREE and open to the public. \nTHROUGH FISH EYES: A DANCE PRODUCTION THAT COMBINES ART\, SCIENCE\, AND A CALL TO ACTION \n“Through Fish Eyes” is a unique performance that utilizes dance to create awareness of and evoke empathy in audiences about our dwindling marine ecosystems. This art-science-dance work follows the relationship between mankind and the ocean\, starting at a time when man lived in harmony with nature and ending with the current fragmented world. It brings a voice to water which is all around us in so many forms. The once abundant and thriving ocean has been ravaged by humans. The relationship between man and water is no longer sacred and the damage is done. Humanity is the hand that has been destroyed\, but can it now be the hand of change? \nThis work was initially conceptualized by Kasi Aysola & Madhvi Venkatesh. Research and fieldwork was done at the Great Barrier Reef in Cairns\, Australia. The creative development of this piece has been funded by the National Academies Keck Futures Initiative\, The Boston Foundation\, and the Boston Cultural Council. \n” \nThrough Fish Eyes’ cannot be classified merely as a Bharatanatyam piece – though it has fast-paced rhythmic sections drawn from the art form’s toolkit. It cannot be classified as a Nature drama – though it has marvelous depictions of marine life. It cannot be classified as romantic yearning for the past – though it portrays the idyllic times of yore. At best\, ‘Through Fish Eyes’ can be considered a Call to Arms. It is a devastating depiction of the present and an urgent beseeching to imagine new futures.” – Aditya Venkataraman\, Narthaki.com \n“Transported to a faraway place…dynamic music\, intricate movements\, percussive detailed footwork impressed a story that was well thought out and executed” -Raquel Lake\, Dance Metro DC \nThis project has been funded by the National Academies Keck Futures Initiative\, The Boston Foundation’s Live Arts Boston program\, and the Boston Cultural Council. Prakriti Dance uses the vocabulary of Indian dance to narrate a story that is so relevant to the world today. \n“Through Fish Eyes” has been choreographed by Kasi Aysola\, and conceptualized by Kasi Aysola & Madhvi Venkatesh.\n\nDancers:\nKasi Aysola\nArchana Raja\nMadhuvanti Sundararajan\nHarini Nilakantan\nSangeeta Chettia\nKavisha Prajapathi \n 
URL:https://www.chicagoculturalalliance.org/event/through-fish-eyes/2024-09-09/
LOCATION:3400 N Rockwell St\, Chicago IL\, 60618\, 3400 N Rockwell St\, Chicago\, 60618
CATEGORIES:Dance,Member Events
ATTACH;FMTTYPE=image/png:https://www.chicagoculturalalliance.org/wp-content/uploads/2024/08/Through_Fish_Eyes_September.png
ORGANIZER;CN="Kalapriya Center for Indian Performing Arts":MAILTO:info@kalapriya.org
END:VEVENT
BEGIN:VEVENT
DTSTART;TZID=America/Chicago:20240911T173000
DTEND;TZID=America/Chicago:20240911T183000
DTSTAMP:20260423T032838
CREATED:20240815T143255Z
LAST-MODIFIED:20240815T143255Z
UID:10007140-1726075800-1726079400@www.chicagoculturalalliance.org
SUMMARY:Through Fish Eyes
DESCRIPTION:This event is FREE and open to the public. \nTHROUGH FISH EYES: A DANCE PRODUCTION THAT COMBINES ART\, SCIENCE\, AND A CALL TO ACTION \n“Through Fish Eyes” is a unique performance that utilizes dance to create awareness of and evoke empathy in audiences about our dwindling marine ecosystems. This art-science-dance work follows the relationship between mankind and the ocean\, starting at a time when man lived in harmony with nature and ending with the current fragmented world. It brings a voice to water which is all around us in so many forms. The once abundant and thriving ocean has been ravaged by humans. The relationship between man and water is no longer sacred and the damage is done. Humanity is the hand that has been destroyed\, but can it now be the hand of change? \nThis work was initially conceptualized by Kasi Aysola & Madhvi Venkatesh. Research and fieldwork was done at the Great Barrier Reef in Cairns\, Australia. The creative development of this piece has been funded by the National Academies Keck Futures Initiative\, The Boston Foundation\, and the Boston Cultural Council. \n” \nThrough Fish Eyes’ cannot be classified merely as a Bharatanatyam piece – though it has fast-paced rhythmic sections drawn from the art form’s toolkit. It cannot be classified as a Nature drama – though it has marvelous depictions of marine life. It cannot be classified as romantic yearning for the past – though it portrays the idyllic times of yore. At best\, ‘Through Fish Eyes’ can be considered a Call to Arms. It is a devastating depiction of the present and an urgent beseeching to imagine new futures.” – Aditya Venkataraman\, Narthaki.com \n“Transported to a faraway place…dynamic music\, intricate movements\, percussive detailed footwork impressed a story that was well thought out and executed” -Raquel Lake\, Dance Metro DC \nThis project has been funded by the National Academies Keck Futures Initiative\, The Boston Foundation’s Live Arts Boston program\, and the Boston Cultural Council. Prakriti Dance uses the vocabulary of Indian dance to narrate a story that is so relevant to the world today. \n“Through Fish Eyes” has been choreographed by Kasi Aysola\, and conceptualized by Kasi Aysola & Madhvi Venkatesh.\n\nDancers:\nKasi Aysola\nArchana Raja\nMadhuvanti Sundararajan\nHarini Nilakantan\nSangeeta Chettia\nKavisha Prajapathi \n 
URL:https://www.chicagoculturalalliance.org/event/through-fish-eyes/2024-09-11/
LOCATION:3400 N Rockwell St\, Chicago IL\, 60618\, 3400 N Rockwell St\, Chicago\, 60618
CATEGORIES:Dance,Member Events
ATTACH;FMTTYPE=image/png:https://www.chicagoculturalalliance.org/wp-content/uploads/2024/08/Through_Fish_Eyes_September.png
ORGANIZER;CN="Kalapriya Center for Indian Performing Arts":MAILTO:info@kalapriya.org
END:VEVENT
BEGIN:VEVENT
DTSTART;TZID=America/Chicago:20240913T173000
DTEND;TZID=America/Chicago:20240913T183000
DTSTAMP:20260423T032838
CREATED:20240815T143255Z
LAST-MODIFIED:20240815T143255Z
UID:10007141-1726248600-1726252200@www.chicagoculturalalliance.org
SUMMARY:Through Fish Eyes
DESCRIPTION:This event is FREE and open to the public. \nTHROUGH FISH EYES: A DANCE PRODUCTION THAT COMBINES ART\, SCIENCE\, AND A CALL TO ACTION \n“Through Fish Eyes” is a unique performance that utilizes dance to create awareness of and evoke empathy in audiences about our dwindling marine ecosystems. This art-science-dance work follows the relationship between mankind and the ocean\, starting at a time when man lived in harmony with nature and ending with the current fragmented world. It brings a voice to water which is all around us in so many forms. The once abundant and thriving ocean has been ravaged by humans. The relationship between man and water is no longer sacred and the damage is done. Humanity is the hand that has been destroyed\, but can it now be the hand of change? \nThis work was initially conceptualized by Kasi Aysola & Madhvi Venkatesh. Research and fieldwork was done at the Great Barrier Reef in Cairns\, Australia. The creative development of this piece has been funded by the National Academies Keck Futures Initiative\, The Boston Foundation\, and the Boston Cultural Council. \n” \nThrough Fish Eyes’ cannot be classified merely as a Bharatanatyam piece – though it has fast-paced rhythmic sections drawn from the art form’s toolkit. It cannot be classified as a Nature drama – though it has marvelous depictions of marine life. It cannot be classified as romantic yearning for the past – though it portrays the idyllic times of yore. At best\, ‘Through Fish Eyes’ can be considered a Call to Arms. It is a devastating depiction of the present and an urgent beseeching to imagine new futures.” – Aditya Venkataraman\, Narthaki.com \n“Transported to a faraway place…dynamic music\, intricate movements\, percussive detailed footwork impressed a story that was well thought out and executed” -Raquel Lake\, Dance Metro DC \nThis project has been funded by the National Academies Keck Futures Initiative\, The Boston Foundation’s Live Arts Boston program\, and the Boston Cultural Council. Prakriti Dance uses the vocabulary of Indian dance to narrate a story that is so relevant to the world today. \n“Through Fish Eyes” has been choreographed by Kasi Aysola\, and conceptualized by Kasi Aysola & Madhvi Venkatesh.\n\nDancers:\nKasi Aysola\nArchana Raja\nMadhuvanti Sundararajan\nHarini Nilakantan\nSangeeta Chettia\nKavisha Prajapathi \n 
URL:https://www.chicagoculturalalliance.org/event/through-fish-eyes/2024-09-13/
LOCATION:3400 N Rockwell St\, Chicago IL\, 60618\, 3400 N Rockwell St\, Chicago\, 60618
CATEGORIES:Dance,Member Events
ATTACH;FMTTYPE=image/png:https://www.chicagoculturalalliance.org/wp-content/uploads/2024/08/Through_Fish_Eyes_September.png
ORGANIZER;CN="Kalapriya Center for Indian Performing Arts":MAILTO:info@kalapriya.org
END:VEVENT
BEGIN:VEVENT
DTSTART;TZID=America/Chicago:20240914T080000
DTEND;TZID=America/Chicago:20240914T170000
DTSTAMP:20260423T032838
CREATED:20240826T195349Z
LAST-MODIFIED:20240826T195349Z
UID:10007165-1726300800-1726333200@www.chicagoculturalalliance.org
SUMMARY:Golfing Fore Green 2024
DESCRIPTION:Date:  September 14 \nTime: \n8:00 am – 5:00 pm \nLocation:  \n6150 N. Caldwell Ave \nChicago\, \nIL \n60646 \nUnited States \n+ Google Map \nGolfing Fore Green is Back for 2024\nIt’s back and better than ever – don’t miss our popular Golfing Fore Green!\nGolfing Fore Green\, one of our biggest and most popular fundraisers\, takes place on Saturday\, September 14. The Luck o’ the Irish will surely be on our side so you know the weather will be perfect!\nWe’re returning to Billy Caldwell Golf Course (6150 N. Caldwell Ave in Chicago) with an 8AM start. Foursomes will hit the links every ten minutes from there.\nThis event sells out every year\, so secure your foursome now—$85 per golfer\, $300 per foursome\, which includes nine holes of golf\, a golf cart\, a voucher for a sandwich\, and a drink at the I.A.H.C. 10th hole event\, where awards and prizes will be given out.\nSponsorship opportunities are available!\nCall the main office at 773-282-7035\, ext. 10 for more information and to book your spot!
URL:https://www.chicagoculturalalliance.org/event/golfing-fore-green-2024/
CATEGORIES:Member Events
END:VEVENT
BEGIN:VEVENT
DTSTART;TZID=America/Chicago:20240921T110000
DTEND;TZID=America/Chicago:20240921T130000
DTSTAMP:20260423T032838
CREATED:20240909T191938Z
LAST-MODIFIED:20240909T191938Z
UID:10007232-1726916400-1726923600@www.chicagoculturalalliance.org
SUMMARY:60 Jahre German School Celebration
DESCRIPTION:Date: \nWhen\nSaturday\, September 21\, 2024 \nTime:  \n11:00 AM – 1:00 PM \nLocation: \nLocation\nDANK Haus\, 5th Floor Marunde Ballroom \n\n60 Jahre German School Celebration \nSaturday\, September 21\, 11 AM – 1 PM \n5th Floor Marunde Ballroom \nJoin us Saturday\, September 21st 11am-1pm as we celebrate the 60th anniversary of the DANK Haus Sprachschule! We are honored to have General Consul Ahrens launch our celebratory year as current and former students\, teachers\, families and the community join together to honor six decades of fostering language\, culture\, and lifelong connections at this milestone event at the DANK Haus. \nFollowing the program\, we invite everyone to enjoy light German fare\, and mingle with fellow members of our DANK Haus community. We look forward to celebrating with you! \nFree parking at 5/3 Bank after 6:00 PM located at Western and Gunnison
URL:https://www.chicagoculturalalliance.org/event/60-jahre-german-school-celebration/
LOCATION:DANK Haus German American Cultural Center\, 4740 N. Western Ave.\, Chicago\, IL\, 60625\, United States
CATEGORIES:Member Events
GEO:41.9680013;-87.6890642
X-APPLE-STRUCTURED-LOCATION;VALUE=URI;X-ADDRESS=DANK Haus German American Cultural Center 4740 N. Western Ave. Chicago IL 60625 United States;X-APPLE-RADIUS=500;X-TITLE=4740 N. Western Ave.:geo:-87.6890642,41.9680013
END:VEVENT
BEGIN:VEVENT
DTSTART;TZID=America/Chicago:20240929T000000
DTEND;TZID=America/Chicago:20240929T000000
DTSTAMP:20260423T032838
CREATED:20240911T015835Z
LAST-MODIFIED:20240911T015835Z
UID:10007236-1727568000-1727568000@www.chicagoculturalalliance.org
SUMMARY:CAICC Education Committee Game Day Fundraiser
DESCRIPTION:Date: 2024-09-29 \nLocation:  \n1060 W Addison St. \nChicago\, \nIL \n60613 \nUnited States \n  \n\nThe CAICC Education Committee invites you to our Game Day Fundraiser. Join us for\nthe last game of the regular season at Wrigley Field! A portion of the proceeds from each ticket purchased through this offer will be donated to support the work of CAICC’s\nEducation Committee\, whose mission is to provide\, advocate\, and support an inter-tribal urban system of education\, through networks of Native American Programs and other providers to increase academic and career success for multi-generations that recognizes formal education and tribal cultures/traditions. \nPurchase tickets in groups to ensure you sit together. To support\, tickets must be\npurchased though this link:
URL:https://www.chicagoculturalalliance.org/event/caicc-education-committee-game-day-fundraiser/
LOCATION:1060 W Addison St
CATEGORIES:Member Events
END:VEVENT
END:VCALENDAR