BEGIN:VCALENDAR
VERSION:2.0
PRODID:-//Chicago Cultural Alliance - ECPv6.15.20//NONSGML v1.0//EN
CALSCALE:GREGORIAN
METHOD:PUBLISH
X-ORIGINAL-URL:https://www.chicagoculturalalliance.org
X-WR-CALDESC:Events for Chicago Cultural Alliance
REFRESH-INTERVAL;VALUE=DURATION:PT1H
X-Robots-Tag:noindex
X-PUBLISHED-TTL:PT1H
BEGIN:VTIMEZONE
TZID:America/Chicago
BEGIN:DAYLIGHT
TZOFFSETFROM:-0600
TZOFFSETTO:-0500
TZNAME:CDT
DTSTART:20230312T080000
END:DAYLIGHT
BEGIN:STANDARD
TZOFFSETFROM:-0500
TZOFFSETTO:-0600
TZNAME:CST
DTSTART:20231105T070000
END:STANDARD
BEGIN:DAYLIGHT
TZOFFSETFROM:-0600
TZOFFSETTO:-0500
TZNAME:CDT
DTSTART:20240310T080000
END:DAYLIGHT
BEGIN:STANDARD
TZOFFSETFROM:-0500
TZOFFSETTO:-0600
TZNAME:CST
DTSTART:20241103T070000
END:STANDARD
BEGIN:DAYLIGHT
TZOFFSETFROM:-0600
TZOFFSETTO:-0500
TZNAME:CDT
DTSTART:20250309T080000
END:DAYLIGHT
BEGIN:STANDARD
TZOFFSETFROM:-0500
TZOFFSETTO:-0600
TZNAME:CST
DTSTART:20251102T070000
END:STANDARD
END:VTIMEZONE
BEGIN:VEVENT
DTSTART;TZID=America/Chicago:20241019T120000
DTEND;TZID=America/Chicago:20241019T140000
DTSTAMP:20260421T041029
CREATED:20241017T204427Z
LAST-MODIFIED:20241017T204427Z
UID:10007300-1729339200-1729346400@www.chicagoculturalalliance.org
SUMMARY:DIY Clay Ofrenda Ornament
DESCRIPTION:Join us at Trickster Cultural Center on Oct 19th from 12pm-2pm to celebrate a tradition of decorating altars for Dia de los Muertos (Day of the Dead). This DIY Clay Ofrenda Ornament workshop is free and all are welcome. This workshop also marks the start of our month-long Dia de los Muertos (Day of the Dead) Celebration! \nLearn more on our event page! Visit our website https://www.tricksterculturalcenter.org > Events >2024 Dia de los Muertos Celebration
URL:https://www.chicagoculturalalliance.org/event/diy-clay-ofrenda-ornament/
LOCATION:Trickster Cultural Center\, 190 S Roselle Rd\, Schaumburg\, IL\, 60193\, United States
CATEGORIES:Cultural Festivals and Fairs,Member Events,Workshops and Classes
ATTACH;FMTTYPE=image/jpeg:https://www.chicagoculturalalliance.org/wp-content/uploads/2024/10/Copy-of-Oct19-DIY-ClayOfrenda-Ornament.jpg
GEO:42.0253438;-88.0805137
X-APPLE-STRUCTURED-LOCATION;VALUE=URI;X-ADDRESS=Trickster Cultural Center 190 S Roselle Rd Schaumburg IL 60193 United States;X-APPLE-RADIUS=500;X-TITLE=190 S Roselle Rd:geo:-88.0805137,42.0253438
END:VEVENT
END:VCALENDAR