BEGIN:VCALENDAR
VERSION:2.0
PRODID:-//Chicago Cultural Alliance - ECPv6.15.20//NONSGML v1.0//EN
CALSCALE:GREGORIAN
METHOD:PUBLISH
X-WR-CALNAME:Chicago Cultural Alliance
X-ORIGINAL-URL:https://www.chicagoculturalalliance.org
X-WR-CALDESC:Events for Chicago Cultural Alliance
REFRESH-INTERVAL;VALUE=DURATION:PT1H
X-Robots-Tag:noindex
X-PUBLISHED-TTL:PT1H
BEGIN:VTIMEZONE
TZID:America/Chicago
BEGIN:DAYLIGHT
TZOFFSETFROM:-0600
TZOFFSETTO:-0500
TZNAME:CDT
DTSTART:20230312T080000
END:DAYLIGHT
BEGIN:STANDARD
TZOFFSETFROM:-0500
TZOFFSETTO:-0600
TZNAME:CST
DTSTART:20231105T070000
END:STANDARD
BEGIN:DAYLIGHT
TZOFFSETFROM:-0600
TZOFFSETTO:-0500
TZNAME:CDT
DTSTART:20240310T080000
END:DAYLIGHT
BEGIN:STANDARD
TZOFFSETFROM:-0500
TZOFFSETTO:-0600
TZNAME:CST
DTSTART:20241103T070000
END:STANDARD
BEGIN:DAYLIGHT
TZOFFSETFROM:-0600
TZOFFSETTO:-0500
TZNAME:CDT
DTSTART:20250309T080000
END:DAYLIGHT
BEGIN:STANDARD
TZOFFSETFROM:-0500
TZOFFSETTO:-0600
TZNAME:CST
DTSTART:20251102T070000
END:STANDARD
BEGIN:DAYLIGHT
TZOFFSETFROM:-0600
TZOFFSETTO:-0500
TZNAME:CDT
DTSTART:20260308T080000
END:DAYLIGHT
BEGIN:STANDARD
TZOFFSETFROM:-0500
TZOFFSETTO:-0600
TZNAME:CST
DTSTART:20261101T070000
END:STANDARD
BEGIN:DAYLIGHT
TZOFFSETFROM:-0600
TZOFFSETTO:-0500
TZNAME:CDT
DTSTART:20270314T080000
END:DAYLIGHT
BEGIN:STANDARD
TZOFFSETFROM:-0500
TZOFFSETTO:-0600
TZNAME:CST
DTSTART:20271107T070000
END:STANDARD
END:VTIMEZONE
BEGIN:VEVENT
DTSTART;TZID=America/Chicago:20240929T000000
DTEND;TZID=America/Chicago:20240929T000000
DTSTAMP:20260425T053133
CREATED:20240911T015835Z
LAST-MODIFIED:20240911T015835Z
UID:10007236-1727568000-1727568000@www.chicagoculturalalliance.org
SUMMARY:CAICC Education Committee Game Day Fundraiser
DESCRIPTION:Date: 2024-09-29 \nLocation:  \n1060 W Addison St. \nChicago\, \nIL \n60613 \nUnited States \n  \n\nThe CAICC Education Committee invites you to our Game Day Fundraiser. Join us for\nthe last game of the regular season at Wrigley Field! A portion of the proceeds from each ticket purchased through this offer will be donated to support the work of CAICC’s\nEducation Committee\, whose mission is to provide\, advocate\, and support an inter-tribal urban system of education\, through networks of Native American Programs and other providers to increase academic and career success for multi-generations that recognizes formal education and tribal cultures/traditions. \nPurchase tickets in groups to ensure you sit together. To support\, tickets must be\npurchased though this link:
URL:https://www.chicagoculturalalliance.org/event/caicc-education-committee-game-day-fundraiser/
LOCATION:1060 W Addison St
CATEGORIES:Member Events
END:VEVENT
BEGIN:VEVENT
DTSTART;TZID=America/Chicago:20241019T120000
DTEND;TZID=America/Chicago:20241019T140000
DTSTAMP:20260425T053133
CREATED:20241017T204427Z
LAST-MODIFIED:20241017T204427Z
UID:10007300-1729339200-1729346400@www.chicagoculturalalliance.org
SUMMARY:DIY Clay Ofrenda Ornament
DESCRIPTION:Join us at Trickster Cultural Center on Oct 19th from 12pm-2pm to celebrate a tradition of decorating altars for Dia de los Muertos (Day of the Dead). This DIY Clay Ofrenda Ornament workshop is free and all are welcome. This workshop also marks the start of our month-long Dia de los Muertos (Day of the Dead) Celebration! \nLearn more on our event page! Visit our website https://www.tricksterculturalcenter.org > Events >2024 Dia de los Muertos Celebration
URL:https://www.chicagoculturalalliance.org/event/diy-clay-ofrenda-ornament/
LOCATION:Trickster Cultural Center\, 190 S Roselle Rd\, Schaumburg\, IL\, 60193\, United States
CATEGORIES:Cultural Festivals and Fairs,Member Events,Workshops and Classes
ATTACH;FMTTYPE=image/jpeg:https://www.chicagoculturalalliance.org/wp-content/uploads/2024/10/Copy-of-Oct19-DIY-ClayOfrenda-Ornament.jpg
GEO:42.0253438;-88.0805137
X-APPLE-STRUCTURED-LOCATION;VALUE=URI;X-ADDRESS=Trickster Cultural Center 190 S Roselle Rd Schaumburg IL 60193 United States;X-APPLE-RADIUS=500;X-TITLE=190 S Roselle Rd:geo:-88.0805137,42.0253438
END:VEVENT
BEGIN:VEVENT
DTSTART;TZID=America/Chicago:20250323T150000
DTEND;TZID=America/Chicago:20250323T170000
DTSTAMP:20260425T053133
CREATED:20250314T202859Z
LAST-MODIFIED:20250314T212344Z
UID:10007844-1742742000-1742749200@www.chicagoculturalalliance.org
SUMMARY:ART WORKS Projects Gallery Closing Event: 18 Years of Visual Advocacy
DESCRIPTION:After 11 years of producing and presenting high-impact visual advocacy projects in our beloved shared office and gallery space located at 625 N Kingsbury Street\, our team at AWP will be moving out on March 31. \n\nTo mark this occasion\, we welcome back AWP’s founder\, Leslie Thomas\, who will be joining us for a special closing event featuring a conversation with managing director Bora Un on Sunday\, March 23 from 3:00 – 5:00pm. This conversation will be moderated by AWP Board Member and DEI Manager at WBEZ\, Steve Bynum.\n\nDuring our time together\, we will revisit some of AWP’s projects from across our 18 years of creating impact through powerful visual storytelling\, and will share details about some upcoming collaborations with Leslie’s film production studio\, MIRA Studios/MIRA Europe. Guests will also have the opportunity to view a glimpse of Leslie’s latest feature-length documentary film\, The Sharp Edge of Peace\, based on AWP’s 2012 project Women Between Peace and War: Afghanistan.\n\n\n\n\n\n\n\nThis event will serve as the closing event for our open house taking place on Saturday\, March 22 – Sunday\, March 23 from 12:00 – 6pm each day as we invite our Chicago community to come see the space for a final time\, and to help us find new homes for a number of our ready-to-go exhibition kits\, books\, limited edition prints\, and a range of unused exhibition materials and supplies that will be for sale\, or free for the taking! 
URL:https://www.chicagoculturalalliance.org/event/art-works-projects-open-house-moving-sale-march-22-23/
LOCATION:625 North Kingsbury Street Chicago\, IL 60654\, 625 North Kingsbury Street\, Chicago\, IL\, 60654\, United States
CATEGORIES:Exhibitions and Gallery Events,Member Events,Talks and Gatherings,Tour
ATTACH;FMTTYPE=image/jpeg:https://www.chicagoculturalalliance.org/wp-content/uploads/2025/03/DNC0787-1.jpg
ORGANIZER;CN="Art Works Projects":MAILTO:info@artworksprojects.org
GEO:41.8928209;-87.6407311
X-APPLE-STRUCTURED-LOCATION;VALUE=URI;X-ADDRESS=625 North Kingsbury Street Chicago IL 60654 625 North Kingsbury Street Chicago IL 60654 United States;X-APPLE-RADIUS=500;X-TITLE=625 North Kingsbury Street:geo:-87.6407311,41.8928209
END:VEVENT
BEGIN:VEVENT
DTSTART;VALUE=DATE:20250402
DTEND;VALUE=DATE:20250418
DTSTAMP:20260425T053133
CREATED:20250416T154654Z
LAST-MODIFIED:20250416T154654Z
UID:10007883-1743552000-1744934399@www.chicagoculturalalliance.org
SUMMARY:Sustain'd
DESCRIPTION:Township High School District 211 will showcase their Advanced Placement Art class artists in their first ever capstone show titled\, Sustain’d. Each student artist works for 1 school year to create a body of work around a sustained investigation of a concept.
URL:https://www.chicagoculturalalliance.org/event/sustaind/
LOCATION:Trickster Cultural Center\, 190 S Roselle Rd\, Schaumburg\, IL\, 60193\, United States
CATEGORIES:Dance,Exhibitions and Gallery Events,Member Events,Talks and Gatherings
ATTACH;FMTTYPE=image/jpeg:https://www.chicagoculturalalliance.org/wp-content/uploads/2025/04/20250331-D211_AP_Art-Exhibition-web.jpg
GEO:42.0253438;-88.0805137
X-APPLE-STRUCTURED-LOCATION;VALUE=URI;X-ADDRESS=Trickster Cultural Center 190 S Roselle Rd Schaumburg IL 60193 United States;X-APPLE-RADIUS=500;X-TITLE=190 S Roselle Rd:geo:-88.0805137,42.0253438
END:VEVENT
BEGIN:VEVENT
DTSTART;TZID=America/Chicago:20250531T120000
DTEND;TZID=America/Chicago:20250531T190000
DTSTAMP:20260425T053133
CREATED:20250530T155608Z
LAST-MODIFIED:20250530T155608Z
UID:10007895-1748692800-1748718000@www.chicagoculturalalliance.org
SUMMARY:Summer Youth Social Powwow
DESCRIPTION:This youth-led community event is FREE and open to the general public event. This “Summer Youth Social Powwow” event aims to foster community relations\, youth literacy\, cultural exchange with a powwow and provide local community resources at Trickster Cultural Center.
URL:https://www.chicagoculturalalliance.org/event/summer-youth-social-powwow/
LOCATION:Trickster Cultural Center\, 190 S Roselle Rd\, Schaumburg\, IL\, 60193\, United States
CATEGORIES:Cultural Festivals and Fairs,Dance,Member Events,Talks and Gatherings
ATTACH;FMTTYPE=image/jpeg:https://www.chicagoculturalalliance.org/wp-content/uploads/2025/04/May31-Summer-Youth-Social-Powwow-web.jpg
GEO:42.0253438;-88.0805137
X-APPLE-STRUCTURED-LOCATION;VALUE=URI;X-ADDRESS=Trickster Cultural Center 190 S Roselle Rd Schaumburg IL 60193 United States;X-APPLE-RADIUS=500;X-TITLE=190 S Roselle Rd:geo:-88.0805137,42.0253438
END:VEVENT
BEGIN:VEVENT
DTSTART;TZID=America/Chicago:20250607T140000
DTEND;TZID=America/Chicago:20250607T190000
DTSTAMP:20260425T053133
CREATED:20250528T201835Z
LAST-MODIFIED:20250528T201835Z
UID:10007914-1749304800-1749322800@www.chicagoculturalalliance.org
SUMMARY:All My Relations: Pride Celebration
DESCRIPTION:The 2025 “All My Relations: Pride Celebration” would like to honor diversity through Native drum and dance\, various artists\, resource exchanges\, and vendor fair at Trickster Cultural Center in Schaumburg\, IL.
URL:https://www.chicagoculturalalliance.org/event/all-my-relations-pride-celebration/
LOCATION:Trickster Cultural Center\, 190 S Roselle Rd\, Schaumburg\, IL\, 60193\, United States
CATEGORIES:Member Events,Talks and Gatherings
ATTACH;FMTTYPE=image/jpeg:https://www.chicagoculturalalliance.org/wp-content/uploads/2025/04/Jun7-AMR-Pride-Celebration-web.jpg
GEO:42.0253438;-88.0805137
X-APPLE-STRUCTURED-LOCATION;VALUE=URI;X-ADDRESS=Trickster Cultural Center 190 S Roselle Rd Schaumburg IL 60193 United States;X-APPLE-RADIUS=500;X-TITLE=190 S Roselle Rd:geo:-88.0805137,42.0253438
END:VEVENT
BEGIN:VEVENT
DTSTART;TZID=America/Chicago:20250718T160000
DTEND;TZID=America/Chicago:20250719T200000
DTSTAMP:20260425T053133
CREATED:20250715T162706Z
LAST-MODIFIED:20250715T162706Z
UID:10008048-1752854400-1752955200@www.chicagoculturalalliance.org
SUMMARY:11th Annual National Gathering of American Indian Veterans: Stories Told and Untold
DESCRIPTION:Cost: Free\n\nEvent day:  July 18-19\, 2025\n\nEvent address:  Trickster Cultural Center\, 190 S Roselle Rd\, Schaumburg\, IL 60193\n\nWebsite:  https://www.tricksterculturalcenter.org\n\n\nThe National Gathering of American Indian Veterans event honors veterans and military personnel of all cultures\, eras and branches in a Native Way that is open to all. This is a 2-day event that is held from Friday\, July 18th to Saturday\, July 19th. This event is free and open to the public.
URL:https://www.chicagoculturalalliance.org/event/11th-annual-national-gathering-of-american-indian-veterans-stories-told-and-untold/
LOCATION:IL
CATEGORIES:Member Events
ATTACH;FMTTYPE=image/jpeg:https://www.chicagoculturalalliance.org/wp-content/uploads/2025/07/20250708-NG-JUL-18-19-web.jpg
END:VEVENT
BEGIN:VEVENT
DTSTART;VALUE=DATE:20251009
DTEND;VALUE=DATE:20251213
DTSTAMP:20260425T053133
CREATED:20250821T155809Z
LAST-MODIFIED:20250821T155949Z
UID:10008113-1759968000-1765583999@www.chicagoculturalalliance.org
SUMMARY:Daughters of Anacaona: A Groundbreaking Art Exhibition Celebrating Feminine Strength\, Resilience\, and Integrity
DESCRIPTION:The Alliance Française de Chicago\, in partnership with Partners In Health\, proudly announces the opening of Daughters of Anacaona. This groundbreaking art exhibition in celebration of feminine strength and integrity will be on display in the Alliance’s Eleanor Wood Prince Salon. \nThis compelling exhibition invites audiences to reflect on the legacy of Anacaona\, the legendary Taíno cacica (chief)\, poet\, and composer whose resistance and sacrifice symbolize the strength and dignity of Caribbean women across history. Curated by three dynamic exhibiting women artists from the Haitian diaspora—Chantal Bethel\, Véronique De Mesmaeker\, and Persida Louison—this exhibition is a convergence of ancestral memory\, historical truth\, and contemporary creative expression. Their work spans mixed media\, acrylic\, fiber\, ceramics\, and poetry. A special grand opening will be held at 6:00 p.m. Thursday\, October 9 at AF-Chicago in River North. The program will feature a moderated conversation with the artists led by Chantal Bethel and a presentation by Partners In Health\, as well as light refreshments\, drinks\, and cultural exchange. \n$10 Suggested Donation
URL:https://www.chicagoculturalalliance.org/event/daughters-of-anacaona-a-groundbreaking-art-exhibition-celebrating-feminine-strength-resilience-and-integrity/
LOCATION:Alliance Française de Chicago\, 54 West Chicago Avenue\, Chicago\, IL\, 60654\, United States
CATEGORIES:Cultural Festivals and Fairs,Exhibitions and Gallery Events,Member Events,Talks and Gatherings
ATTACH;FMTTYPE=image/png:https://www.chicagoculturalalliance.org/wp-content/uploads/2025/08/Screenshot-2025-08-21-104716.png
ORGANIZER;CN="Alliance Fran%C3%A7aise de Chicago%2C":MAILTO:wpapadopoulos@af-chicago.org
GEO:41.897108;-87.630232
X-APPLE-STRUCTURED-LOCATION;VALUE=URI;X-ADDRESS=Alliance Française de Chicago 54 West Chicago Avenue Chicago IL 60654 United States;X-APPLE-RADIUS=500;X-TITLE=54 West Chicago Avenue:geo:-87.630232,41.897108
END:VEVENT
BEGIN:VEVENT
DTSTART;TZID=America/Chicago:20251219T200000
DTEND;TZID=America/Chicago:20251219T213000
DTSTAMP:20260425T053133
CREATED:20251217T211706Z
LAST-MODIFIED:20251217T211706Z
UID:10010321-1766174400-1766179800@www.chicagoculturalalliance.org
SUMMARY:Stand-up Comedy
DESCRIPTION:Join us for an unforgettable night of sharp wit\, fearless humor\, and brilliantly absurd storytelling as Dragoș\, one of Europe’s most dynamic comedic voices\, comes to ROCO Chicago for a special one-night-only show. \nRecognized as one of the pioneers of the English-language comedy scene in Europe\, Dragoș is a Romanian-born comedian whose bold crowd work\, dry observational humor\, and darkly hilarious commentary on modern life have earned him a devoted global following. \nAfter the success of his three hit stand-up specials — Hungry Hungry Dragon\, Best Case Scenario\, and The Schengen Special — Dragoș now brings his newest hour\, Source of Sadness\, to Chicago. This show is a razor-sharp\, introspective\, and wildly funny deep dive into the strange realities of today’s world.
URL:https://www.chicagoculturalalliance.org/event/stand-up-comedy/
LOCATION:ROCO Chicago\, 5406 N. KEDZIE AVE\, CHICAGO\, IL\, 60625\, United States
CATEGORIES:Member Events,Talks and Gatherings
ATTACH;FMTTYPE=image/jpeg:https://www.chicagoculturalalliance.org/wp-content/uploads/2025/12/Dragos-comedy-Cropped.jpg
ORGANIZER;CN="ROCO Chicago%2C The Romanian Community Foundation":MAILTO:contact@rocochicago.org
END:VEVENT
BEGIN:VEVENT
DTSTART;TZID=America/Chicago:20260115T183000
DTEND;TZID=America/Chicago:20260115T203000
DTSTAMP:20260425T053133
CREATED:20260123T222841Z
LAST-MODIFIED:20260123T222841Z
UID:10010361-1768501800-1768509000@www.chicagoculturalalliance.org
SUMMARY:Romanian Culture Day at ROCO Chicago
DESCRIPTION:On January 15\, 2026\, join us at ROCO Chicago for an evening that nourishes the soul and brings people together.In honor of Romanian Culture Day\, we invite you to start the year with inspiration\, creativity\, and meaningful connections. \n📖 Poetry that speaks to the heart🎶 Music that unites📚 Books that tell our stories🤍 A warm\, welcoming space where community comes first \n📅 January 15\, 2026 | 6:30–8:30 PM (CST)📍 ROCO Chicago – 5406 N Kedzie Ave \nBegin the new year inspired.Come listen\, share\, and connect.At ROCO\, you belong.
URL:https://www.chicagoculturalalliance.org/event/romanian-culture-day-at-roco-chicago/
LOCATION:ROCO Chicago\, 5406 N. KEDZIE AVE\, CHICAGO\, IL\, 60625\, United States
CATEGORIES:Member Events
ATTACH;FMTTYPE=image/png:https://www.chicagoculturalalliance.org/wp-content/uploads/2026/01/Title-7.png
ORGANIZER;CN="ROCO Chicago%2C The Romanian Community Foundation":MAILTO:contact@rocochicago.org
END:VEVENT
BEGIN:VEVENT
DTSTART;TZID=America/Chicago:20260321T183000
DTEND;TZID=America/Chicago:20260321T233000
DTSTAMP:20260425T053133
CREATED:20260127T004539Z
LAST-MODIFIED:20260219T173019Z
UID:10010379-1774117800-1774135800@www.chicagoculturalalliance.org
SUMMARY:DuSable Heritage Association's 26th Anniversary Celebration Gala
DESCRIPTION:Join the DHA on March 21st\, 2026 for the DuSable Heritage Association’s 26th Anniversary Celebration Gala at the historic Palmer House Hotel in Chicago! \nCelebrate a quarter century of informing\, educating\, and illuminating the legacy of Jean Baptiste Pointe DuSable\, founder of the city of Chicago over 200 years ago\, during an evening filled with elegance and inspiration. Guests will enjoy Exciting live and silent auctions featuring unique items and experiences and a thrilling raffle with fantastic prizes to win. This milestone event will honor their past achievements while paving the way for future initiatives to ensure that the rich legacy of the DuSable Heritage Association continues to thrive. \nDon’t miss this opportunity to make a difference and be part of a night to remember! \nOn the verge of our nation’s 250th anniversary\, let us make DuSable’s role in creating Chicago and contributing to the fabric of our nation. Let us ensure that his life story ceaselessly inspire countless immigrants to accomplish greater feats. \nFor the past twenty-five years\, the DuSable Heritage Association (DHA) has been enhancing the image and legacy of Jean Baptiste Pointe DuSable\, born of a black mother and a French father\, circa 1745. Around 1778\, he immigrated to the US\, married Kitihawa of the Potawatomi  tribe\, and established the first trading post at the junction of the Chicago River and Lake Michigan (today’s Apple Store location). This settlement later became Chicago\, and the rest is history.
URL:https://www.chicagoculturalalliance.org/event/dusable-heritage-associations-26th-anniversary-celebration-gala/
LOCATION:Palmer House Hotel\, 17 E Monroe St\, Chicago\, 60603\, United States
CATEGORIES:Formal and Black Tie Events,Member Events
ATTACH;FMTTYPE=image/png:https://www.chicagoculturalalliance.org/wp-content/uploads/2026/01/DHA-2026-Gal-flyer.png
END:VEVENT
END:VCALENDAR