BEGIN:VCALENDAR
VERSION:2.0
PRODID:-//Chicago Cultural Alliance - ECPv6.15.20//NONSGML v1.0//EN
CALSCALE:GREGORIAN
METHOD:PUBLISH
X-WR-CALNAME:Chicago Cultural Alliance
X-ORIGINAL-URL:https://www.chicagoculturalalliance.org
X-WR-CALDESC:Events for Chicago Cultural Alliance
REFRESH-INTERVAL;VALUE=DURATION:PT1H
X-Robots-Tag:noindex
X-PUBLISHED-TTL:PT1H
BEGIN:VTIMEZONE
TZID:America/Chicago
BEGIN:DAYLIGHT
TZOFFSETFROM:-0600
TZOFFSETTO:-0500
TZNAME:CDT
DTSTART:20210314T080000
END:DAYLIGHT
BEGIN:STANDARD
TZOFFSETFROM:-0500
TZOFFSETTO:-0600
TZNAME:CST
DTSTART:20211107T070000
END:STANDARD
BEGIN:DAYLIGHT
TZOFFSETFROM:-0600
TZOFFSETTO:-0500
TZNAME:CDT
DTSTART:20220313T080000
END:DAYLIGHT
BEGIN:STANDARD
TZOFFSETFROM:-0500
TZOFFSETTO:-0600
TZNAME:CST
DTSTART:20221106T070000
END:STANDARD
BEGIN:DAYLIGHT
TZOFFSETFROM:-0600
TZOFFSETTO:-0500
TZNAME:CDT
DTSTART:20230312T080000
END:DAYLIGHT
BEGIN:STANDARD
TZOFFSETFROM:-0500
TZOFFSETTO:-0600
TZNAME:CST
DTSTART:20231105T070000
END:STANDARD
END:VTIMEZONE
BEGIN:VEVENT
DTSTART;TZID=America/Chicago:20220227T050000
DTEND;TZID=America/Chicago:20220227T060000
DTSTAMP:20260425T193424
CREATED:20220208T011828Z
LAST-MODIFIED:20220208T011925Z
UID:10001305-1645938000-1645941600@www.chicagoculturalalliance.org
SUMMARY:Guided Tour: Swedish American Museum
DESCRIPTION:Dive into the history of Swedish immigration to Chicago with a guided tour of the Swedish American Museum’s permanent exhibit\, “The Dream of America.” Uncover the stories of real immigrants like Karl Karlsson\, who left Sweden with his family in 1893\, or Elin and Birgitta Hedman\, who made the journey in 1924. Learn about what awaited the millions who came to America via Ellis Island and what life was like in Swedish neighborhoods such as Andersonville in Chicago then and now. The tour is free with admissions\, and members are free. Reservations are recommended and can be made via email to museum@samac.org.
URL:https://www.chicagoculturalalliance.org/event/guided-tour/
LOCATION:Swedish American Museum\, 5211 N. Clark St.\, Chicago\, IL\, 60640\, United States
CATEGORIES:Member Events,Workshops and Classes
ATTACH;FMTTYPE=image/jpeg:https://www.chicagoculturalalliance.org/wp-content/uploads/2018/10/36291203_10157050110794714_4243821777467211776_o.jpg
GEO:41.9766451;-87.668015
X-APPLE-STRUCTURED-LOCATION;VALUE=URI;X-ADDRESS=Swedish American Museum 5211 N. Clark St. Chicago IL 60640 United States;X-APPLE-RADIUS=500;X-TITLE=5211 N. Clark St.:geo:-87.668015,41.9766451
END:VEVENT
BEGIN:VEVENT
DTSTART;TZID=America/Chicago:20220228T123000
DTEND;TZID=America/Chicago:20220228T133000
DTSTAMP:20260425T193424
CREATED:20220122T020454Z
LAST-MODIFIED:20220122T020454Z
UID:10001288-1646051400-1646055000@www.chicagoculturalalliance.org
SUMMARY:Virtual Exhibit Tour: "Shanghai: Safe Haven During the Holocaust"
DESCRIPTION:Join a virtual tour of the special exhibition\, Shanghai: Safe Haven During the Holocaust\, and explore the lesser-known stories of European Jewish refugees who escaped Nazism in the Shanghai ghetto. The virtual tour includes a video presentation with Chief Curator of Collections and Exhibitions\, Arielle Weininger\, and a live Q&A moderated by Museum personnel. \nArthur Rothstein\, best-known for his Dust Bowl photography during the Great Depression\, was the recipient of more than three dozen awards in photography and photojournalism throughout his career. One of his lesser-known projects included an assignment photographing the Jewish refugee community in Shanghai during World War II. These photographs – alongside artifacts donated by local Holocaust Survivors who lived in the Shanghai ghetto – are featured in the exhibition. \n  \nA link will be e-mailed to the email address you signed up with at least 24 hours before the scheduled program. \nNon-Members: $10.00 \nMembers: Free \nReservations are required. Members must sign in to take advantage of their member discount.
URL:https://www.chicagoculturalalliance.org/event/virtual-exhibit-tour-shanghai-safe-haven-during-the-holocaust/
LOCATION:Online Event
CATEGORIES:Exhibitions and Gallery Events,Member Events,Online Events
END:VEVENT
BEGIN:VEVENT
DTSTART;TZID=America/Chicago:20220304T130000
DTEND;TZID=America/Chicago:20220304T150000
DTSTAMP:20260425T193424
CREATED:20220215T035835Z
LAST-MODIFIED:20220215T035835Z
UID:10001327-1646398800-1646406000@www.chicagoculturalalliance.org
SUMMARY:Exhibition Opening: Colors of Life
DESCRIPTION:Colors of Life by Elena Diadenko \n  \nElena was born and raised in Ukraine\, and immigrated to the United States in 1992. She received her first art degrees from Myrgorod Ceramics College and Lviv National Academy of Arts in Ukraine. Later\, she received two masters’ degrees in interdisciplinary art and art education from Columbia College in Chicago. She has lived and worked in Chicago for 30 years and currently works at Schurz High School as an art teacher. She teaches Multimedia Art and College Level Art classes.In 2004\, she won a Golden Apple Award for excellence in teaching art. She loves her students and is passionate about teaching them the different aspects of art. She has participated in more than 60 art exhibitions including solo and group shows and art fairs in the Chicagoland area. This is her first solo exhibition at the Ukrainian National Museum. At the show tonight\, visitors will see art works from throughout different periods of her life. Recently\, she is focusing on painting art works that explore invisible aspects of the spiritual world and our desire to see it. In her glass paintings she is trying to preserve Ukrainian folk culture using an ancient Ukrainian technique with black outlines. In her acrylic paintings she combines abstract with figurative styles. Inspiration comes from life around the artist: “The world is so strange\, so attractive\, so multi-faceted- I can’t help but love it. All that I do\, all that I paint\, comes out of this love I feel for the world\, for all that is alive in this world\, for my fellow travelers\, and for God.”
URL:https://www.chicagoculturalalliance.org/event/exhibition-opening-colors-of-life/
LOCATION:Ukrainian National Museum\, 2249 W. Superior St.\, Chicago\, IL\, 60612\, United States
CATEGORIES:Exhibitions and Gallery Events,Member Events
ATTACH;FMTTYPE=image/jpeg:https://www.chicagoculturalalliance.org/wp-content/uploads/2022/02/colors-of-life.jpeg
GEO:41.894571;-87.684031
X-APPLE-STRUCTURED-LOCATION;VALUE=URI;X-ADDRESS=Ukrainian National Museum 2249 W. Superior St. Chicago IL 60612 United States;X-APPLE-RADIUS=500;X-TITLE=2249 W. Superior St.:geo:-87.684031,41.894571
END:VEVENT
BEGIN:VEVENT
DTSTART;TZID=America/Chicago:20220305T110000
DTEND;TZID=America/Chicago:20220305T140000
DTSTAMP:20260425T193424
CREATED:20220224T231503Z
LAST-MODIFIED:20220224T231503Z
UID:10001366-1646478000-1646488800@www.chicagoculturalalliance.org
SUMMARY:Round Dance at AIC
DESCRIPTION:Everyone welcome to the Round Dance at the American Indian Center\, with a feast\, dancing\, singing\, performers\, contests\, vendors\, and more.
URL:https://www.chicagoculturalalliance.org/event/round-dance-at-aic/
LOCATION:American Indian Center\, 3401 West Ainslie Street\, Chicago\, IL\, 60625\, United States
CATEGORIES:Cultural Festivals and Fairs,Dance,Food and Drink,Member Events,Music, Film, and Theater
ATTACH;FMTTYPE=image/jpeg:https://www.chicagoculturalalliance.org/wp-content/uploads/2022/02/AIC-Round-Dance_Mar-2022_V4-scaled.jpg
GEO:41.9699765;-87.7137595
X-APPLE-STRUCTURED-LOCATION;VALUE=URI;X-ADDRESS=American Indian Center 3401 West Ainslie Street Chicago IL 60625 United States;X-APPLE-RADIUS=500;X-TITLE=3401 West Ainslie Street:geo:-87.7137595,41.9699765
END:VEVENT
BEGIN:VEVENT
DTSTART;TZID=America/Chicago:20220305T140000
DTEND;TZID=America/Chicago:20220305T160000
DTSTAMP:20260425T193424
CREATED:20220215T013422Z
LAST-MODIFIED:20220215T013422Z
UID:10001317-1646488800-1646496000@www.chicagoculturalalliance.org
SUMMARY:Somos La Plena
DESCRIPTION:A Chicago celebration of the life and legacy of Tito Matos\n\n\n\n\n\nAbout this event\n\n\nOn January 18\, 2022 the Puerto Rican cultural community was shocked by the news of the sudden departure of musical giant Tito Matos. After an extensive career as a master percussionist\, teacher and bandleader of Viento de Agua and La Máquina Insular\, Tito left a strong legacy of community work and cultural preservation in Puerto Rico and abroad. \nHis time living in New York\, as well as his relationship with Chicago’s musicians and cultural institutions allowed him to deepen his roots in the diaspora. He was a teacher\, mentor and friend for hundreds of plena practitioners across the globe. \nSRBCC is proud to partner with Tito’s closest friends from Puerto Rico and Chicago\, including Lagarto Figueroa\, Llonsi Martínez\, Ricardo Pons\, Noel Rosado\, Emanuel Santana (Puerto Rico)\, Ivelisse Díaz (La Escuelita Bombera de Corazón)\, Bomba con Buya \, Las Bompleneras and Los Pleneros de Don Segundo (Chicago) to celebrate his enduring legacy\, raise funds for La Casa de la Plena Tito Matos\, and establish a new scholarship for Chicago’s creative youth in his honor. \nJoin us in this Chicago celebration of the Life and Legacy of Héctor “Tito” Matos.
URL:https://www.chicagoculturalalliance.org/event/somos-la-plena/
LOCATION:Segundo Ruiz Belvis Cultural Center\, 4046 W. Armitage Ave.\, Chicago\, IL\, 60639\, United States
CATEGORIES:Member Events,Music, Film, and Theater
ATTACH;FMTTYPE=image/jpeg:https://www.chicagoculturalalliance.org/wp-content/uploads/2022/02/somos-la-plena.jpeg
GEO:41.91729;-87.7283967
X-APPLE-STRUCTURED-LOCATION;VALUE=URI;X-ADDRESS=Segundo Ruiz Belvis Cultural Center 4046 W. Armitage Ave. Chicago IL 60639 United States;X-APPLE-RADIUS=500;X-TITLE=4046 W. Armitage Ave.:geo:-87.7283967,41.91729
END:VEVENT
END:VCALENDAR