BEGIN:VCALENDAR
VERSION:2.0
PRODID:-//Chicago Cultural Alliance - ECPv6.15.20//NONSGML v1.0//EN
CALSCALE:GREGORIAN
METHOD:PUBLISH
X-ORIGINAL-URL:https://www.chicagoculturalalliance.org
X-WR-CALDESC:Events for Chicago Cultural Alliance
REFRESH-INTERVAL;VALUE=DURATION:PT1H
X-Robots-Tag:noindex
X-PUBLISHED-TTL:PT1H
BEGIN:VTIMEZONE
TZID:America/Chicago
BEGIN:DAYLIGHT
TZOFFSETFROM:-0600
TZOFFSETTO:-0500
TZNAME:CDT
DTSTART:20210314T080000
END:DAYLIGHT
BEGIN:STANDARD
TZOFFSETFROM:-0500
TZOFFSETTO:-0600
TZNAME:CST
DTSTART:20211107T070000
END:STANDARD
BEGIN:DAYLIGHT
TZOFFSETFROM:-0600
TZOFFSETTO:-0500
TZNAME:CDT
DTSTART:20220313T080000
END:DAYLIGHT
BEGIN:STANDARD
TZOFFSETFROM:-0500
TZOFFSETTO:-0600
TZNAME:CST
DTSTART:20221106T070000
END:STANDARD
BEGIN:DAYLIGHT
TZOFFSETFROM:-0600
TZOFFSETTO:-0500
TZNAME:CDT
DTSTART:20230312T080000
END:DAYLIGHT
BEGIN:STANDARD
TZOFFSETFROM:-0500
TZOFFSETTO:-0600
TZNAME:CST
DTSTART:20231105T070000
END:STANDARD
END:VTIMEZONE
BEGIN:VEVENT
DTSTART;TZID=America/Chicago:20220429T090000
DTEND;TZID=America/Chicago:20220505T170000
DTSTAMP:20260425T150151
CREATED:20220420T175146Z
LAST-MODIFIED:20220420T175146Z
UID:10001472-1651222800-1651770000@www.chicagoculturalalliance.org
SUMMARY:Resonance of Color and Line\, 'Gyeol' by Hyelim Kim
DESCRIPTION:Fashion Artist\, Hyelim Kim exhibition of traditional and modernity garment constructed using the techniques of the Korean traditional hanbok sewing known as\, Kkaekki\, using the Western textile of wool silk\, cotton silk\, and Korean textile of Korean silk\, silk organza and dupioni silk. Opening Reception is April 30 at 2pm.
URL:https://www.chicagoculturalalliance.org/event/resonance-of-color-and-line-gyeol-by-hyelim-kim/
LOCATION:Korean Cultural Center of Chicago\, 9925 Capitol Dr\, Wheeling\, IL\, United States
CATEGORIES:Alliance Events,Exhibitions and Gallery Events,Member Events,Online Events
ATTACH;FMTTYPE=image/gif:https://www.chicagoculturalalliance.org/wp-content/uploads/2022/04/TalkMedia_i_d76805cea3f2.gif
GEO:42.1107829;-87.9082415
X-APPLE-STRUCTURED-LOCATION;VALUE=URI;X-ADDRESS=Korean Cultural Center of Chicago 9925 Capitol Dr Wheeling IL United States;X-APPLE-RADIUS=500;X-TITLE=9925 Capitol Dr:geo:-87.9082415,42.1107829
END:VEVENT
END:VCALENDAR