BEGIN:VCALENDAR
VERSION:2.0
PRODID:-//Chicago Cultural Alliance - ECPv6.15.20//NONSGML v1.0//EN
CALSCALE:GREGORIAN
METHOD:PUBLISH
X-ORIGINAL-URL:https://www.chicagoculturalalliance.org
X-WR-CALDESC:Events for Chicago Cultural Alliance
REFRESH-INTERVAL;VALUE=DURATION:PT1H
X-Robots-Tag:noindex
X-PUBLISHED-TTL:PT1H
BEGIN:VTIMEZONE
TZID:America/Chicago
BEGIN:DAYLIGHT
TZOFFSETFROM:-0600
TZOFFSETTO:-0500
TZNAME:CDT
DTSTART:20210314T080000
END:DAYLIGHT
BEGIN:STANDARD
TZOFFSETFROM:-0500
TZOFFSETTO:-0600
TZNAME:CST
DTSTART:20211107T070000
END:STANDARD
BEGIN:DAYLIGHT
TZOFFSETFROM:-0600
TZOFFSETTO:-0500
TZNAME:CDT
DTSTART:20220313T080000
END:DAYLIGHT
BEGIN:STANDARD
TZOFFSETFROM:-0500
TZOFFSETTO:-0600
TZNAME:CST
DTSTART:20221106T070000
END:STANDARD
BEGIN:DAYLIGHT
TZOFFSETFROM:-0600
TZOFFSETTO:-0500
TZNAME:CDT
DTSTART:20230312T080000
END:DAYLIGHT
BEGIN:STANDARD
TZOFFSETFROM:-0500
TZOFFSETTO:-0600
TZNAME:CST
DTSTART:20231105T070000
END:STANDARD
END:VTIMEZONE
BEGIN:VEVENT
DTSTART;TZID=America/Chicago:20220616T180000
DTEND;TZID=America/Chicago:20220616T190000
DTSTAMP:20260425T150200
CREATED:20220614T181040Z
LAST-MODIFIED:20220614T181821Z
UID:10001551-1655402400-1655406000@www.chicagoculturalalliance.org
SUMMARY:Artecito Virtual - Ajolote
DESCRIPTION:¡Los Ajolotes son anfibios que comienzan su ciclo de vida de huevo-larva-adulto en el agua y pasan por la metamorfosis y se mudan a la tierra cuando son adultos!\n¡Únase a nosotros mientras exploramos más sobre los Ajolotes con nuestros amigos en Lincoln Park Zoo!\nConéctate aquí: https://bit.ly/ArtecitoAjolote\n_______________\nAxolotls are amphibians that begin their egg-larva-adult life cycle in water and go through metamorphosis and move to land when adults!\nJoin us as we explore more about Axolotls with our friends at Lincoln Park Zoo!\nConnect here: https://bit.ly/ArtecitoAjolote
URL:https://www.chicagoculturalalliance.org/event/artecito-virtual-ajolote/
LOCATION:Online Event
CATEGORIES:Member Events,Online Events
ATTACH;FMTTYPE=image/jpeg:https://www.chicagoculturalalliance.org/wp-content/uploads/2022/06/AJOLOTE-FB-PROMO-scaled.jpg
END:VEVENT
BEGIN:VEVENT
DTSTART;TZID=America/Chicago:20220617T130000
DTEND;TZID=America/Chicago:20220618T220000
DTSTAMP:20260425T150200
CREATED:20220312T044146Z
LAST-MODIFIED:20220414T190251Z
UID:10001393-1655470800-1655589600@www.chicagoculturalalliance.org
SUMMARY:2022 Scottish Festival & Highland Games
DESCRIPTION:The CHICAGO SCOTS invite you to join us for the Midwest’s Largest Scottish Event\, the 36th annual Scottish Festival & Highland Games.\n\n\n\n\n\nAbout this event\n\n\nKids enter for FREE for the much anticipated return of the 36th Annual Scottish Festival & Highland Games features an extravaganza of activities and attractions – from the Caber Toss to Highland Dancing to the Dogs of Scotland. This outdoor family-friendly event is a chance to explore Scottish culture without buying a plane ticket. Plus\, all proceeds benefit the staff and residents of Caledonia Senior Living & Memory Care as the primary charity of Chicago Scots\, the oldest not-for-profit in Illinois. \nPurchase your tickets in advance & online. Ticket prices will be higher at the gate. \nParking passes are NOT available online. \nParking must be purchased at the festival. Festival weekend packages excluded. Single Day parking pass $5.00\, Two-Day parking pass $8.00. \nFestival Hours: Friday 1:00 pm to 10:00 pm and Saturday 8:00 am to 10:00 pm \nPATRONS PASS – (FRIDAY & SATURDAY) \nOne Adult (over 21) –  Ultimate fans of the Highland Games will enjoy the hospitality\, access\, and special features Patron Passes provide. Includes: admission to festival both days\, premier parking\, complimentary food and beverage service at the Patron’s Tent\, special whisky tastings\, meet and greet with athletes. \nFamily Pass – Add your family with this ultimate package. Includes: admission for two adults and two youth/children both days of the festival\, premier parking\, complimentary food and beverage service at the Patron’s Tent\, special whisky tastings\, meet and greet with athletes. \nVisit www.chicagoscots.org for complete festival schedule. \nContact info@chicagoscots.org for questions. \nCheers!
URL:https://www.chicagoculturalalliance.org/event/2022-scottish-festival-highland-games/
LOCATION:Hamilton Lakes\, Park Blvd. & Pierce Road\, Itasca\, IL\, 60143\, United States
CATEGORIES:Cultural Festivals and Fairs,Food and Drink,Member Events,Sporting Events
ATTACH;FMTTYPE=image/jpeg:https://www.chicagoculturalalliance.org/wp-content/uploads/2022/03/Highland-Games-Announcement.jpeg
GEO:41.9910441;-88.0203757
X-APPLE-STRUCTURED-LOCATION;VALUE=URI;X-ADDRESS=Hamilton Lakes Park Blvd. & Pierce Road Itasca IL 60143 United States;X-APPLE-RADIUS=500;X-TITLE=Park Blvd. & Pierce Road:geo:-88.0203757,41.9910441
END:VEVENT
BEGIN:VEVENT
DTSTART;TZID=America/Chicago:20220617T150000
DTEND;TZID=America/Chicago:20220617T161500
DTSTAMP:20260425T150200
CREATED:20220614T201626Z
LAST-MODIFIED:20220614T201626Z
UID:10001561-1655478000-1655482500@www.chicagoculturalalliance.org
SUMMARY:From Slavery to Justice: the Ongoing Journey
DESCRIPTION:“From Slavery to Justice: the Ongoing Journey” uses music to tell stories of African-American liberation. To celebrate Juneteenth\, a historic date that commemorates the emancipation of enslaved people\, Crossing Borders Music commissioned new music of The Honourable Elizabeth A. Baker\, Jordyn Davis\, and Jessica T. Carter. \nBe one of the first people to hear their amazing works! The program will also include “Lead Me Home” by Brittany J. Green based on the hymn “Precious Lord” famously sung by Mahalia Jackson\, and the 2021 revised version of String Quartet No. 1 by AJ Isaacson-Zvidzwa. The program will be the subject of a short documentary by Chicago filmmaker Rubye Lane\, and is the brainchild of Crossing Borders Music board member and Strategic Planning Committee Chair Marjorie Adam Clark\, who is also co-chair of the Forest Park Juneteenth Committee and Illinois Juneteenth Committee. Juneteenth\, Marjorie says\, is “a holiday of racial healing.”\nView the event on the library website at http://skokielibrary.info/…/the-ongoing-journey-from… \nThis program is presented by the Skokie Public Library. The program is supported in part by a grant from the National Endowment for the Arts.\nThis program is made possible in part by the Paul M Angell Family Foundation.\nCrossing Borders Music acknowledges support from the Illinois Arts Council Agency. \n 
URL:https://www.chicagoculturalalliance.org/event/from-slavery-to-justice-the-ongoing-journey/
LOCATION:Skokie Public Library\, 5215 Oakton St\, Skokie\, IL\, United States
CATEGORIES:Member Events,Music, Film, and Theater
ATTACH;FMTTYPE=image/jpeg:https://www.chicagoculturalalliance.org/wp-content/uploads/2022/06/283990271_5439244672776754_6916953433528315865_n.jpg
GEO:42.0257452;-87.7581893
X-APPLE-STRUCTURED-LOCATION;VALUE=URI;X-ADDRESS=Skokie Public Library 5215 Oakton St Skokie IL United States;X-APPLE-RADIUS=500;X-TITLE=5215 Oakton St:geo:-87.7581893,42.0257452
END:VEVENT
BEGIN:VEVENT
DTSTART;TZID=America/Chicago:20220618T120000
DTEND;TZID=America/Chicago:20220618T160000
DTSTAMP:20260425T150201
CREATED:20220614T211434Z
LAST-MODIFIED:20220614T211434Z
UID:10001563-1655553600-1655568000@www.chicagoculturalalliance.org
SUMMARY:JUNETEENTH AT THE HOUSE
DESCRIPTION:SSCAC CELEBRATES JUNETEENTH WITH MUSIC\, POETRY\, COMEDY\, AND FAMILY ART MAKING ACTIVATIONS – FREE AND OPEN TO THE PUBLIC! \nFAMILY ART MAKING ACTIVITIES: 12 – 2PM  \n*POLAROID PHOTO ACTIVATION \n*CYANOTYPE ACTIVATION \n*LIMITED EDITION TOTE BAG LAUNCH FEATURING THE WORK OF ARTIST BRANDON BREAUX \n*PRINT WORKS BY ARTIST ERIC VON HAYNES \n*PHOTO ACTIVATION WITH ARTIST CATALYST CECIL MCDONALD JR.: 1:30 – 4PM  \nWE’RE THRILLED TO HOST DJ DUANE POWELL\, POET RESITA COX\, ARTIST CATALYST CECIL MCDONALD JR. AND COMEDIANS MAX THOMAS & ARLIETA HALL! \n 
URL:https://www.chicagoculturalalliance.org/event/juneteenth-at-the-house/
LOCATION:South Side Community Art Center\, 3831 S. Michigan Ave.\, Chicago\, IL\, 60653\, United States
CATEGORIES:Cultural Festivals and Fairs,Member Events,Music, Film, and Theater,Talks and Gatherings,Workshops and Classes
ATTACH;FMTTYPE=image/png:https://www.chicagoculturalalliance.org/wp-content/uploads/2022/06/NEW-POSTER-1-1536x2048-1.png
GEO:41.8245972;-87.6227065
X-APPLE-STRUCTURED-LOCATION;VALUE=URI;X-ADDRESS=South Side Community Art Center 3831 S. Michigan Ave. Chicago IL 60653 United States;X-APPLE-RADIUS=500;X-TITLE=3831 S. Michigan Ave.:geo:-87.6227065,41.8245972
END:VEVENT
BEGIN:VEVENT
DTSTART;TZID=America/Chicago:20220618T180000
DTEND;TZID=America/Chicago:20220618T220000
DTSTAMP:20260425T150201
CREATED:20220411T214742Z
LAST-MODIFIED:20220411T214742Z
UID:10001449-1655575200-1655589600@www.chicagoculturalalliance.org
SUMMARY:Chinese American Museum of Chicago's 21st Benefit Dinner
DESCRIPTION:The Chinatown Museum Foundation is hosting its 21st Benefit Dinner to raise funds for the Chinese American Museum of Chicago (CAMOC). Our theme this year is “Our History\, Our Culture\, Our Voice”. Please join us for this night of performances\, raffle\, authentic Chinese food\, cash bar\, and much more! \n\nAs a nonprofit\, CAMOC relies solely on sponsorships\, donations\, and memberships to put on exhibitions and public programs. Your participation in this event will go a long way to support our mission to promote the culture and history – through exhibitions\, educational\, and research – of Chinese Americans in the Midwest. Each year we raise money to ensure we continue to preserve our cultural heritage and history. The funds raised will go towards quality exhibitions and public programming.\n\nPurchase tickets here or by contacting the Museum at office@ccamuseum.org or (312) 949-1000.\n\nChinatown Museum Foundation is a non-profit organization with IRS 501(c)(3) tax exempt status. Contributions are tax deductible to the extent permitted by law.
URL:https://www.chicagoculturalalliance.org/event/chinese-american-museum-of-chicagos-21st-benefit-dinner/
LOCATION:New Furama Restaurant\, 2828 South Wentworth Avenue\, Chicago\, IL\, 60616\, United States
CATEGORIES:Food and Drink,Member Events,Talks and Gatherings
ATTACH;FMTTYPE=image/png:https://www.chicagoculturalalliance.org/wp-content/uploads/2022/04/21st-Benefit-Dinner-Flyer-for-Socials.png
GEO:41.8417516;-87.6321462
X-APPLE-STRUCTURED-LOCATION;VALUE=URI;X-ADDRESS=New Furama Restaurant 2828 South Wentworth Avenue Chicago IL 60616 United States;X-APPLE-RADIUS=500;X-TITLE=2828 South Wentworth Avenue:geo:-87.6321462,41.8417516
END:VEVENT
END:VCALENDAR