BEGIN:VCALENDAR
VERSION:2.0
PRODID:-//Chicago Cultural Alliance - ECPv6.15.20//NONSGML v1.0//EN
CALSCALE:GREGORIAN
METHOD:PUBLISH
X-ORIGINAL-URL:https://www.chicagoculturalalliance.org
X-WR-CALDESC:Events for Chicago Cultural Alliance
REFRESH-INTERVAL;VALUE=DURATION:PT1H
X-Robots-Tag:noindex
X-PUBLISHED-TTL:PT1H
BEGIN:VTIMEZONE
TZID:America/Chicago
BEGIN:DAYLIGHT
TZOFFSETFROM:-0600
TZOFFSETTO:-0500
TZNAME:CDT
DTSTART:20210314T080000
END:DAYLIGHT
BEGIN:STANDARD
TZOFFSETFROM:-0500
TZOFFSETTO:-0600
TZNAME:CST
DTSTART:20211107T070000
END:STANDARD
BEGIN:DAYLIGHT
TZOFFSETFROM:-0600
TZOFFSETTO:-0500
TZNAME:CDT
DTSTART:20220313T080000
END:DAYLIGHT
BEGIN:STANDARD
TZOFFSETFROM:-0500
TZOFFSETTO:-0600
TZNAME:CST
DTSTART:20221106T070000
END:STANDARD
BEGIN:DAYLIGHT
TZOFFSETFROM:-0600
TZOFFSETTO:-0500
TZNAME:CDT
DTSTART:20230312T080000
END:DAYLIGHT
BEGIN:STANDARD
TZOFFSETFROM:-0500
TZOFFSETTO:-0600
TZNAME:CST
DTSTART:20231105T070000
END:STANDARD
END:VTIMEZONE
BEGIN:VEVENT
DTSTART;VALUE=DATE:20220715
DTEND;VALUE=DATE:20220925
DTSTAMP:20260425T114720
CREATED:20220712T185517Z
LAST-MODIFIED:20220712T185947Z
UID:10001618-1657843200-1664063999@www.chicagoculturalalliance.org
SUMMARY:Exhibition: …of the land: acts of refusal and ratification
DESCRIPTION:A three-person exhibition featuring new and recent works from Chicago-based artists Ajmal ‘Mas Man’ Millar\, Lola Ayisha Ogbara\, and R. Treshawn Williamson exploring homeplace through sculpture\, self-imaging\, & materialism.  \n\n\n…of the land: acts of refusal and ratification features new and recent works from Chicago-based artists Ajmal ‘Mas Man’ Millar\, Lola Ayisha Ogbara\, and R. Treshawn Williamson exploring sculpture\, self-imaging and history through postcolonial lenses\, collective & individual recollection and peculiar materialism. Their use of storytelling holds significance for spatiality and locality to become common ground through the fielding of land\, labor and industry. \nAjmal ‘Mas Man’ Millar expands the sculptural form welding metal\, Trinidadian carnival culture and identity politics alongside the African diaspora. Lola Ayisha Ogbara merges West African and African American interior design aesthetics with bodily sculptural ceramic forms\, with performative photography – that rest and refuse a Western gaze. \nR. Treshawn Williamson creates historical context for his own familial roots in the mining of charcoal material for large scale screen-printed tapestries in a careful consideration of laborious processes as praxis. Millar\, Ogbara and Williamson engage in practices that consider topographic timelines and performance as an essential tool making for an interesting dialogue about homeplace. \n_______________ \n\n\nAjmal ‘MAS MAN’ Millar is a self-taught contemporary visual artist and mas man (carnival costume designer). His work includes mixed–media sculpture that combine collage\, painting\, repurposed materials\, scrap metal\, performance\, and photography interrogating notions of cultural heritage\, sexual and gender identity\, and ritual practices as a first-generation African American black queer man born to Trinidadian immigrants. Ajmal earned an undergraduate degree from Morehouse College in 2008 and earned an MFA from The School of the Art Institute of Chicago in 2021. \n“I am working on a collection of works engaging the Yoruba cosmological concept of Chi and its existence in everything\, alive or inorganic. I create amalgamations of found objects and scraps of steel combined with encaustic. Inspired from my carnival technique of ‘wire bending’\, Afrofuturism\, and Afro Surrealism\, I have an opportunity to express my emotions and thoughts as experienced in the various environments I collect from and exist in. My welding is drawing in space to depict the transcendent properties in masquerade. My goal is to contextualize a queer blackness rarely experienced through imagination\, invention\, and the investigation of dreams\, magic\, and ritual.” \nHe currently lives and works in Chicago\, IL. \n\n\n\n\nLola Ayisha Ogbara (cultural worker & artist) born and raised in Chicago\, Illinois holds many talents under her belt\, i.e. sculpture\, sound\, design\, photography and installation art. \n“My practice explores the multifaceted implications and ramifications of being in regards to the Black experience. I work with clay as a material in order to emphasize a necessary fragility which symbolizes an essential contradiction implicit in empowerments.” \nOgbara holds a Bachelor of Arts in Arts Entertainment & Media Management from Columbia College Chicago in 2013 and a MFA in Visual Arts from Washington University Sam Fox School of Art & Design. \nIn 2017\, Ogbara co-founded Artists in the Room\, a collective of artists and scholars who host artists\, emerging and established\, in hopes of serving as a catalyst for artist development and networking. Ogbara has also received numerous fellowships and awards\, including the Multicultural Fellowship sponsored by the NCECA 52nd Annual Conference\, the Arts + Public Life and Center for the Study of Race\, Politics & Culture Residency at the University of Chicago\, and the Coney Family Fund Award hosted by the Chicago Artists Coalition. Ogbara has exhibited in art spaces across the country and is currently based in Chicago\, IL. \n\n\n\n\nR. Treshawn Williamson is a Chicago based essayist and multidisciplinary artist of Black American descent\, from Prince George’s County\, MD\, by way of Livingston\, Alabama\, and Augusta\, Georgia. \nWilliamson’s work is a meditation on the obstruction and surveillance of the lived histories of African-Americans. He investigates the application of cultural re-imagination in the African Diaspora through the engagement of oral histories\, post-colonial theory\, folklore\, and ethnomusicology. In 2020 Williamson earned his BFA from the School of the Art Institute of Chicago. \nHe currently lives and works in Chicago\, IL.
URL:https://www.chicagoculturalalliance.org/event/exhibition-of-the-land-acts-of-refusal-and-ratification/
LOCATION:South Side Community Art Center\, 3831 S. Michigan Ave.\, Chicago\, IL\, 60653\, United States
CATEGORIES:Exhibitions and Gallery Events,Member Events
ATTACH;FMTTYPE=image/jpeg:https://www.chicagoculturalalliance.org/wp-content/uploads/2022/07/APL_LolaOgbara_PerformancePhotos_Large_2202-1-scaled-e1657041442234.jpg
GEO:41.8245972;-87.6227065
X-APPLE-STRUCTURED-LOCATION;VALUE=URI;X-ADDRESS=South Side Community Art Center 3831 S. Michigan Ave. Chicago IL 60653 United States;X-APPLE-RADIUS=500;X-TITLE=3831 S. Michigan Ave.:geo:-87.6227065,41.8245972
END:VEVENT
BEGIN:VEVENT
DTSTART;VALUE=DATE:20220806
DTEND;VALUE=DATE:20221211
DTSTAMP:20260425T114720
CREATED:20220719T213700Z
LAST-MODIFIED:20220719T213700Z
UID:10001635-1659744000-1670716799@www.chicagoculturalalliance.org
SUMMARY:Exhibition: “Unbearable Memories\, Unspeakable Histories”: Partition Anti-Memorial Project
DESCRIPTION:Through experiential art installations “Unbearable Memories\, Unspeakable Histories” investigates the Partition of India in 1947. \n\n\n\n\n\nThis year marks 75 years since the Partition of India in 1947\, which created Pakistan\, and eventually\, Bangladesh in 1971. Pritika Chowdhry’s experiential art installations are temporary ‘anti-memorials’ to the Partition. \nOften described as the Holocaust of South Asia\, the Partition triggered the largest migration in human history with over 20 million people displaced\, approximately 2 million killed and over 300\,000 women were abducted in the communal violence that ensued. \nThe exhibition addresses the many facets of the Partition from a counter-memory perspective through experiential art installations. The title alludes to the painful and silenced narratives that have been elided from mainstream discourses of the Partition. \nWhen a memory is unbearable\, how does one memorialize it? And when a history is unspeakable\, how does one talk about it? The exhibition’s title\, “Unbearable Memories\, Unspeakable Histories” alludes to the painful and silenced narratives that have been excluded from mainstream discourses of the Partition. \n\n_______________ \nARTIST LED TOURS AT 1PM EVERY OTHER SATURDAY! \nSep 3 and 17 | Oct 01\, 15 and 29 | Nov 12 | Dec 10
URL:https://www.chicagoculturalalliance.org/event/exhibition-unbearable-memories-unspeakable-histories-partition-anti-memorial-project/
LOCATION:South Asia Institute\, 1925 South Michigan Avenue\, Chicago\, IL\, 60616\, United States
CATEGORIES:Exhibitions and Gallery Events,Member Events
ATTACH;FMTTYPE=image/jpeg:https://www.chicagoculturalalliance.org/wp-content/uploads/2022/07/Screenshot-2022-07-19-163214.jpg
GEO:41.8558642;-87.6234583
X-APPLE-STRUCTURED-LOCATION;VALUE=URI;X-ADDRESS=South Asia Institute 1925 South Michigan Avenue Chicago IL 60616 United States;X-APPLE-RADIUS=500;X-TITLE=1925 South Michigan Avenue:geo:-87.6234583,41.8558642
END:VEVENT
BEGIN:VEVENT
DTSTART;TZID=America/Chicago:20220807T110000
DTEND;TZID=America/Chicago:20220807T110000
DTSTAMP:20260425T114720
CREATED:20220802T193945Z
LAST-MODIFIED:20220802T193945Z
UID:10001653-1659870000-1659870000@www.chicagoculturalalliance.org
SUMMARY:Cambodian Museum Mahori Ensemble at Destination Asia Festival
DESCRIPTION:The National Cambodian Heritage Museu’s mahori ensemble will perform Cambodian classics at the Destination Asia Festival at the Morton Arboretum. At their invitation\, our Crossing Borders Music cellist Tom Clowes will play in the ensemble. The mahori musicians will also be performing Saturday\, August 6 in the afternoon. \n_________________ \nCheck out http://mortonarb.org/…/destination-asia-festival/… for complete festival information.\nThe event is free with admission to the Morton Arboretum. Admission tickets and information are available at buy.acmeticketing.com/events/480/list
URL:https://www.chicagoculturalalliance.org/event/cambodian-museum-mahori-ensemble-at-destination-asia-festival/
LOCATION:Morton Arboretum\, 4100 Illinois Route 53\, Lisle\, IL\, 60532\, United States
CATEGORIES:Member Events,Music, Film, and Theater
ATTACH;FMTTYPE=image/jpeg:https://www.chicagoculturalalliance.org/wp-content/uploads/2022/08/295131267_5617674108267142_8035413662669276801_n.jpg
GEO:41.8144504;-88.0708838
X-APPLE-STRUCTURED-LOCATION;VALUE=URI;X-ADDRESS=Morton Arboretum 4100 Illinois Route 53 Lisle IL 60532 United States;X-APPLE-RADIUS=500;X-TITLE=4100 Illinois Route 53:geo:-88.0708838,41.8144504
END:VEVENT
BEGIN:VEVENT
DTSTART;TZID=America/Chicago:20220807T143000
DTEND;TZID=America/Chicago:20220807T180000
DTSTAMP:20260425T114720
CREATED:20220719T220412Z
LAST-MODIFIED:20220719T221019Z
UID:10001639-1659882600-1659895200@www.chicagoculturalalliance.org
SUMMARY:Viva Latinoamerica
DESCRIPTION:Join Us for an evening of music by Gustavo Cortiñas’ Desafío Candente\, Roy McGrath’s Menjunje and Radio Free Honduras celebrating the music of Mexico\, Puerto Rico\, and Honduras! Bring your lawn chair\, beverages and snacks while you enjoy this cultural experience. Please no pets. \nFree parking available across the street at the US Bank Employee Lot
URL:https://www.chicagoculturalalliance.org/event/viva-latinoamerica/
LOCATION:Puerto Rican Arts Alliance\, 3000 N Elbridge Ave\, Chicago\, IL\, 60618\, United States
CATEGORIES:Member Events,Music, Film, and Theater
ATTACH;FMTTYPE=image/jpeg:https://www.chicagoculturalalliance.org/wp-content/uploads/2022/07/poster_board_vivalatinoamerica_4.jpg
GEO:41.9355781;-87.7171295
X-APPLE-STRUCTURED-LOCATION;VALUE=URI;X-ADDRESS=Puerto Rican Arts Alliance 3000 N Elbridge Ave Chicago IL 60618 United States;X-APPLE-RADIUS=500;X-TITLE=3000 N Elbridge Ave:geo:-87.7171295,41.9355781
END:VEVENT
BEGIN:VEVENT
DTSTART;TZID=America/Chicago:20220809T180000
DTEND;TZID=America/Chicago:20220809T190000
DTSTAMP:20260425T114720
CREATED:20220802T200702Z
LAST-MODIFIED:20220802T200702Z
UID:10001655-1660068000-1660071600@www.chicagoculturalalliance.org
SUMMARY:Virtual Artist Discussion with Justin Gauthier
DESCRIPTION:Join us for our artist discussion about their work and who they are as artists. There will be a live Q&A at the end of each discussion.\nJustin Gauthier – A proud citizen of the Menominee (Omāēqnomenēw) Nation of Wisconsin\, writer/actor Justin “Jud” Eagle Gauthier studied at the Institute of American Indian Arts in Santa Fe\, New Mexico\, where he earned an M.F.A. in screenwriting. Jud provides audiences across the nation a wholly unique worldview as an indigenous cultural ambassador with undeniable pop culture acuity. Jud would like to say wāēwāēnan (thank you) to all his family\, friends\, cast mates\, crew\, and audiences for helping him to become a better storyteller.\n_______________\n\nThis is a free virtual discussion series open to our members\, friends\, and visitors. As we continue to work on developing more programs\, please consider donating to the museum. https://mitchellmuseum.org/donate/\nWe want to thank each one of our featured artists as well as our sponsor. This artist’s program was generously funded in part by Evanston Arts Council.\nFor more information about this program\, please contact: info@mitchellmuseum.org\n(847) 475-1030 | www.mitchellmuseum.org/events/
URL:https://www.chicagoculturalalliance.org/event/virtual-artist-discussion-with-justin-gauthier/
LOCATION:Online Event
CATEGORIES:Member Events,Talks and Gatherings
ATTACH;FMTTYPE=image/png:https://www.chicagoculturalalliance.org/wp-content/uploads/2022/08/8.2022-Virtual-Artist-Discussion-eventbrite.png
END:VEVENT
BEGIN:VEVENT
DTSTART;TZID=America/Chicago:20220811T180000
DTEND;TZID=America/Chicago:20220811T190000
DTSTAMP:20260425T114720
CREATED:20220802T202330Z
LAST-MODIFIED:20220802T202330Z
UID:10001658-1660240800-1660244400@www.chicagoculturalalliance.org
SUMMARY:Artecito Virtual - Lagartos
DESCRIPTION:El lagarto más pequeño del mundo mide solo 16 mm de largo (lagarto de Jaragua) y puede caber en la longitud de una moneda de veinticinco centavos. El más grande mide unos 10 pies de largo (Komodo).\n¡Únase a nosotros mientras exploramos más sobre los lagartos con nuestros amigos en Lincoln Park Zoo!\nContáctese aquí:\nhttps://bit.ly/ArtecitoLagarto\n____________________________________\nThe smallest lizard in the world is just 16 mm long (Jaragua Lizard) it can fit in the length of a US quarter. The biggest is about 10 ft long (Komodo).\nJoin us as we explore more about Lizards with our friends at Lincoln Park Zoo!\nContect Here:\nhttps://bit.ly/ArtecitoLagarto
URL:https://www.chicagoculturalalliance.org/event/artecito-virtual-lagartos/
LOCATION:Online Event
CATEGORIES:Member Events,Online Events
ATTACH;FMTTYPE=image/jpeg:https://www.chicagoculturalalliance.org/wp-content/uploads/2022/08/295405895_5439215429506201_6032389618624455940_n.jpg
END:VEVENT
BEGIN:VEVENT
DTSTART;TZID=America/Chicago:20220811T190000
DTEND;TZID=America/Chicago:20220811T230000
DTSTAMP:20260425T114720
CREATED:20220802T205658Z
LAST-MODIFIED:20220802T205658Z
UID:10001663-1660244400-1660258800@www.chicagoculturalalliance.org
SUMMARY:Neighborhood Nights
DESCRIPTION:COME ENJOY A BEVERAGE WITH A SPECTACULAR EXPERIENCE IN OUR ICONIC 6TH FLOOR SKYLINE LOUNGE & TERRACE \nA perfect place to meet your neighbors and socialize! \nEach 2nd & 4th Thursday of the month from 7-11 PM. Proceeds support the DANK Haus Museum
URL:https://www.chicagoculturalalliance.org/event/neighborhood-nights-9/2022-08-11/
LOCATION:DANK Haus German American Cultural Center\, 4740 N. Western Ave.\, Chicago\, IL\, 60625\, United States
CATEGORIES:Food and Drink,Member Events
ATTACH;FMTTYPE=image/jpeg:https://www.chicagoculturalalliance.org/wp-content/uploads/2022/08/277367374_10159980304874455_1095348768595203589_n.jpg
GEO:41.9680013;-87.6890642
X-APPLE-STRUCTURED-LOCATION;VALUE=URI;X-ADDRESS=DANK Haus German American Cultural Center 4740 N. Western Ave. Chicago IL 60625 United States;X-APPLE-RADIUS=500;X-TITLE=4740 N. Western Ave.:geo:-87.6890642,41.9680013
END:VEVENT
BEGIN:VEVENT
DTSTART;TZID=America/Chicago:20220812T113000
DTEND;TZID=America/Chicago:20220812T150000
DTSTAMP:20260425T114720
CREATED:20220719T213136Z
LAST-MODIFIED:20220728T170920Z
UID:10001629-1660303800-1660316400@www.chicagoculturalalliance.org
SUMMARY:Pop-Up Café at the Swedish American Museum
DESCRIPTION:Pop by the Museum today or tomorrow for fika in our main gallery space on the first floor. Enjoy some Swedish coffee and cinnamon rolls while you relax and enjoy the photos of famous Blues musicians taken by Hans Ekestang or go outside and sit in our courtyard. \nWe will be having weekly Pop-Up Cafés every Friday and Saturday through now and August.
URL:https://www.chicagoculturalalliance.org/event/pop-up-cafe-at-the-swedish-american-museum/2022-08-12/
LOCATION:Swedish American Museum\, 5211 N. Clark St.\, Chicago\, IL\, 60640\, United States
CATEGORIES:Food and Drink,Member Events,Music, Film, and Theater
ATTACH;FMTTYPE=image/png:https://www.chicagoculturalalliance.org/wp-content/uploads/2022/07/294038682_10161307694499714_5108890385138874464_n.png
GEO:41.9766451;-87.668015
X-APPLE-STRUCTURED-LOCATION;VALUE=URI;X-ADDRESS=Swedish American Museum 5211 N. Clark St. Chicago IL 60640 United States;X-APPLE-RADIUS=500;X-TITLE=5211 N. Clark St.:geo:-87.668015,41.9766451
END:VEVENT
BEGIN:VEVENT
DTSTART;TZID=America/Chicago:20220812T190000
DTEND;TZID=America/Chicago:20220812T200000
DTSTAMP:20260425T114720
CREATED:20220802T210359Z
LAST-MODIFIED:20220802T210359Z
UID:10001672-1660330800-1660334400@www.chicagoculturalalliance.org
SUMMARY:Bilingual Skyline Yoga on the Terrace
DESCRIPTION:All levels – BEGINNERS WELCOME!\nDANK Haus 6th Floor\, Terrace\nGeneral Public: $5 | Friends of DANK: Free\nEnjoy gentle Yoga classes on the 6th floor skyline terrace at DANK-Haus.\nIn this class we will be flowing from pose to pose and linking movement with breath. We will combine elements of Hatha and Yin-Yoga as well as Meditation.\nHatha Yoga focuses on postures that practice to align\, strengthen\, and promote flexibility in the body.\nYin poses are passive stretches held for minutes at a time\, preparing the body for stillness by releasing deep-rooted tension.\nBreathing techniques and meditation are also integrated.\nAll Yoga postures will be introduced through step-by-step verbal description and demonstration.\nWHAT TO BRING? Yoga mat\, 1-2 beach towels\n\nAbout Your Instructor:\nMy name is Janina\, I’m originally from Kiel\, Germany. I’ve been a passionate Yogi for about 7 years now and am so happy to bring the essence of Yoga – finding stillness in our body and mind – into other people’s lives.\nSome of you may know me as the Saturday School German instructor or have seen me working in our Pre-School. Aside from my teaching profession I’m also a certified personal trainer for medical fitness and CrossFit athlete.\nI’m so excited for this wonderful opportunity to meet you in this very special Yoga course setting.\n#chicago #yoga #chicagoyoga #movement #wellness #terrace #sunsetyoga #fitness #workout #german #germany
URL:https://www.chicagoculturalalliance.org/event/bilingual-skyline-yoga-on-the-terrace/2022-08-12/
LOCATION:DANK Haus German American Cultural Center\, 4740 N. Western Ave.\, Chicago\, IL\, 60625\, United States
CATEGORIES:Member Events,Workshops and Classes
ATTACH;FMTTYPE=image/jpeg:https://www.chicagoculturalalliance.org/wp-content/uploads/2022/08/287888576_10160115624009455_9208525681048706075_n.jpg
GEO:41.9680013;-87.6890642
X-APPLE-STRUCTURED-LOCATION;VALUE=URI;X-ADDRESS=DANK Haus German American Cultural Center 4740 N. Western Ave. Chicago IL 60625 United States;X-APPLE-RADIUS=500;X-TITLE=4740 N. Western Ave.:geo:-87.6890642,41.9680013
END:VEVENT
BEGIN:VEVENT
DTSTART;TZID=America/Chicago:20220812T190000
DTEND;TZID=America/Chicago:20220812T213000
DTSTAMP:20260425T114720
CREATED:20220621T220752Z
LAST-MODIFIED:20220621T220752Z
UID:10001584-1660330800-1660339800@www.chicagoculturalalliance.org
SUMMARY:Dance Workshop and Bombazo with Tata Cepeda
DESCRIPTION:Learn from the legendary bomba dancer and folklorist Margarita “Tata” Cepeda. \nThis event will include a 30-minute introduction to Bomba Dance and Open Batey / Bombazo with Tata Cepeda’s 6-piece ensemble coming directly from Escuela de Bomba y Plena Doña Caridad Brenes de Cepeda\, Puerto Rico.
URL:https://www.chicagoculturalalliance.org/event/dance-workshop-and-bombazo-with-tata-cepeda/
LOCATION:Segundo Ruiz Belvis Cultural Center\, 4046 W. Armitage Ave.\, Chicago\, IL\, 60639\, United States
CATEGORIES:Dance,Member Events
ATTACH;FMTTYPE=image/jpeg:https://www.chicagoculturalalliance.org/wp-content/uploads/2022/06/Screenshot-2022-06-21-170702.jpg
GEO:41.91729;-87.7283967
X-APPLE-STRUCTURED-LOCATION;VALUE=URI;X-ADDRESS=Segundo Ruiz Belvis Cultural Center 4046 W. Armitage Ave. Chicago IL 60639 United States;X-APPLE-RADIUS=500;X-TITLE=4046 W. Armitage Ave.:geo:-87.7283967,41.91729
END:VEVENT
BEGIN:VEVENT
DTSTART;TZID=America/Chicago:20220813T113000
DTEND;TZID=America/Chicago:20220813T150000
DTSTAMP:20260425T114720
CREATED:20220719T213136Z
LAST-MODIFIED:20220728T170920Z
UID:10001630-1660390200-1660402800@www.chicagoculturalalliance.org
SUMMARY:Pop-Up Café at the Swedish American Museum
DESCRIPTION:Pop by the Museum today or tomorrow for fika in our main gallery space on the first floor. Enjoy some Swedish coffee and cinnamon rolls while you relax and enjoy the photos of famous Blues musicians taken by Hans Ekestang or go outside and sit in our courtyard. \nWe will be having weekly Pop-Up Cafés every Friday and Saturday through now and August.
URL:https://www.chicagoculturalalliance.org/event/pop-up-cafe-at-the-swedish-american-museum/2022-08-13/
LOCATION:Swedish American Museum\, 5211 N. Clark St.\, Chicago\, IL\, 60640\, United States
CATEGORIES:Food and Drink,Member Events,Music, Film, and Theater
ATTACH;FMTTYPE=image/png:https://www.chicagoculturalalliance.org/wp-content/uploads/2022/07/294038682_10161307694499714_5108890385138874464_n.png
GEO:41.9766451;-87.668015
X-APPLE-STRUCTURED-LOCATION;VALUE=URI;X-ADDRESS=Swedish American Museum 5211 N. Clark St. Chicago IL 60640 United States;X-APPLE-RADIUS=500;X-TITLE=5211 N. Clark St.:geo:-87.668015,41.9766451
END:VEVENT
BEGIN:VEVENT
DTSTART;TZID=America/Chicago:20220813T130000
DTEND;TZID=America/Chicago:20220813T180000
DTSTAMP:20260425T114720
CREATED:20220719T215049Z
LAST-MODIFIED:20220719T215539Z
UID:10001636-1660395600-1660413600@www.chicagoculturalalliance.org
SUMMARY:FREEDOM FESTIVAL - DAY 1
DESCRIPTION:FREEDOM FESTIVAL: Celebrating 75 Years of Independence I Day 01 \nCelebrating 75 Years of Independence with TWO days of very special music and dance performances. Presented in conjunction with the exhibition Unbearable Memories\, Unspeakable Histories: The Partitition Anti-Memorial Project \n\n\n\n\n\nDAY 01 LINEUP: \n1PM: DJ Spin Cycle: \nAnkur Malhotra: Delhi and Midwest-based record label owner and disc jockey (Playing during intermissions) \n2PM: Riyaaz Qawwali: \nUSA-based\, Pakistani Qawwali music ensemble \n3PM: Soham Dance Space \n4PM: Karsh Kale & Fareed Haque Project featuring special guests Priya Darshini\, Max ZT\, and surprise guests \nUSA/India-based percussionist\, composer\, DJ\, and producer\, Karsh Kale collaborates with Pakistani Chilean Chicagoan\, Fareed Haque\, noted jazz guitarist\, composer\, and music professor. Joined by special guests Grammy-nominated vocalist Priya Darshini and dulcimer wizard and House of Waters band leader\, Max ZT. \nTHIS IS A FREE EVENT\, REGISTRATION REQUIRED \nPresented in conjunction with South Asia Institute’s current exhibition “Unbearable Memories\, Unspeakable Histories: Partition Anti-Memorial Project”
URL:https://www.chicagoculturalalliance.org/event/freedom-festival-day-1/
LOCATION:South Asia Institute\, 1925 South Michigan Avenue\, Chicago\, IL\, 60616\, United States
CATEGORIES:Cultural Festivals and Fairs,Dance,Member Events,Music, Film, and Theater
ATTACH;FMTTYPE=image/jpeg:https://www.chicagoculturalalliance.org/wp-content/uploads/2022/07/WebsiteMUSICSERIES.jpg
GEO:41.8558642;-87.6234583
X-APPLE-STRUCTURED-LOCATION;VALUE=URI;X-ADDRESS=South Asia Institute 1925 South Michigan Avenue Chicago IL 60616 United States;X-APPLE-RADIUS=500;X-TITLE=1925 South Michigan Avenue:geo:-87.6234583,41.8558642
END:VEVENT
BEGIN:VEVENT
DTSTART;TZID=America/Chicago:20220813T170000
DTEND;TZID=America/Chicago:20220813T170000
DTSTAMP:20260425T114720
CREATED:20220621T220337Z
LAST-MODIFIED:20220621T220427Z
UID:10001583-1660410000-1660410000@www.chicagoculturalalliance.org
SUMMARY:Noche Caribeña
DESCRIPTION:Since 2017\, PRAA has hosted the Noche Caribeña concert at Navy Pier’s Polk Bros Park Lake Stage Lawn. In partnership with Navy Pier\, this summertime event is FREE and open to the public. Featured are Cuatristas along with international and local artists with their groups\, as well as\, up and coming musicians. This concert offers audience members multiple music genres including Puerto Rican and Afro-Caribbean folk\, popular Latin American\, big band\, salsa\, ballads\, bomba and plena interpretations. Set with a backdrop of Navy Pier\, spectacular views of Chicago and the resonances of music draw Chicago residents and visitors for an enjoyable evening concert. \nThis year on August 13\, 2022 PRAA was honored to present to you some of the most prominent local music artists from Chicago.
URL:https://www.chicagoculturalalliance.org/event/noche-caribena/
LOCATION:Navy Pier\, 600 East Grand Avenue\, Chicago\, IL\, 60611\, United States
CATEGORIES:Cultural Festivals and Fairs,Member Events,Music, Film, and Theater
ATTACH;FMTTYPE=image/jpeg:https://www.chicagoculturalalliance.org/wp-content/uploads/2022/06/DSC_0296.jpg
GEO:41.8917065;-87.6084807
X-APPLE-STRUCTURED-LOCATION;VALUE=URI;X-ADDRESS=Navy Pier 600 East Grand Avenue Chicago IL 60611 United States;X-APPLE-RADIUS=500;X-TITLE=600 East Grand Avenue:geo:-87.6084807,41.8917065
END:VEVENT
END:VCALENDAR