BEGIN:VCALENDAR
VERSION:2.0
PRODID:-//Chicago Cultural Alliance - ECPv6.15.20//NONSGML v1.0//EN
CALSCALE:GREGORIAN
METHOD:PUBLISH
X-ORIGINAL-URL:https://www.chicagoculturalalliance.org
X-WR-CALDESC:Events for Chicago Cultural Alliance
REFRESH-INTERVAL;VALUE=DURATION:PT1H
X-Robots-Tag:noindex
X-PUBLISHED-TTL:PT1H
BEGIN:VTIMEZONE
TZID:America/Chicago
BEGIN:DAYLIGHT
TZOFFSETFROM:-0600
TZOFFSETTO:-0500
TZNAME:CDT
DTSTART:20210314T080000
END:DAYLIGHT
BEGIN:STANDARD
TZOFFSETFROM:-0500
TZOFFSETTO:-0600
TZNAME:CST
DTSTART:20211107T070000
END:STANDARD
BEGIN:DAYLIGHT
TZOFFSETFROM:-0600
TZOFFSETTO:-0500
TZNAME:CDT
DTSTART:20220313T080000
END:DAYLIGHT
BEGIN:STANDARD
TZOFFSETFROM:-0500
TZOFFSETTO:-0600
TZNAME:CST
DTSTART:20221106T070000
END:STANDARD
BEGIN:DAYLIGHT
TZOFFSETFROM:-0600
TZOFFSETTO:-0500
TZNAME:CDT
DTSTART:20230312T080000
END:DAYLIGHT
BEGIN:STANDARD
TZOFFSETFROM:-0500
TZOFFSETTO:-0600
TZNAME:CST
DTSTART:20231105T070000
END:STANDARD
END:VTIMEZONE
BEGIN:VEVENT
DTSTART;VALUE=DATE:20220715
DTEND;VALUE=DATE:20220925
DTSTAMP:20260425T120039
CREATED:20220712T185517Z
LAST-MODIFIED:20220712T185947Z
UID:10001618-1657843200-1664063999@www.chicagoculturalalliance.org
SUMMARY:Exhibition: …of the land: acts of refusal and ratification
DESCRIPTION:A three-person exhibition featuring new and recent works from Chicago-based artists Ajmal ‘Mas Man’ Millar\, Lola Ayisha Ogbara\, and R. Treshawn Williamson exploring homeplace through sculpture\, self-imaging\, & materialism.  \n\n\n…of the land: acts of refusal and ratification features new and recent works from Chicago-based artists Ajmal ‘Mas Man’ Millar\, Lola Ayisha Ogbara\, and R. Treshawn Williamson exploring sculpture\, self-imaging and history through postcolonial lenses\, collective & individual recollection and peculiar materialism. Their use of storytelling holds significance for spatiality and locality to become common ground through the fielding of land\, labor and industry. \nAjmal ‘Mas Man’ Millar expands the sculptural form welding metal\, Trinidadian carnival culture and identity politics alongside the African diaspora. Lola Ayisha Ogbara merges West African and African American interior design aesthetics with bodily sculptural ceramic forms\, with performative photography – that rest and refuse a Western gaze. \nR. Treshawn Williamson creates historical context for his own familial roots in the mining of charcoal material for large scale screen-printed tapestries in a careful consideration of laborious processes as praxis. Millar\, Ogbara and Williamson engage in practices that consider topographic timelines and performance as an essential tool making for an interesting dialogue about homeplace. \n_______________ \n\n\nAjmal ‘MAS MAN’ Millar is a self-taught contemporary visual artist and mas man (carnival costume designer). His work includes mixed–media sculpture that combine collage\, painting\, repurposed materials\, scrap metal\, performance\, and photography interrogating notions of cultural heritage\, sexual and gender identity\, and ritual practices as a first-generation African American black queer man born to Trinidadian immigrants. Ajmal earned an undergraduate degree from Morehouse College in 2008 and earned an MFA from The School of the Art Institute of Chicago in 2021. \n“I am working on a collection of works engaging the Yoruba cosmological concept of Chi and its existence in everything\, alive or inorganic. I create amalgamations of found objects and scraps of steel combined with encaustic. Inspired from my carnival technique of ‘wire bending’\, Afrofuturism\, and Afro Surrealism\, I have an opportunity to express my emotions and thoughts as experienced in the various environments I collect from and exist in. My welding is drawing in space to depict the transcendent properties in masquerade. My goal is to contextualize a queer blackness rarely experienced through imagination\, invention\, and the investigation of dreams\, magic\, and ritual.” \nHe currently lives and works in Chicago\, IL. \n\n\n\n\nLola Ayisha Ogbara (cultural worker & artist) born and raised in Chicago\, Illinois holds many talents under her belt\, i.e. sculpture\, sound\, design\, photography and installation art. \n“My practice explores the multifaceted implications and ramifications of being in regards to the Black experience. I work with clay as a material in order to emphasize a necessary fragility which symbolizes an essential contradiction implicit in empowerments.” \nOgbara holds a Bachelor of Arts in Arts Entertainment & Media Management from Columbia College Chicago in 2013 and a MFA in Visual Arts from Washington University Sam Fox School of Art & Design. \nIn 2017\, Ogbara co-founded Artists in the Room\, a collective of artists and scholars who host artists\, emerging and established\, in hopes of serving as a catalyst for artist development and networking. Ogbara has also received numerous fellowships and awards\, including the Multicultural Fellowship sponsored by the NCECA 52nd Annual Conference\, the Arts + Public Life and Center for the Study of Race\, Politics & Culture Residency at the University of Chicago\, and the Coney Family Fund Award hosted by the Chicago Artists Coalition. Ogbara has exhibited in art spaces across the country and is currently based in Chicago\, IL. \n\n\n\n\nR. Treshawn Williamson is a Chicago based essayist and multidisciplinary artist of Black American descent\, from Prince George’s County\, MD\, by way of Livingston\, Alabama\, and Augusta\, Georgia. \nWilliamson’s work is a meditation on the obstruction and surveillance of the lived histories of African-Americans. He investigates the application of cultural re-imagination in the African Diaspora through the engagement of oral histories\, post-colonial theory\, folklore\, and ethnomusicology. In 2020 Williamson earned his BFA from the School of the Art Institute of Chicago. \nHe currently lives and works in Chicago\, IL.
URL:https://www.chicagoculturalalliance.org/event/exhibition-of-the-land-acts-of-refusal-and-ratification/
LOCATION:South Side Community Art Center\, 3831 S. Michigan Ave.\, Chicago\, IL\, 60653\, United States
CATEGORIES:Exhibitions and Gallery Events,Member Events
ATTACH;FMTTYPE=image/jpeg:https://www.chicagoculturalalliance.org/wp-content/uploads/2022/07/APL_LolaOgbara_PerformancePhotos_Large_2202-1-scaled-e1657041442234.jpg
GEO:41.8245972;-87.6227065
X-APPLE-STRUCTURED-LOCATION;VALUE=URI;X-ADDRESS=South Side Community Art Center 3831 S. Michigan Ave. Chicago IL 60653 United States;X-APPLE-RADIUS=500;X-TITLE=3831 S. Michigan Ave.:geo:-87.6227065,41.8245972
END:VEVENT
BEGIN:VEVENT
DTSTART;VALUE=DATE:20220806
DTEND;VALUE=DATE:20221211
DTSTAMP:20260425T120039
CREATED:20220719T213700Z
LAST-MODIFIED:20220719T213700Z
UID:10001635-1659744000-1670716799@www.chicagoculturalalliance.org
SUMMARY:Exhibition: “Unbearable Memories\, Unspeakable Histories”: Partition Anti-Memorial Project
DESCRIPTION:Through experiential art installations “Unbearable Memories\, Unspeakable Histories” investigates the Partition of India in 1947. \n\n\n\n\n\nThis year marks 75 years since the Partition of India in 1947\, which created Pakistan\, and eventually\, Bangladesh in 1971. Pritika Chowdhry’s experiential art installations are temporary ‘anti-memorials’ to the Partition. \nOften described as the Holocaust of South Asia\, the Partition triggered the largest migration in human history with over 20 million people displaced\, approximately 2 million killed and over 300\,000 women were abducted in the communal violence that ensued. \nThe exhibition addresses the many facets of the Partition from a counter-memory perspective through experiential art installations. The title alludes to the painful and silenced narratives that have been elided from mainstream discourses of the Partition. \nWhen a memory is unbearable\, how does one memorialize it? And when a history is unspeakable\, how does one talk about it? The exhibition’s title\, “Unbearable Memories\, Unspeakable Histories” alludes to the painful and silenced narratives that have been excluded from mainstream discourses of the Partition. \n\n_______________ \nARTIST LED TOURS AT 1PM EVERY OTHER SATURDAY! \nSep 3 and 17 | Oct 01\, 15 and 29 | Nov 12 | Dec 10
URL:https://www.chicagoculturalalliance.org/event/exhibition-unbearable-memories-unspeakable-histories-partition-anti-memorial-project/
LOCATION:South Asia Institute\, 1925 South Michigan Avenue\, Chicago\, IL\, 60616\, United States
CATEGORIES:Exhibitions and Gallery Events,Member Events
ATTACH;FMTTYPE=image/jpeg:https://www.chicagoculturalalliance.org/wp-content/uploads/2022/07/Screenshot-2022-07-19-163214.jpg
GEO:41.8558642;-87.6234583
X-APPLE-STRUCTURED-LOCATION;VALUE=URI;X-ADDRESS=South Asia Institute 1925 South Michigan Avenue Chicago IL 60616 United States;X-APPLE-RADIUS=500;X-TITLE=1925 South Michigan Avenue:geo:-87.6234583,41.8558642
END:VEVENT
BEGIN:VEVENT
DTSTART;TZID=America/Chicago:20220814T130000
DTEND;TZID=America/Chicago:20220814T180000
DTSTAMP:20260425T120039
CREATED:20220719T215254Z
LAST-MODIFIED:20220719T215254Z
UID:10001637-1660482000-1660500000@www.chicagoculturalalliance.org
SUMMARY:FREEDOM FESTIVAL - DAY 02
DESCRIPTION:FREEDOM FESTIVAL DAY 02 \nCelebrating 75 Years of Independence with TWO days of very special music and dance performances. Presented in conjunction with the exhibition Unbearable Memories\, Unspeakable Histories: The Partitition Anti-Memorial Project \nDay 02 LINE UP \n1PM: Zeshan B: Chicago-based\, multi-instrumentalist soul\, opera\, gospel\, and ghazal singer\, who is also a songwriter and recording artist \n2PM: DJ Ase Wonder: Pakistani-born\, Chicago-based cultural producer\, community organizer\, interdisciplinary artist\, and disc jockey (Opening and playing during intermissions) \n3PM: Ishti Dance: Chicago-based\, classically trained\, contemporary Indian dancers and choreographers. \n4PM: Jina Brass Band Featuring Members of Funkadesi: Jina Brass Band\, Chicago’s first Indian baraat dhol and brass band in their first collaboration with Chicago-based bhangra\, Bollywood\, folk\, reggae\, funk\, and Afro-Caribbean band\, Funkadesi.
URL:https://www.chicagoculturalalliance.org/event/freedom-festival-day-02/
LOCATION:South Asia Institute\, 1925 South Michigan Avenue\, Chicago\, IL\, 60616\, United States
CATEGORIES:Cultural Festivals and Fairs,Dance,Member Events,Music, Film, and Theater
ATTACH;FMTTYPE=image/jpeg:https://www.chicagoculturalalliance.org/wp-content/uploads/2022/07/WebsiteMUSICSERIES3.jpg
GEO:41.8558642;-87.6234583
X-APPLE-STRUCTURED-LOCATION;VALUE=URI;X-ADDRESS=South Asia Institute 1925 South Michigan Avenue Chicago IL 60616 United States;X-APPLE-RADIUS=500;X-TITLE=1925 South Michigan Avenue:geo:-87.6234583,41.8558642
END:VEVENT
BEGIN:VEVENT
DTSTART;TZID=America/Chicago:20220814T140000
DTEND;TZID=America/Chicago:20220814T160000
DTSTAMP:20260425T120039
CREATED:20220705T220405Z
LAST-MODIFIED:20220705T220405Z
UID:10001612-1660485600-1660492800@www.chicagoculturalalliance.org
SUMMARY:Bomba in the Parks with Tata Cepeda
DESCRIPTION:Afro-Puerto Rican Bomba performance featuring legendary dancer and folklorist Tata Cepeda. Opening acts by SRBCC Youth Programs and guest artists
URL:https://www.chicagoculturalalliance.org/event/bomba-in-the-parks-with-tata-cepeda/
LOCATION:Addams/Medill Park\, 1301 W 14th St\, Chicago\, IL\, United States
CATEGORIES:Dance,Member Events,Music, Film, and Theater
ATTACH;FMTTYPE=image/jpeg:https://www.chicagoculturalalliance.org/wp-content/uploads/2022/07/291492586_556809399144328_5309762120313039299_n.jpg
GEO:41.8630879;-87.659893
X-APPLE-STRUCTURED-LOCATION;VALUE=URI;X-ADDRESS=Addams/Medill Park 1301 W 14th St Chicago IL United States;X-APPLE-RADIUS=500;X-TITLE=1301 W 14th St:geo:-87.659893,41.8630879
END:VEVENT
BEGIN:VEVENT
DTSTART;TZID=America/Chicago:20220816T120000
DTEND;TZID=America/Chicago:20220816T120000
DTSTAMP:20260425T120039
CREATED:20220705T220613Z
LAST-MODIFIED:20220705T220613Z
UID:10001613-1660651200-1660651200@www.chicagoculturalalliance.org
SUMMARY:Online Lunch & Learn: “The Watchmakers”
DESCRIPTION:Harry Lenga was born to a family of Chassidic Jews in Kozhnitz\, Poland\, in 1919. The proud sons of a watchmaker\, Harry and his two brothers\, Mailekh and Moishe\, studied their father’s trade at an early age. Upon the German invasion of Poland\, when the Lenga family was upended\, Harry and his brothers never imagined that the tools and skills they learned from their father would be key to their survival.\nJoin us in conversation with Scott Lenga as he recounts the moving and harrowing story of the Holocaust through the eyes of his father and two uncles – the Lenga brothers\, three young men whose watchmaking skills\, rudimentary tools\, and an entrepreneurial spark – helped them survive Nazi concentration camps and stay together despite the odds\nFree to the public. Register: https://ihm.ec/watchmakers
URL:https://www.chicagoculturalalliance.org/event/online-lunch-learn-the-watchmakers/
LOCATION:Online Event
CATEGORIES:Member Events,Online Events
ATTACH;FMTTYPE=image/jpeg:https://www.chicagoculturalalliance.org/wp-content/uploads/2022/07/291398992_10166274371230721_3794151372067666206_n.jpg
END:VEVENT
BEGIN:VEVENT
DTSTART;TZID=America/Chicago:20220818T173000
DTEND;TZID=America/Chicago:20220818T190000
DTSTAMP:20260425T120039
CREATED:20220802T204946Z
LAST-MODIFIED:20220802T205016Z
UID:10001662-1660843800-1660849200@www.chicagoculturalalliance.org
SUMMARY:Livewire- Open Mic @ NIAM: Palini Ramnarayan
DESCRIPTION:Livewire is your Open Mic platform to jam\, tell us a story\, act your heart out\, enthrall with a verse\, drop the mic… You bring the talent we’ll bring the cheers! \nThis month’s spotlight performer: Palini Ramnarayan \nPalini Ramnarayan is a versatile musician with a Music minor from Cornell University. Palini started singing when she was five years old\, training in Hindustani classical under Aparna Pai and later Saili Oak. She currently follows the traditions and style of the Jaipur Gharana. Palini performs frequently at temples and community events\, and has also worked on collaborative projects with string quartets and collegiate orchestras. She is also a trained Western Classical violinist\, composer\, and songwriter. Palini played violin in the Cornell Symphony Orchestra for 4 years and served as  musical director of her a cappella group\, Cornell Tarana\, for two years. She is currently on the board of the Association of South Asian A Cappella. Palini is deeply passionate about intertwining her two musical cultures and spreading both genres to new audiences. She currently works as a software engineer in Chicago. \n________________ \nWhen? Thursday\, August 18\, 2022 at 5:30 PM  \nWhere? NIAM’s Umang and Paragi Patel Center\, 815 S Main St\, Lombard\, IL 60148 \nYou’ll have 3 minutes for any kind of spoken word performance- poetry\, storytelling\, comedy\, acting\, essay reading\, singing\, and even music! Not ready to take the mic? Come join the audience and enjoy the show! Your $5 ticket includes light refreshments. \nIf you would like to sign up for the Open Mic\, email us at info@niam.org. We recommend advance sign-up and will schedule based on first come first served!
URL:https://www.chicagoculturalalliance.org/event/livewire-open-mic-niam-palini-ramnarayan/
LOCATION:National Indo-American Museum\, 815 S Main St\, Lombard\, IL\, 60148\, United States
CATEGORIES:Member Events
ATTACH;FMTTYPE=image/jpeg:https://www.chicagoculturalalliance.org/wp-content/uploads/2022/08/livewire2_fbpost.jpg
GEO:41.870374;-88.0173905
X-APPLE-STRUCTURED-LOCATION;VALUE=URI;X-ADDRESS=National Indo-American Museum 815 S Main St Lombard IL 60148 United States;X-APPLE-RADIUS=500;X-TITLE=815 S Main St:geo:-88.0173905,41.870374
END:VEVENT
BEGIN:VEVENT
DTSTART;TZID=America/Chicago:20220818T180000
DTEND;TZID=America/Chicago:20220818T190000
DTSTAMP:20260425T120039
CREATED:20220727T211714Z
LAST-MODIFIED:20220727T211714Z
UID:10001647-1660845600-1660849200@www.chicagoculturalalliance.org
SUMMARY:Author Discussion with Levi Rickert
DESCRIPTION:Author Discussion and Q&A with Journalist and Founder of Native News Online Levi Rickert \n\n\n_______________ \n\n\n\nJoin us on Thursday\, August 18th at 6:00 p.m. as we welcome Journalist and Founder of Native News Online Levi Rickert to the Mitchell Museum of the American Indian. We invite you to this in-person conversation and Q&A to celebrate Rickert’s work and the release of his first book Visions of a Better Indian Country: One Potawatomi Editor’s Opinions. \n______ \nLevi Rickert\, a citizen of the Prairie Band Potawatomi Nation\, is a Native American journalist\, who founded Native News Online in February 2011. \nSince then\, Native News Online\, with over three million readers who come to its website annually\, has become one of the most read daily Native American publications in the country. In October 2020\, he co-founded Tribal Business News. \nSince the beginning of Native News Online\, Rickert has covered stories on dozens of Indian reservations\, White House tribal nations conferences and congressional hearings in Washington\, D.C.\, and events throughout Indian Country. \nWith a social media following of over 500\,000\, Rickert has become a strong voice in Indian Country and is often called upon by other media outlets as an expert to discuss American Indian affairs. \nWhile an author with essays in three books\, his first book Visions of a Better Indian Country: One Potawatomi Editor’s Opinions was published by Indian Country Media\, in April 2022. \n________________ \nThis intimate conversation with Rickert is free for Mitchell Museum Members and $10 for non-members. Admission for Native citizens is always free. Tickets can be purchased in advance or onsite. \nFor more information about this program\, please contact: info@mitchellmuseum.org | (847) 475-1030 | www.mitchellmuseum.org/events/
URL:https://www.chicagoculturalalliance.org/event/author-discussion-with-levi-rickert/
LOCATION:Mitchell Museum of the American Indian\, 3001 central street\, Evanston\, IL\, 60201\, United States
CATEGORIES:Member Events,Talks and Gatherings
ATTACH;FMTTYPE=image/png:https://www.chicagoculturalalliance.org/wp-content/uploads/2022/07/08.2022-Author-Discussion-eventbrite.png
GEO:42.0647313;-87.7181467
X-APPLE-STRUCTURED-LOCATION;VALUE=URI;X-ADDRESS=Mitchell Museum of the American Indian 3001 central street Evanston IL 60201 United States;X-APPLE-RADIUS=500;X-TITLE=3001 central street:geo:-87.7181467,42.0647313
END:VEVENT
BEGIN:VEVENT
DTSTART;TZID=America/Chicago:20220819T113000
DTEND;TZID=America/Chicago:20220819T150000
DTSTAMP:20260425T120039
CREATED:20220719T213136Z
LAST-MODIFIED:20220728T170920Z
UID:10001631-1660908600-1660921200@www.chicagoculturalalliance.org
SUMMARY:Pop-Up Café at the Swedish American Museum
DESCRIPTION:Pop by the Museum today or tomorrow for fika in our main gallery space on the first floor. Enjoy some Swedish coffee and cinnamon rolls while you relax and enjoy the photos of famous Blues musicians taken by Hans Ekestang or go outside and sit in our courtyard. \nWe will be having weekly Pop-Up Cafés every Friday and Saturday through now and August.
URL:https://www.chicagoculturalalliance.org/event/pop-up-cafe-at-the-swedish-american-museum/2022-08-19/
LOCATION:Swedish American Museum\, 5211 N. Clark St.\, Chicago\, IL\, 60640\, United States
CATEGORIES:Food and Drink,Member Events,Music, Film, and Theater
ATTACH;FMTTYPE=image/png:https://www.chicagoculturalalliance.org/wp-content/uploads/2022/07/294038682_10161307694499714_5108890385138874464_n.png
GEO:41.9766451;-87.668015
X-APPLE-STRUCTURED-LOCATION;VALUE=URI;X-ADDRESS=Swedish American Museum 5211 N. Clark St. Chicago IL 60640 United States;X-APPLE-RADIUS=500;X-TITLE=5211 N. Clark St.:geo:-87.668015,41.9766451
END:VEVENT
BEGIN:VEVENT
DTSTART;TZID=America/Chicago:20220819T180000
DTEND;TZID=America/Chicago:20220819T180000
DTSTAMP:20260425T120039
CREATED:20220705T220932Z
LAST-MODIFIED:20220705T220932Z
UID:10001614-1660932000-1660932000@www.chicagoculturalalliance.org
SUMMARY:Petter Wahlbäck Concert
DESCRIPTION:Petter Wahlbäck is an award-winning Swedish composer and sound designer working out of Chicago. Petter’s main areas of focus are music for media and performing arts. Recent theater sound and music credits include the Eurydice\, Requiem for a Heavyweight\, By the Bog of Cats\, Ada and the Engine\, and Vanya on the Plains by the Artistic Home\, and Defacing Michael Jackson and The Book of Merman (Flying Elephant Productions)\, and The My Way Residential (The Irish Theatre). Petter also composes music for film and dance.\nPetter will perform Swedish songs and speak about them through a personal and cultural perspective.\nA Swedish meatball and mashed potato dinner will be served at 6 p.m. and arrive at 6:30 p.m. if you plan to come for the concert only.\nConcert only tickets can be bought at the door if there is still room available. Reserve ahead of time\, or buy dinner\, on our website at: https://swedishamericanmuseum.org/…/petter-wahlback…/
URL:https://www.chicagoculturalalliance.org/event/petter-wahlback-concert/
LOCATION:Swedish American Museum\, 5211 N. Clark St.\, Chicago\, IL\, 60640\, United States
CATEGORIES:Food and Drink,Member Events,Music, Film, and Theater
ATTACH;FMTTYPE=image/jpeg:https://www.chicagoculturalalliance.org/wp-content/uploads/2022/07/290216578_10161266407319714_9090511578321782606_n.jpg
GEO:41.9766451;-87.668015
X-APPLE-STRUCTURED-LOCATION;VALUE=URI;X-ADDRESS=Swedish American Museum 5211 N. Clark St. Chicago IL 60640 United States;X-APPLE-RADIUS=500;X-TITLE=5211 N. Clark St.:geo:-87.668015,41.9766451
END:VEVENT
BEGIN:VEVENT
DTSTART;TZID=America/Chicago:20220819T193000
DTEND;TZID=America/Chicago:20220819T230000
DTSTAMP:20260425T120039
CREATED:20220802T210740Z
LAST-MODIFIED:20220802T210740Z
UID:10001677-1660937400-1660950000@www.chicagoculturalalliance.org
SUMMARY:Open Haus Stammtisch | Aloha from the Lounge!
DESCRIPTION:OPEN HAUS STAMMTISCH\nALOHA FROM THE LOUNGE\n6th Floor Skyline Lounge + Terrace \nFriday\, August 19th\n7:30-11:00 PM \nAloha! Looking to enjoy the summer groove before it’s gone? Join us for our monthly Stammtisch Open Haus! This month we are featuring acclaimed Elvis impersonator\, Michael St. Angel\, as the King of Rock-N-Roll! Slick your hair\, put on your blue suede shoes\, and shake-rattle-and-roll the night away with good friends and great music! Plus you can enjoy a rockin’ view of the Chicago skyline from the newly renovated Skyline Lounge! Delicious food and drink will be available for purchase.  \nSuggested donation: $5 \nOur Open Haus is a great way to meet new friends\, or bring your friends and introduce them to the Haus! This event is held in our popular 6th Floor Skyline Lounge\, complete with vintage bar and sweeping panoramic views of the Chicago skyline. \n***RSVP by 4:00 PM on August 18th for a chance to win a free drink & meal!*** \nBy submitting an RSVP to our events\, you help us anticipate how many people to expect and help us ensure that we operate within city guidelines as it pertains to COVID-19 mitigation. \nFree parking at 5/3 Bank after 6:00 PM located at Western and Gunnison
URL:https://www.chicagoculturalalliance.org/event/open-haus-stammtisch-aloha-from-the-lounge/
LOCATION:DANK Haus German American Cultural Center\, 4740 N. Western Ave.\, Chicago\, IL\, 60625\, United States
CATEGORIES:Food and Drink,Member Events
ATTACH;FMTTYPE=image/jpeg:https://www.chicagoculturalalliance.org/wp-content/uploads/2022/08/293315058_10160164799289455_8291288190149199611_n.jpg
GEO:41.9680013;-87.6890642
X-APPLE-STRUCTURED-LOCATION;VALUE=URI;X-ADDRESS=DANK Haus German American Cultural Center 4740 N. Western Ave. Chicago IL 60625 United States;X-APPLE-RADIUS=500;X-TITLE=4740 N. Western Ave.:geo:-87.6890642,41.9680013
END:VEVENT
BEGIN:VEVENT
DTSTART;TZID=America/Chicago:20220820T100000
DTEND;TZID=America/Chicago:20220820T110000
DTSTAMP:20260425T120039
CREATED:20220802T210359Z
LAST-MODIFIED:20220802T210359Z
UID:10001673-1660989600-1660993200@www.chicagoculturalalliance.org
SUMMARY:Bilingual Skyline Yoga on the Terrace
DESCRIPTION:All levels – BEGINNERS WELCOME!\nDANK Haus 6th Floor\, Terrace\nGeneral Public: $5 | Friends of DANK: Free\nEnjoy gentle Yoga classes on the 6th floor skyline terrace at DANK-Haus.\nIn this class we will be flowing from pose to pose and linking movement with breath. We will combine elements of Hatha and Yin-Yoga as well as Meditation.\nHatha Yoga focuses on postures that practice to align\, strengthen\, and promote flexibility in the body.\nYin poses are passive stretches held for minutes at a time\, preparing the body for stillness by releasing deep-rooted tension.\nBreathing techniques and meditation are also integrated.\nAll Yoga postures will be introduced through step-by-step verbal description and demonstration.\nWHAT TO BRING? Yoga mat\, 1-2 beach towels\n\nAbout Your Instructor:\nMy name is Janina\, I’m originally from Kiel\, Germany. I’ve been a passionate Yogi for about 7 years now and am so happy to bring the essence of Yoga – finding stillness in our body and mind – into other people’s lives.\nSome of you may know me as the Saturday School German instructor or have seen me working in our Pre-School. Aside from my teaching profession I’m also a certified personal trainer for medical fitness and CrossFit athlete.\nI’m so excited for this wonderful opportunity to meet you in this very special Yoga course setting.\n#chicago #yoga #chicagoyoga #movement #wellness #terrace #sunsetyoga #fitness #workout #german #germany
URL:https://www.chicagoculturalalliance.org/event/bilingual-skyline-yoga-on-the-terrace/2022-08-20/
LOCATION:DANK Haus German American Cultural Center\, 4740 N. Western Ave.\, Chicago\, IL\, 60625\, United States
CATEGORIES:Member Events,Workshops and Classes
ATTACH;FMTTYPE=image/jpeg:https://www.chicagoculturalalliance.org/wp-content/uploads/2022/08/287888576_10160115624009455_9208525681048706075_n.jpg
GEO:41.9680013;-87.6890642
X-APPLE-STRUCTURED-LOCATION;VALUE=URI;X-ADDRESS=DANK Haus German American Cultural Center 4740 N. Western Ave. Chicago IL 60625 United States;X-APPLE-RADIUS=500;X-TITLE=4740 N. Western Ave.:geo:-87.6890642,41.9680013
END:VEVENT
BEGIN:VEVENT
DTSTART;TZID=America/Chicago:20220820T113000
DTEND;TZID=America/Chicago:20220820T150000
DTSTAMP:20260425T120039
CREATED:20220719T213136Z
LAST-MODIFIED:20220728T170920Z
UID:10001632-1660995000-1661007600@www.chicagoculturalalliance.org
SUMMARY:Pop-Up Café at the Swedish American Museum
DESCRIPTION:Pop by the Museum today or tomorrow for fika in our main gallery space on the first floor. Enjoy some Swedish coffee and cinnamon rolls while you relax and enjoy the photos of famous Blues musicians taken by Hans Ekestang or go outside and sit in our courtyard. \nWe will be having weekly Pop-Up Cafés every Friday and Saturday through now and August.
URL:https://www.chicagoculturalalliance.org/event/pop-up-cafe-at-the-swedish-american-museum/2022-08-20/
LOCATION:Swedish American Museum\, 5211 N. Clark St.\, Chicago\, IL\, 60640\, United States
CATEGORIES:Food and Drink,Member Events,Music, Film, and Theater
ATTACH;FMTTYPE=image/png:https://www.chicagoculturalalliance.org/wp-content/uploads/2022/07/294038682_10161307694499714_5108890385138874464_n.png
GEO:41.9766451;-87.668015
X-APPLE-STRUCTURED-LOCATION;VALUE=URI;X-ADDRESS=Swedish American Museum 5211 N. Clark St. Chicago IL 60640 United States;X-APPLE-RADIUS=500;X-TITLE=5211 N. Clark St.:geo:-87.668015,41.9766451
END:VEVENT
END:VCALENDAR