BEGIN:VCALENDAR
VERSION:2.0
PRODID:-//Chicago Cultural Alliance - ECPv6.15.20//NONSGML v1.0//EN
CALSCALE:GREGORIAN
METHOD:PUBLISH
X-ORIGINAL-URL:https://www.chicagoculturalalliance.org
X-WR-CALDESC:Events for Chicago Cultural Alliance
REFRESH-INTERVAL;VALUE=DURATION:PT1H
X-Robots-Tag:noindex
X-PUBLISHED-TTL:PT1H
BEGIN:VTIMEZONE
TZID:America/Chicago
BEGIN:DAYLIGHT
TZOFFSETFROM:-0600
TZOFFSETTO:-0500
TZNAME:CDT
DTSTART:20210314T080000
END:DAYLIGHT
BEGIN:STANDARD
TZOFFSETFROM:-0500
TZOFFSETTO:-0600
TZNAME:CST
DTSTART:20211107T070000
END:STANDARD
BEGIN:DAYLIGHT
TZOFFSETFROM:-0600
TZOFFSETTO:-0500
TZNAME:CDT
DTSTART:20220313T080000
END:DAYLIGHT
BEGIN:STANDARD
TZOFFSETFROM:-0500
TZOFFSETTO:-0600
TZNAME:CST
DTSTART:20221106T070000
END:STANDARD
BEGIN:DAYLIGHT
TZOFFSETFROM:-0600
TZOFFSETTO:-0500
TZNAME:CDT
DTSTART:20230312T080000
END:DAYLIGHT
BEGIN:STANDARD
TZOFFSETFROM:-0500
TZOFFSETTO:-0600
TZNAME:CST
DTSTART:20231105T070000
END:STANDARD
END:VTIMEZONE
BEGIN:VEVENT
DTSTART;VALUE=DATE:20220715
DTEND;VALUE=DATE:20220925
DTSTAMP:20260425T101917
CREATED:20220712T185517Z
LAST-MODIFIED:20220712T185947Z
UID:10001618-1657843200-1664063999@www.chicagoculturalalliance.org
SUMMARY:Exhibition: …of the land: acts of refusal and ratification
DESCRIPTION:A three-person exhibition featuring new and recent works from Chicago-based artists Ajmal ‘Mas Man’ Millar\, Lola Ayisha Ogbara\, and R. Treshawn Williamson exploring homeplace through sculpture\, self-imaging\, & materialism.  \n\n\n…of the land: acts of refusal and ratification features new and recent works from Chicago-based artists Ajmal ‘Mas Man’ Millar\, Lola Ayisha Ogbara\, and R. Treshawn Williamson exploring sculpture\, self-imaging and history through postcolonial lenses\, collective & individual recollection and peculiar materialism. Their use of storytelling holds significance for spatiality and locality to become common ground through the fielding of land\, labor and industry. \nAjmal ‘Mas Man’ Millar expands the sculptural form welding metal\, Trinidadian carnival culture and identity politics alongside the African diaspora. Lola Ayisha Ogbara merges West African and African American interior design aesthetics with bodily sculptural ceramic forms\, with performative photography – that rest and refuse a Western gaze. \nR. Treshawn Williamson creates historical context for his own familial roots in the mining of charcoal material for large scale screen-printed tapestries in a careful consideration of laborious processes as praxis. Millar\, Ogbara and Williamson engage in practices that consider topographic timelines and performance as an essential tool making for an interesting dialogue about homeplace. \n_______________ \n\n\nAjmal ‘MAS MAN’ Millar is a self-taught contemporary visual artist and mas man (carnival costume designer). His work includes mixed–media sculpture that combine collage\, painting\, repurposed materials\, scrap metal\, performance\, and photography interrogating notions of cultural heritage\, sexual and gender identity\, and ritual practices as a first-generation African American black queer man born to Trinidadian immigrants. Ajmal earned an undergraduate degree from Morehouse College in 2008 and earned an MFA from The School of the Art Institute of Chicago in 2021. \n“I am working on a collection of works engaging the Yoruba cosmological concept of Chi and its existence in everything\, alive or inorganic. I create amalgamations of found objects and scraps of steel combined with encaustic. Inspired from my carnival technique of ‘wire bending’\, Afrofuturism\, and Afro Surrealism\, I have an opportunity to express my emotions and thoughts as experienced in the various environments I collect from and exist in. My welding is drawing in space to depict the transcendent properties in masquerade. My goal is to contextualize a queer blackness rarely experienced through imagination\, invention\, and the investigation of dreams\, magic\, and ritual.” \nHe currently lives and works in Chicago\, IL. \n\n\n\n\nLola Ayisha Ogbara (cultural worker & artist) born and raised in Chicago\, Illinois holds many talents under her belt\, i.e. sculpture\, sound\, design\, photography and installation art. \n“My practice explores the multifaceted implications and ramifications of being in regards to the Black experience. I work with clay as a material in order to emphasize a necessary fragility which symbolizes an essential contradiction implicit in empowerments.” \nOgbara holds a Bachelor of Arts in Arts Entertainment & Media Management from Columbia College Chicago in 2013 and a MFA in Visual Arts from Washington University Sam Fox School of Art & Design. \nIn 2017\, Ogbara co-founded Artists in the Room\, a collective of artists and scholars who host artists\, emerging and established\, in hopes of serving as a catalyst for artist development and networking. Ogbara has also received numerous fellowships and awards\, including the Multicultural Fellowship sponsored by the NCECA 52nd Annual Conference\, the Arts + Public Life and Center for the Study of Race\, Politics & Culture Residency at the University of Chicago\, and the Coney Family Fund Award hosted by the Chicago Artists Coalition. Ogbara has exhibited in art spaces across the country and is currently based in Chicago\, IL. \n\n\n\n\nR. Treshawn Williamson is a Chicago based essayist and multidisciplinary artist of Black American descent\, from Prince George’s County\, MD\, by way of Livingston\, Alabama\, and Augusta\, Georgia. \nWilliamson’s work is a meditation on the obstruction and surveillance of the lived histories of African-Americans. He investigates the application of cultural re-imagination in the African Diaspora through the engagement of oral histories\, post-colonial theory\, folklore\, and ethnomusicology. In 2020 Williamson earned his BFA from the School of the Art Institute of Chicago. \nHe currently lives and works in Chicago\, IL.
URL:https://www.chicagoculturalalliance.org/event/exhibition-of-the-land-acts-of-refusal-and-ratification/
LOCATION:South Side Community Art Center\, 3831 S. Michigan Ave.\, Chicago\, IL\, 60653\, United States
CATEGORIES:Exhibitions and Gallery Events,Member Events
ATTACH;FMTTYPE=image/jpeg:https://www.chicagoculturalalliance.org/wp-content/uploads/2022/07/APL_LolaOgbara_PerformancePhotos_Large_2202-1-scaled-e1657041442234.jpg
GEO:41.8245972;-87.6227065
X-APPLE-STRUCTURED-LOCATION;VALUE=URI;X-ADDRESS=South Side Community Art Center 3831 S. Michigan Ave. Chicago IL 60653 United States;X-APPLE-RADIUS=500;X-TITLE=3831 S. Michigan Ave.:geo:-87.6227065,41.8245972
END:VEVENT
BEGIN:VEVENT
DTSTART;VALUE=DATE:20220806
DTEND;VALUE=DATE:20221211
DTSTAMP:20260425T101917
CREATED:20220719T213700Z
LAST-MODIFIED:20220719T213700Z
UID:10001635-1659744000-1670716799@www.chicagoculturalalliance.org
SUMMARY:Exhibition: “Unbearable Memories\, Unspeakable Histories”: Partition Anti-Memorial Project
DESCRIPTION:Through experiential art installations “Unbearable Memories\, Unspeakable Histories” investigates the Partition of India in 1947. \n\n\n\n\n\nThis year marks 75 years since the Partition of India in 1947\, which created Pakistan\, and eventually\, Bangladesh in 1971. Pritika Chowdhry’s experiential art installations are temporary ‘anti-memorials’ to the Partition. \nOften described as the Holocaust of South Asia\, the Partition triggered the largest migration in human history with over 20 million people displaced\, approximately 2 million killed and over 300\,000 women were abducted in the communal violence that ensued. \nThe exhibition addresses the many facets of the Partition from a counter-memory perspective through experiential art installations. The title alludes to the painful and silenced narratives that have been elided from mainstream discourses of the Partition. \nWhen a memory is unbearable\, how does one memorialize it? And when a history is unspeakable\, how does one talk about it? The exhibition’s title\, “Unbearable Memories\, Unspeakable Histories” alludes to the painful and silenced narratives that have been excluded from mainstream discourses of the Partition. \n\n_______________ \nARTIST LED TOURS AT 1PM EVERY OTHER SATURDAY! \nSep 3 and 17 | Oct 01\, 15 and 29 | Nov 12 | Dec 10
URL:https://www.chicagoculturalalliance.org/event/exhibition-unbearable-memories-unspeakable-histories-partition-anti-memorial-project/
LOCATION:South Asia Institute\, 1925 South Michigan Avenue\, Chicago\, IL\, 60616\, United States
CATEGORIES:Exhibitions and Gallery Events,Member Events
ATTACH;FMTTYPE=image/jpeg:https://www.chicagoculturalalliance.org/wp-content/uploads/2022/07/Screenshot-2022-07-19-163214.jpg
GEO:41.8558642;-87.6234583
X-APPLE-STRUCTURED-LOCATION;VALUE=URI;X-ADDRESS=South Asia Institute 1925 South Michigan Avenue Chicago IL 60616 United States;X-APPLE-RADIUS=500;X-TITLE=1925 South Michigan Avenue:geo:-87.6234583,41.8558642
END:VEVENT
BEGIN:VEVENT
DTSTART;TZID=America/Chicago:20220821T150000
DTEND;TZID=America/Chicago:20220821T150000
DTSTAMP:20260425T101917
CREATED:20220802T203242Z
LAST-MODIFIED:20220802T203242Z
UID:10001660-1661094000-1661094000@www.chicagoculturalalliance.org
SUMMARY:Live Performance | Lux Radio Theatre: “My Man Godfrey”
DESCRIPTION:Experience a live theatrical rendition of the 1936 Academy Award-nominated comedy\, “My Man Godfrey\,” one of Hollywood’s most treasured commentaries on class and social unrest during the Great Depression.\nManhattan socialite Irene Bullock needs a “forgotten man” to win a scavenger hunt\, and no one fits that description more than Godfrey Park\, who lives in a Hooverville dump. Irene hires Godfrey as a family servant\, to the chagrin of her spoiled sister\, Cornelia\, who tries her best to get Godfrey fired. As Irene falls for her new butler\, Godfrey turns the tables and teaches the frivolous Bullocks a lesson or two.\n\n_______________\n\nON-SITE | Non-Members: General admission; Members: Free\nONLINE | Non-Members: $5.00; Members: Free\nRegister: https://ihm.ec/mymangodfrey\nIllinois Holocaust Museum’s presentation of “Ghost Army: The Combat Con Artists of World War II” and exhibition-related programming is made possible with generous support from our Supporters\, Enjoy Illinois\, Pritzker Military Museum & Library\, Larry and Carol Levy\, Laurie and Phillip Gerber & Family; from Contributors\, David Hiller\, Judith and William Rader & Family; from Additional Funders\, First Division Museum at Cantigny Park\, Amy Bazelon and Gary Mitzvah\, Golder Family Foundation\, Michael and Debbie Strauss\, Barbara and Victor Weisskopf; and from Media Partners\, Clear Channel Outdoor\, Chicago Reader\, CBS Channel 2\, WBEZ 91.5.Community Partners: 84th Great Lakes Training Division at Fort Sheridan; Honor Flight Chicago; Illinois Department of Jewish War Veterans of the USA“Ghost Army: The Combat Con Artists of World War II” was produced by The National World War II Museum.
URL:https://www.chicagoculturalalliance.org/event/live-performance-lux-radio-theatre-my-man-godfrey/
LOCATION:Illinois Holocaust Museum\, 9603 Woods Drive\, Skokie\, IL\, 60077\, United States
CATEGORIES:Member Events,Music, Film, and Theater
ATTACH;FMTTYPE=image/jpeg:https://www.chicagoculturalalliance.org/wp-content/uploads/2022/08/291124835_10166278358080721_2600471329289006471_n.jpg
GEO:42.0564867;-87.7607268
X-APPLE-STRUCTURED-LOCATION;VALUE=URI;X-ADDRESS=Illinois Holocaust Museum 9603 Woods Drive Skokie IL 60077 United States;X-APPLE-RADIUS=500;X-TITLE=9603 Woods Drive:geo:-87.7607268,42.0564867
END:VEVENT
BEGIN:VEVENT
DTSTART;TZID=America/Chicago:20220825T170000
DTEND;TZID=America/Chicago:20220825T180000
DTSTAMP:20260425T101917
CREATED:20220809T220711Z
LAST-MODIFIED:20220809T220711Z
UID:10001685-1661446800-1661450400@www.chicagoculturalalliance.org
SUMMARY:Art After Work: Eugene von Bruenchenhein
DESCRIPTION:Join Intuit for Art After Work\, a free series of facilitated art-making workshops inspired by outsider and self-taught art and artists from the museum’s collections and exhibitions. This month\, Intuit Teacher Fellow and art educator Dorothy Broers will facilitate a workshop inspired by self-taught artist Eugene von Bruenchenhein. In the in-person workshop\, participants will survey von Bruenchenhein’s vibrant and fantastic paintings to make their own layered artworks using printmaking techniques. \n_______________ \n\n\n\n\nMaterials at Intuit \n\nTracing paper\nCardboard\nBlock printing inks\nWater\nBrayers\nItems you can use to scrape / draw into wet ink\nDisposable gloves\nAprons\n\nArt After Work is for everyone\, including beginners and people who say they “are not artists.” We can all be artists! It is a guided workshop\, and instruction will begin at 5 p.m. in the museum’s performance space. \nPlease contact Courtney Thompson at courtney@art.org with questions related to accessibility accommodations. \nArt After Work is free to join! To show your support to Intuit\, please consider the pay-what-you-can option when you complete your reservation. Your contributions help ensure the sustainability of our public programs and support guest lecturers and teaching artists. \nPlease check your junk folder for event reminders. Unfortunately\, these emails are sent there sometimes. \n\n\n\n\nArt After Work is funded in part by the Alphawood Foundation\, the Department of Cultural Affairs\, Gaylord and Dorothy Donnelley Foundation\, Illinois Arts Council Agency\, Illinois Humanities\, National Endowment for the Arts\, Prince Charitable Trust\, Terra Foundation for American Art\, and individual donations from Intuit members and supporters. \n\n\n\n\nMeet Dorothy Broers \nDorothy Broers is a K-12 visual arts teacher who works with children and adults with developmental disabilities and autism. Her pedagogy is informed by a passion to provide inclusive opportunities for all students to engage in rich arts education experiences. Through her work in the Teacher Fellowship Program\, Dorothy has gained a deep appreciation for outsider art and has incorporated lessons about self-taught artists in her school curriculum. Dorothy is also a freelance photographer and has exhibited at Woman Made Gallery\, the Riverside Arts Center Freeark Gallery and Co-Prosperity Sphere. She lives and works in Chicago.
URL:https://www.chicagoculturalalliance.org/event/art-after-work-eugene-von-bruenchenhein/
LOCATION:Intuit: The Center for Intuitive and Outsider Art\, 756 North Milwaukee Avenue\, Chicago\, IL\, 60642\, United States
CATEGORIES:Member Events,Workshops and Classes
ATTACH;FMTTYPE=image/jpeg:https://www.chicagoculturalalliance.org/wp-content/uploads/2022/08/Screenshot-2022-08-09-170644.jpg
GEO:41.8953517;-87.6546064
X-APPLE-STRUCTURED-LOCATION;VALUE=URI;X-ADDRESS=Intuit: The Center for Intuitive and Outsider Art 756 North Milwaukee Avenue Chicago IL 60642 United States;X-APPLE-RADIUS=500;X-TITLE=756 North Milwaukee Avenue:geo:-87.6546064,41.8953517
END:VEVENT
BEGIN:VEVENT
DTSTART;TZID=America/Chicago:20220825T190000
DTEND;TZID=America/Chicago:20220825T230000
DTSTAMP:20260425T101917
CREATED:20220802T205658Z
LAST-MODIFIED:20220802T205658Z
UID:10001664-1661454000-1661468400@www.chicagoculturalalliance.org
SUMMARY:Neighborhood Nights
DESCRIPTION:COME ENJOY A BEVERAGE WITH A SPECTACULAR EXPERIENCE IN OUR ICONIC 6TH FLOOR SKYLINE LOUNGE & TERRACE \nA perfect place to meet your neighbors and socialize! \nEach 2nd & 4th Thursday of the month from 7-11 PM. Proceeds support the DANK Haus Museum
URL:https://www.chicagoculturalalliance.org/event/neighborhood-nights-9/2022-08-25/
LOCATION:DANK Haus German American Cultural Center\, 4740 N. Western Ave.\, Chicago\, IL\, 60625\, United States
CATEGORIES:Food and Drink,Member Events
ATTACH;FMTTYPE=image/jpeg:https://www.chicagoculturalalliance.org/wp-content/uploads/2022/08/277367374_10159980304874455_1095348768595203589_n.jpg
GEO:41.9680013;-87.6890642
X-APPLE-STRUCTURED-LOCATION;VALUE=URI;X-ADDRESS=DANK Haus German American Cultural Center 4740 N. Western Ave. Chicago IL 60625 United States;X-APPLE-RADIUS=500;X-TITLE=4740 N. Western Ave.:geo:-87.6890642,41.9680013
END:VEVENT
BEGIN:VEVENT
DTSTART;TZID=America/Chicago:20220826T113000
DTEND;TZID=America/Chicago:20220826T150000
DTSTAMP:20260425T101917
CREATED:20220719T213136Z
LAST-MODIFIED:20220728T170920Z
UID:10001633-1661513400-1661526000@www.chicagoculturalalliance.org
SUMMARY:Pop-Up Café at the Swedish American Museum
DESCRIPTION:Pop by the Museum today or tomorrow for fika in our main gallery space on the first floor. Enjoy some Swedish coffee and cinnamon rolls while you relax and enjoy the photos of famous Blues musicians taken by Hans Ekestang or go outside and sit in our courtyard. \nWe will be having weekly Pop-Up Cafés every Friday and Saturday through now and August.
URL:https://www.chicagoculturalalliance.org/event/pop-up-cafe-at-the-swedish-american-museum/2022-08-26/
LOCATION:Swedish American Museum\, 5211 N. Clark St.\, Chicago\, IL\, 60640\, United States
CATEGORIES:Food and Drink,Member Events,Music, Film, and Theater
ATTACH;FMTTYPE=image/png:https://www.chicagoculturalalliance.org/wp-content/uploads/2022/07/294038682_10161307694499714_5108890385138874464_n.png
GEO:41.9766451;-87.668015
X-APPLE-STRUCTURED-LOCATION;VALUE=URI;X-ADDRESS=Swedish American Museum 5211 N. Clark St. Chicago IL 60640 United States;X-APPLE-RADIUS=500;X-TITLE=5211 N. Clark St.:geo:-87.668015,41.9766451
END:VEVENT
BEGIN:VEVENT
DTSTART;TZID=America/Chicago:20220826T160000
DTEND;TZID=America/Chicago:20220826T190000
DTSTAMP:20260425T101917
CREATED:20220809T175501Z
LAST-MODIFIED:20220809T175501Z
UID:10001680-1661529600-1661540400@www.chicagoculturalalliance.org
SUMMARY:Youth Mural Unveiling & Open House
DESCRIPTION:Join us for an evening packed with exciting unveilings of new experiences at the Mitchell Museum! \nThis premium event is open to the public. Admission is free for Mitchell Museum members and Tribal Citizens; $25 for non-members. Be among the first to witness the unveiling of our new mural and meet the 9 young artists that created it. The mural is part of a collaboration with St. Kateri Youth Circle\, a non-profit that provides programming on Native American values and traditions for Native youth in the Chicago area. We will also be revealing our new online exhibit that highlights the exceptional children’s books Atika’s Medicine and I’m Not A Costume by author Maria Des Jarlait (Arikara\, Ojibwe)\, who will also be on hand to share her stories and sign copies of her books for attendees.    \nThe evening will also include food catered by Native American Foods and casual tours of our new Indigenous Medicine Garden as well as our Collections!   \nWe are excited to announce two new perks for our all our members: Exclusive member walking tours and checking out books from our library!   \n\n\n\n\n\n\n_______________\n\n\n\n\n\n\n\nNot a member yet? Our annual museum memberships start at just $40. You can find more information about member benefits here. \nFor more information about this program\, please contact: info@mitchellmuseum.org | (847) 475-1030 | www.mitchellmuseum.org/events/
URL:https://www.chicagoculturalalliance.org/event/youth-mural-unveiling-open-house/
LOCATION:Mitchell Museum of the American Indian\, 3001 central street\, Evanston\, IL\, 60201\, United States
CATEGORIES:Exhibitions and Gallery Events,Food and Drink,Member Events,Talks and Gatherings,Tour
ATTACH;FMTTYPE=image/png:https://www.chicagoculturalalliance.org/wp-content/uploads/2022/08/Open-House-2022-eventbrite-1280x640-1.png
GEO:42.0647313;-87.7181467
X-APPLE-STRUCTURED-LOCATION;VALUE=URI;X-ADDRESS=Mitchell Museum of the American Indian 3001 central street Evanston IL 60201 United States;X-APPLE-RADIUS=500;X-TITLE=3001 central street:geo:-87.7181467,42.0647313
END:VEVENT
BEGIN:VEVENT
DTSTART;TZID=America/Chicago:20220826T183000
DTEND;TZID=America/Chicago:20220826T203000
DTSTAMP:20260425T101917
CREATED:20220802T211145Z
LAST-MODIFIED:20220802T211145Z
UID:10001678-1661538600-1661545800@www.chicagoculturalalliance.org
SUMMARY:KULTURKÜCHE: German Cooking Classes
DESCRIPTION:Join us at the DANK Haus on Friday\, July 23rd for a Kulturküche Cooking Class! Chef Reinhard Richter is back with another delicious class at the DANK Haus! This time we will be learning how to make Obsttorte.\nWhat is Obsttorte? Obst (fruit) + Torte (cake) = Fruit cake.\nIt’s exactly what it sounds like! Cake with fruit! But not the indestructible fruit cakes of holiday infamy – this Obsttorte has a light base topped with fresh fruit – the perfect treat for a hot summer night!\nAll students will get hands on training from Chef Reinhard. One complimentary drink from our bar is included with your registration.\n_______________\n5th Floor\, Kitchen\nCost:\nWe are pleased to offer a discounted rate for Friends of the DANK Haus (What’s this?)\nFriends of DANK Haus: $20\nGeneral Public: $30\nFree parking at 5/3 Bank after 6:00 PM located at Western and Gunnison\n**** Our Kulturküche classes fill up fast. Payment must be received within 15 minutes of registration to avoid cancelling your enrollment. Please contact samantha@dankhaus.com with any questions.\nWe invite local chefs to teach participants how to make a German culinary treat. Whether it’s learning the secret to a perfect strudel or finding the right balance of meats for German sausage\, there is a little something for everyone. Class fee includes demonstration\, recipe\, one drink\, and of course tasting!
URL:https://www.chicagoculturalalliance.org/event/kulturkuche-german-cooking-classes/
LOCATION:DANK Haus German American Cultural Center\, 4740 N. Western Ave.\, Chicago\, IL\, 60625\, United States
CATEGORIES:Food and Drink,Member Events,Workshops and Classes
ATTACH;FMTTYPE=image/jpeg:https://www.chicagoculturalalliance.org/wp-content/uploads/2022/08/293765034_10160164804804455_4502948477614608451_n.jpg
GEO:41.9680013;-87.6890642
X-APPLE-STRUCTURED-LOCATION;VALUE=URI;X-ADDRESS=DANK Haus German American Cultural Center 4740 N. Western Ave. Chicago IL 60625 United States;X-APPLE-RADIUS=500;X-TITLE=4740 N. Western Ave.:geo:-87.6890642,41.9680013
END:VEVENT
BEGIN:VEVENT
DTSTART;TZID=America/Chicago:20220827T110000
DTEND;TZID=America/Chicago:20220827T140000
DTSTAMP:20260425T101917
CREATED:20220621T215612Z
LAST-MODIFIED:20220822T160326Z
UID:10001582-1661598000-1661608800@www.chicagoculturalalliance.org
SUMMARY:LAWNDALE Cook Out
DESCRIPTION:RESCHEDULED FOR AUGUST 27TH! \n\nThe LAWNDALE Cook Out hosted by Douglass 18 is a gathering to bring people from North Lawndale and South Lawndale together to promote Nature and Unity in our community.\nWe invite you to join us on August 27th from 11am to 2pm at Douglass 18 Mini-Golf Course (1401 S Sacramento Dr\, Chicago) for an afternoon of Mini-Golf\, Food\, Music and Art with Family and Friends.\nLAWNDALE Cook Out is part of a series of events connected to the One LAWNDALE Project presented by the North Lawndale Community Coordinating Council (NLCCC) and the Marshall Square Resource Network (MSRN).\n\nLearn more about the Lawndale Project: https://bit.ly/LawndaleProject\n\n_______________\nEl LAWNDALE Cook Out organizado por Douglass 18 es una reunión para reunir gente de North Lawndale y South Lawndale para promover la Naturaleza y la Unidad en nuestra comunidad.\nLo invitamos a venir el 27 de agosto de 11 am a 2 pm en el campo de minigolf Douglass 18 (1401 S Sacramento Dr\, Chicago) para una tarde de minigolf\, comida\, música y arte con familiares y amigos.\nLAWNDALE Cook Out es parte de una serie de eventos relacionados con el Proyecto One LAWNDALE presentado por el Consejo de Coordinación Comunitaria de North Lawndale (NLCCC) y Marshall Square Resource Network (MSRN).
URL:https://www.chicagoculturalalliance.org/event/lawndale-cook-out/
LOCATION:Douglas 18\, 1401 S Sacramento Dr\, 60623
CATEGORIES:Food and Drink,Member Events
ATTACH;FMTTYPE=image/jpeg:https://www.chicagoculturalalliance.org/wp-content/uploads/2022/06/288570827_5316267308467681_7677703730074826948_n.jpg
GEO:41.8624541;-87.6997484
X-APPLE-STRUCTURED-LOCATION;VALUE=URI;X-ADDRESS=Douglas 18 1401 S Sacramento Dr 60623;X-APPLE-RADIUS=500;X-TITLE=1401 S Sacramento Dr:geo:-87.6997484,41.8624541
END:VEVENT
BEGIN:VEVENT
DTSTART;TZID=America/Chicago:20220827T113000
DTEND;TZID=America/Chicago:20220827T150000
DTSTAMP:20260425T101917
CREATED:20220719T213136Z
LAST-MODIFIED:20220728T170920Z
UID:10001634-1661599800-1661612400@www.chicagoculturalalliance.org
SUMMARY:Pop-Up Café at the Swedish American Museum
DESCRIPTION:Pop by the Museum today or tomorrow for fika in our main gallery space on the first floor. Enjoy some Swedish coffee and cinnamon rolls while you relax and enjoy the photos of famous Blues musicians taken by Hans Ekestang or go outside and sit in our courtyard. \nWe will be having weekly Pop-Up Cafés every Friday and Saturday through now and August.
URL:https://www.chicagoculturalalliance.org/event/pop-up-cafe-at-the-swedish-american-museum/2022-08-27/
LOCATION:Swedish American Museum\, 5211 N. Clark St.\, Chicago\, IL\, 60640\, United States
CATEGORIES:Food and Drink,Member Events,Music, Film, and Theater
ATTACH;FMTTYPE=image/png:https://www.chicagoculturalalliance.org/wp-content/uploads/2022/07/294038682_10161307694499714_5108890385138874464_n.png
GEO:41.9766451;-87.668015
X-APPLE-STRUCTURED-LOCATION;VALUE=URI;X-ADDRESS=Swedish American Museum 5211 N. Clark St. Chicago IL 60640 United States;X-APPLE-RADIUS=500;X-TITLE=5211 N. Clark St.:geo:-87.668015,41.9766451
END:VEVENT
BEGIN:VEVENT
DTSTART;TZID=America/Chicago:20220827T140000
DTEND;TZID=America/Chicago:20220827T160000
DTSTAMP:20260425T101917
CREATED:20220802T202745Z
LAST-MODIFIED:20220802T202827Z
UID:10001659-1661608800-1661616000@www.chicagoculturalalliance.org
SUMMARY:Native American Summer Festival
DESCRIPTION:Join us at the Glen Ellyn Public Library Saturday\, August 27th\, from 2 PM – 4 PM! \nExperience Native American culture through storytelling\, music\, and dance provided by Trickster Cultural Center.
URL:https://www.chicagoculturalalliance.org/event/31415/
LOCATION:Glen Ellyn Public Library\, 400 Duane St\, Glen Ellyn\, IL\, 60137\, United States
CATEGORIES:Cultural Festivals and Fairs,Member Events
ATTACH;FMTTYPE=image/jpeg:https://www.chicagoculturalalliance.org/wp-content/uploads/2022/08/296090051_433654145443754_1744894230809066587_n.jpg
GEO:41.8756595;-88.0706083
X-APPLE-STRUCTURED-LOCATION;VALUE=URI;X-ADDRESS=Glen Ellyn Public Library 400 Duane St Glen Ellyn IL 60137 United States;X-APPLE-RADIUS=500;X-TITLE=400 Duane St:geo:-88.0706083,41.8756595
END:VEVENT
BEGIN:VEVENT
DTSTART;TZID=America/Chicago:20220827T183000
DTEND;TZID=America/Chicago:20220827T183000
DTSTAMP:20260425T101917
CREATED:20220621T230046Z
LAST-MODIFIED:20220719T221010Z
UID:10001585-1661625000-1661625000@www.chicagoculturalalliance.org
SUMMARY:Baila Conmigo!
DESCRIPTION:Baila Conmigo\, supporting local music artists while bringing artistic excellence and enjoyment to our community! \nThis outdoor event is held at the Puerto Rican Arts Alliance Terraza and FREE to the public. Audience is encouraged to bring a lawn chair. Due to limited space you should arrive early and no pets. Doors open 6pm \nSchedule: \nAngel Melendez\, Saturday\, August 27\, 2022 @ 6:30pm Doors open 6pm \nAlberto Álvarez\, Sunday\, September 17\, 2022 @ 6:30pm Doors Open 6pm \nCecilio Negrón\, Thursday\, October 6\, 2022 @6:30pm Doors Open 6pm
URL:https://www.chicagoculturalalliance.org/event/baila-conmigo/2022-08-27/
LOCATION:Puerto Rican Arts Alliance\, 3000 N Elbridge Ave\, Chicago\, IL\, 60618\, United States
CATEGORIES:Member Events,Music, Film, and Theater
ATTACH;FMTTYPE=image/jpeg:https://www.chicagoculturalalliance.org/wp-content/uploads/2022/06/Screenshot-2022-06-21-175950.jpg
GEO:41.9355781;-87.7171295
X-APPLE-STRUCTURED-LOCATION;VALUE=URI;X-ADDRESS=Puerto Rican Arts Alliance 3000 N Elbridge Ave Chicago IL 60618 United States;X-APPLE-RADIUS=500;X-TITLE=3000 N Elbridge Ave:geo:-87.7171295,41.9355781
END:VEVENT
END:VCALENDAR