BEGIN:VCALENDAR
VERSION:2.0
PRODID:-//Chicago Cultural Alliance - ECPv6.15.20//NONSGML v1.0//EN
CALSCALE:GREGORIAN
METHOD:PUBLISH
X-ORIGINAL-URL:https://www.chicagoculturalalliance.org
X-WR-CALDESC:Events for Chicago Cultural Alliance
REFRESH-INTERVAL;VALUE=DURATION:PT1H
X-Robots-Tag:noindex
X-PUBLISHED-TTL:PT1H
BEGIN:VTIMEZONE
TZID:America/Chicago
BEGIN:DAYLIGHT
TZOFFSETFROM:-0600
TZOFFSETTO:-0500
TZNAME:CDT
DTSTART:20210314T080000
END:DAYLIGHT
BEGIN:STANDARD
TZOFFSETFROM:-0500
TZOFFSETTO:-0600
TZNAME:CST
DTSTART:20211107T070000
END:STANDARD
BEGIN:DAYLIGHT
TZOFFSETFROM:-0600
TZOFFSETTO:-0500
TZNAME:CDT
DTSTART:20220313T080000
END:DAYLIGHT
BEGIN:STANDARD
TZOFFSETFROM:-0500
TZOFFSETTO:-0600
TZNAME:CST
DTSTART:20221106T070000
END:STANDARD
BEGIN:DAYLIGHT
TZOFFSETFROM:-0600
TZOFFSETTO:-0500
TZNAME:CDT
DTSTART:20230312T080000
END:DAYLIGHT
BEGIN:STANDARD
TZOFFSETFROM:-0500
TZOFFSETTO:-0600
TZNAME:CST
DTSTART:20231105T070000
END:STANDARD
END:VTIMEZONE
BEGIN:VEVENT
DTSTART;VALUE=DATE:20220806
DTEND;VALUE=DATE:20221211
DTSTAMP:20260425T084542
CREATED:20220719T213700Z
LAST-MODIFIED:20220719T213700Z
UID:10001635-1659744000-1670716799@www.chicagoculturalalliance.org
SUMMARY:Exhibition: “Unbearable Memories\, Unspeakable Histories”: Partition Anti-Memorial Project
DESCRIPTION:Through experiential art installations “Unbearable Memories\, Unspeakable Histories” investigates the Partition of India in 1947. \n\n\n\n\n\nThis year marks 75 years since the Partition of India in 1947\, which created Pakistan\, and eventually\, Bangladesh in 1971. Pritika Chowdhry’s experiential art installations are temporary ‘anti-memorials’ to the Partition. \nOften described as the Holocaust of South Asia\, the Partition triggered the largest migration in human history with over 20 million people displaced\, approximately 2 million killed and over 300\,000 women were abducted in the communal violence that ensued. \nThe exhibition addresses the many facets of the Partition from a counter-memory perspective through experiential art installations. The title alludes to the painful and silenced narratives that have been elided from mainstream discourses of the Partition. \nWhen a memory is unbearable\, how does one memorialize it? And when a history is unspeakable\, how does one talk about it? The exhibition’s title\, “Unbearable Memories\, Unspeakable Histories” alludes to the painful and silenced narratives that have been excluded from mainstream discourses of the Partition. \n\n_______________ \nARTIST LED TOURS AT 1PM EVERY OTHER SATURDAY! \nSep 3 and 17 | Oct 01\, 15 and 29 | Nov 12 | Dec 10
URL:https://www.chicagoculturalalliance.org/event/exhibition-unbearable-memories-unspeakable-histories-partition-anti-memorial-project/
LOCATION:South Asia Institute\, 1925 South Michigan Avenue\, Chicago\, IL\, 60616\, United States
CATEGORIES:Exhibitions and Gallery Events,Member Events
ATTACH;FMTTYPE=image/jpeg:https://www.chicagoculturalalliance.org/wp-content/uploads/2022/07/Screenshot-2022-07-19-163214.jpg
GEO:41.8558642;-87.6234583
X-APPLE-STRUCTURED-LOCATION;VALUE=URI;X-ADDRESS=South Asia Institute 1925 South Michigan Avenue Chicago IL 60616 United States;X-APPLE-RADIUS=500;X-TITLE=1925 South Michigan Avenue:geo:-87.6234583,41.8558642
END:VEVENT
BEGIN:VEVENT
DTSTART;VALUE=DATE:20220916
DTEND;VALUE=DATE:20221231
DTSTAMP:20260425T084542
CREATED:20220728T164436Z
LAST-MODIFIED:20220810T190504Z
UID:10001648-1663286400-1672444799@www.chicagoculturalalliance.org
SUMMARY:RESILIENCE – Photography Exhibit
DESCRIPTION:Join us for the grand reopening of the National Hellenic Museum this fall \nwith the world premiere of a major photography exhibition \nResilience\nBy HRH Prince Nikolaos\nSeptember 16 – December 30\, 2022 \nPrince Nikolaos is an accomplished photographer whose work has been exhibited in major global cities including Athens\, London\, Copenhagen\, Doha and Melbourne—and now Chicago audiences and visitors from across the country will have the opportunity to experience his striking and impactful images. The National Hellenic Museum is honored to host Prince Nikolaos’ North American exhibition debut and excited to welcome our community back to the museum this fall. \nMore information on Resilience is available on the NHM website here and in this article from The National Herald. \nThe museum will resume regular public hours beginning September 16\, on Friday-Sunday from 10 AM -5 PM \nResilience by HRH Prince Nikolaos will be exhibited at the National Hellenic Museum (333 S. Halsted Street\, Chicago) from September 16 through December 30\, 2022. \nMuseum hours are Friday-Sunday from 10 AM -5 PM\nTickets to the museum are $10 and include admission to all exhibits. Discounts are available for seniors\, students and children. \nFor more information\, visit nationalhellenicmuseum.org or call 312-655-1234
URL:https://www.chicagoculturalalliance.org/event/resilience-photography-exhibit/
LOCATION:National Hellenic Museum\, 333 S. Halsted St.\, Chicago\, IL\, 60661\, United States
CATEGORIES:Exhibitions and Gallery Events,Member Events
ATTACH;FMTTYPE=image/jpeg:https://www.chicagoculturalalliance.org/wp-content/uploads/2022/07/Resilience-1.jpg
GEO:41.8769371;-87.646937
X-APPLE-STRUCTURED-LOCATION;VALUE=URI;X-ADDRESS=National Hellenic Museum 333 S. Halsted St. Chicago IL 60661 United States;X-APPLE-RADIUS=500;X-TITLE=333 S. Halsted St.:geo:-87.646937,41.8769371
END:VEVENT
BEGIN:VEVENT
DTSTART;TZID=America/Chicago:20221105T190000
DTEND;TZID=America/Chicago:20221105T190000
DTSTAMP:20260425T084542
CREATED:20220809T220229Z
LAST-MODIFIED:20221102T190901Z
UID:10001684-1667674800-1667674800@www.chicagoculturalalliance.org
SUMMARY:24th Annual National Cuatro Festival!
DESCRIPTION:The Cuatro is regarded as the national instrument of Puerto Rico and is revered by the Puerto Rican community as an important part of our history. It is recognized and acknowledged as “our guitar” and holds important traditional and historical value. The Emmy Award-winning Annual National Cuatro Festival (NCF) is a unique music event that brings the best Cuatro musicians “Cuatristas” from Puerto Rico and the mainland to Chicago for a one-of-a-kind concert experience. This cultural event highlights the national instrument of Puerto Rico as an important part of our heritage and history. \nEach year there is a special dedication and one of the highlights of the concert is an opening performance showcasing students from the Puerto Rican Arts Alliance’s Latin Music Project Ensemble. It is more than a concert\, it as a gathering of Chicago’s most long time Latino residents\, the Puerto Rican community\, and an opportunity to join together with pride to celebrate the beauty of the Chicago’s diversity. Preserving Puerto Rican traditions is at the heart of PRAA’s work and the National Cuatro Festival is a key part of our cultural and educational initiatives. \nOver the years the National Cuatro Festival has presented great cuatristas like Yomo Toro\, Pedro Guzman\, Alvin Medina\, Luis Sanz\, Prodijio Claudio\, Christina Nieves\, Manny Trinidad\, Emma Colon Zayas\, Madibel Delgado\, Juradito\, Quique Domenech\, Javier Mendez\, among others. Additionally\, great iconic popular and folk music singers/groups such as Victoria Sanabria\, Tavin Pumarejo\, Odilo Gonzalez\, Felito Felix\, Andy Montañez\, Yolandita Monge\, Charlie Aponte\, Ismael Miranda\, Jose Nogueras\, Los Cantores de Bayamon\, Mapeye\, La Rondalla de Humacao\, Puerto Rico Philharmonic\, Angel Cucco Peña\, Jose Luis Ortiz\, Los Hermanos Olvarria\, Andres Jimenez\, Modesto Nieves\, Angel Luis Torruellas\, Los Hermanos Sanz and Danny Rivera have graced our stage. \nThis year due to the pandemic COVI9 19\, the Harris Theater has instituted some audience safety protocols.
URL:https://www.chicagoculturalalliance.org/event/24th-annual-national-cuatro-festival/
LOCATION:Harris Theatre for Music and Dance\, 205 E. Randolph Drive\, Chicago\, IL\, 60601\, United States
CATEGORIES:Member Events,Music, Film, and Theater
ATTACH;FMTTYPE=image/jpeg:https://www.chicagoculturalalliance.org/wp-content/uploads/2022/08/PRAA_FB_Banner_20221.jpg
GEO:41.8837886;-87.6218774
X-APPLE-STRUCTURED-LOCATION;VALUE=URI;X-ADDRESS=Harris Theatre for Music and Dance 205 E. Randolph Drive Chicago IL 60601 United States;X-APPLE-RADIUS=500;X-TITLE=205 E. Randolph Drive:geo:-87.6218774,41.8837886
END:VEVENT
END:VCALENDAR