BEGIN:VCALENDAR
VERSION:2.0
PRODID:-//Chicago Cultural Alliance - ECPv6.15.20//NONSGML v1.0//EN
CALSCALE:GREGORIAN
METHOD:PUBLISH
X-ORIGINAL-URL:https://www.chicagoculturalalliance.org
X-WR-CALDESC:Events for Chicago Cultural Alliance
REFRESH-INTERVAL;VALUE=DURATION:PT1H
X-Robots-Tag:noindex
X-PUBLISHED-TTL:PT1H
BEGIN:VTIMEZONE
TZID:America/Chicago
BEGIN:DAYLIGHT
TZOFFSETFROM:-0600
TZOFFSETTO:-0500
TZNAME:CDT
DTSTART:20210314T080000
END:DAYLIGHT
BEGIN:STANDARD
TZOFFSETFROM:-0500
TZOFFSETTO:-0600
TZNAME:CST
DTSTART:20211107T070000
END:STANDARD
BEGIN:DAYLIGHT
TZOFFSETFROM:-0600
TZOFFSETTO:-0500
TZNAME:CDT
DTSTART:20220313T080000
END:DAYLIGHT
BEGIN:STANDARD
TZOFFSETFROM:-0500
TZOFFSETTO:-0600
TZNAME:CST
DTSTART:20221106T070000
END:STANDARD
BEGIN:DAYLIGHT
TZOFFSETFROM:-0600
TZOFFSETTO:-0500
TZNAME:CDT
DTSTART:20230312T080000
END:DAYLIGHT
BEGIN:STANDARD
TZOFFSETFROM:-0500
TZOFFSETTO:-0600
TZNAME:CST
DTSTART:20231105T070000
END:STANDARD
END:VTIMEZONE
BEGIN:VEVENT
DTSTART;VALUE=DATE:20220806
DTEND;VALUE=DATE:20221211
DTSTAMP:20260425T084018
CREATED:20220719T213700Z
LAST-MODIFIED:20220719T213700Z
UID:10001635-1659744000-1670716799@www.chicagoculturalalliance.org
SUMMARY:Exhibition: “Unbearable Memories\, Unspeakable Histories”: Partition Anti-Memorial Project
DESCRIPTION:Through experiential art installations “Unbearable Memories\, Unspeakable Histories” investigates the Partition of India in 1947. \n\n\n\n\n\nThis year marks 75 years since the Partition of India in 1947\, which created Pakistan\, and eventually\, Bangladesh in 1971. Pritika Chowdhry’s experiential art installations are temporary ‘anti-memorials’ to the Partition. \nOften described as the Holocaust of South Asia\, the Partition triggered the largest migration in human history with over 20 million people displaced\, approximately 2 million killed and over 300\,000 women were abducted in the communal violence that ensued. \nThe exhibition addresses the many facets of the Partition from a counter-memory perspective through experiential art installations. The title alludes to the painful and silenced narratives that have been elided from mainstream discourses of the Partition. \nWhen a memory is unbearable\, how does one memorialize it? And when a history is unspeakable\, how does one talk about it? The exhibition’s title\, “Unbearable Memories\, Unspeakable Histories” alludes to the painful and silenced narratives that have been excluded from mainstream discourses of the Partition. \n\n_______________ \nARTIST LED TOURS AT 1PM EVERY OTHER SATURDAY! \nSep 3 and 17 | Oct 01\, 15 and 29 | Nov 12 | Dec 10
URL:https://www.chicagoculturalalliance.org/event/exhibition-unbearable-memories-unspeakable-histories-partition-anti-memorial-project/
LOCATION:South Asia Institute\, 1925 South Michigan Avenue\, Chicago\, IL\, 60616\, United States
CATEGORIES:Exhibitions and Gallery Events,Member Events
ATTACH;FMTTYPE=image/jpeg:https://www.chicagoculturalalliance.org/wp-content/uploads/2022/07/Screenshot-2022-07-19-163214.jpg
GEO:41.8558642;-87.6234583
X-APPLE-STRUCTURED-LOCATION;VALUE=URI;X-ADDRESS=South Asia Institute 1925 South Michigan Avenue Chicago IL 60616 United States;X-APPLE-RADIUS=500;X-TITLE=1925 South Michigan Avenue:geo:-87.6234583,41.8558642
END:VEVENT
BEGIN:VEVENT
DTSTART;VALUE=DATE:20220916
DTEND;VALUE=DATE:20221231
DTSTAMP:20260425T084018
CREATED:20220728T164436Z
LAST-MODIFIED:20220810T190504Z
UID:10001648-1663286400-1672444799@www.chicagoculturalalliance.org
SUMMARY:RESILIENCE – Photography Exhibit
DESCRIPTION:Join us for the grand reopening of the National Hellenic Museum this fall \nwith the world premiere of a major photography exhibition \nResilience\nBy HRH Prince Nikolaos\nSeptember 16 – December 30\, 2022 \nPrince Nikolaos is an accomplished photographer whose work has been exhibited in major global cities including Athens\, London\, Copenhagen\, Doha and Melbourne—and now Chicago audiences and visitors from across the country will have the opportunity to experience his striking and impactful images. The National Hellenic Museum is honored to host Prince Nikolaos’ North American exhibition debut and excited to welcome our community back to the museum this fall. \nMore information on Resilience is available on the NHM website here and in this article from The National Herald. \nThe museum will resume regular public hours beginning September 16\, on Friday-Sunday from 10 AM -5 PM \nResilience by HRH Prince Nikolaos will be exhibited at the National Hellenic Museum (333 S. Halsted Street\, Chicago) from September 16 through December 30\, 2022. \nMuseum hours are Friday-Sunday from 10 AM -5 PM\nTickets to the museum are $10 and include admission to all exhibits. Discounts are available for seniors\, students and children. \nFor more information\, visit nationalhellenicmuseum.org or call 312-655-1234
URL:https://www.chicagoculturalalliance.org/event/resilience-photography-exhibit/
LOCATION:National Hellenic Museum\, 333 S. Halsted St.\, Chicago\, IL\, 60661\, United States
CATEGORIES:Exhibitions and Gallery Events,Member Events
ATTACH;FMTTYPE=image/jpeg:https://www.chicagoculturalalliance.org/wp-content/uploads/2022/07/Resilience-1.jpg
GEO:41.8769371;-87.646937
X-APPLE-STRUCTURED-LOCATION;VALUE=URI;X-ADDRESS=National Hellenic Museum 333 S. Halsted St. Chicago IL 60661 United States;X-APPLE-RADIUS=500;X-TITLE=333 S. Halsted St.:geo:-87.646937,41.8769371
END:VEVENT
BEGIN:VEVENT
DTSTART;TZID=America/Chicago:20221116T170000
DTEND;TZID=America/Chicago:20221116T180000
DTSTAMP:20260425T084018
CREATED:20221102T200141Z
LAST-MODIFIED:20221102T200141Z
UID:10001862-1668618000-1668621600@www.chicagoculturalalliance.org
SUMMARY:Bold Byzantine Women: Empress Theodora\, Anna Komnene\, and St. Kassia
DESCRIPTION:Join NHM Discussions as we explore the lives and legacies of three of the Byzantine Empire’s most influential figures: Empress Theodora\, Anna Komnene\, and St. Kassia. Theirs are stories of palace intrigue\, spiritual seeking\, and intellectual vibrancy. In the man’s world of the Byzantine Empire\, these three women left a legacy for us today.
URL:https://www.chicagoculturalalliance.org/event/bold-byzantine-women-empress-theodora-anna-komnene-and-st-kassia/2022-11-16/
LOCATION:Online\, IL\, United States
CATEGORIES:Member Events,Online Events,Talks and Gatherings,Workshops and Classes
ATTACH;FMTTYPE=image/jpeg:https://www.chicagoculturalalliance.org/wp-content/uploads/2022/11/byz-women-1.jpg
GEO:40.6331249;-89.3985283
END:VEVENT
BEGIN:VEVENT
DTSTART;TZID=America/Chicago:20221117T190000
DTEND;TZID=America/Chicago:20221117T200000
DTSTAMP:20260425T084018
CREATED:20220629T183203Z
LAST-MODIFIED:20220728T164759Z
UID:10001596-1668711600-1668715200@www.chicagoculturalalliance.org
SUMMARY:NHM Virtual Book Club – The Greeks: A Global History
DESCRIPTION:Join the National Hellenic Museum’s Virtual Book Club! \nIn November\, we will be discussing The Greeks: A Global History by Roderick Beaton\, a sweeping history of the Greeks\, from the Bronze Age to today. This title was selected by members of NHM Virtual Book Club \nBook Club is free to join and meets on the third Thursday of each month at 7 PM CST \n  \nMore about The Greeks: A Global History: \nMore than 2\,000 years ago\, the Greek city-states\, led by Athens and Sparta\, laid the foundation for much of modern science\, the arts\, politics\, and law. But the influence of the Greeks did not end with the rise and fall of this classical civilization. As historian Roderick Beaton illustrates\, over three millennia Greek speakers produced a series of civilizations that were rooted in southeastern Europe but again and again ranged widely across the globe. \nIn The Greeks\, Beaton traces this history from the Bronze Age Mycenaeans who built powerful fortresses at home and strong trade routes abroad\, to the dramatic Eurasian conquests of Alexander the Great\, to the pious Byzantines who sought to export Christianity worldwide\, to today’s Greek diaspora\, which flourishes on five continents. The product of decades of research\, this is the story of the Greeks and their global impact told as never before.
URL:https://www.chicagoculturalalliance.org/event/nhm-virtual-book-club-the-greeks-a-global-history/
LOCATION:Online\, IL\, United States
CATEGORIES:Member Events,Online Events,Talks and Gatherings
ATTACH;FMTTYPE=image/jpeg:https://www.chicagoculturalalliance.org/wp-content/uploads/2022/06/Nov-BC-22.jpg
GEO:40.6331249;-89.3985283
END:VEVENT
BEGIN:VEVENT
DTSTART;TZID=America/Chicago:20221119T180000
DTEND;TZID=America/Chicago:20221119T210000
DTSTAMP:20260425T084018
CREATED:20221109T184700Z
LAST-MODIFIED:20221109T184700Z
UID:10001883-1668880800-1668891600@www.chicagoculturalalliance.org
SUMMARY:The Mitchell Museum of the American Indian 45th Anniversary Benefit & Awards Ceremony
DESCRIPTION:The Mitchell Museum of the American Indian will honor U.S. Representative Sharice Davids for her significant contributions to Native American society\, culture\, and history at the 45th Anniversary Benefit and Awards Ceremony on November 19\, 2022\, at Writers Theater in Glencoe\, Illinois. \nOur premier event and annual awards ceremony is named for Dr. Carlos Montezuma\, a citizen of the Yavapai-Apache Tribe. He worked as a physician and social justice activist for Native American rights. Dr. Montezuma was the first Native American to earn an undergraduate and a medical degree from Northwestern University. In 1904 he became one of the founders of the Society for American Indians\, which focused on improving the physical\, social\, and economic well-being of Native Americans. \n\n\n\n\n\n\n\nU.S. Representative Sharice Davids will receive the 2022 Dr. Montezuma Award for her contributions to social activism that have advanced Native American people nationally. Rep. Davids is a Ho-Chunk Nation citizen and a member of the U.S. House\, representing Kansas’ 3rd Congressional District. In 2019\, she was sworn into the 116th Congress\, making her one of the first two Native American women to serve in Congress and the first openly LGBTQ+ representative to be elected in Kansas. She was raised by a single mother who served in the Army for 20 years. After graduating from Leavenworth High School\, she worked through Johnson County Community College and the University of Missouri-Kansas City before earning a law degree from Cornell Law School. \nAs a first-generation college student who worked the entire time she was in college\, Rep. Davids understands the importance of quality public schools and affordable higher education. That foundation allowed her to go on to a successful career focused on economic and community development\, which included time as a White House Fellow under President Barack Obama.
URL:https://www.chicagoculturalalliance.org/event/the-mitchell-museum-of-the-american-indian-45th-anniversary-benefit-awards-ceremony/
LOCATION:Writer’s Theater\, 325 Tudor Ct\, Glencoe\, IL\, 60022\, United States
CATEGORIES:Member Events,Talks and Gatherings
ATTACH;FMTTYPE=image/png:https://www.chicagoculturalalliance.org/wp-content/uploads/2022/11/45th-Anniversary-Benefit-Awards-Ceremony-2160-×-1080-px-1.png
GEO:42.1352006;-87.7595349
X-APPLE-STRUCTURED-LOCATION;VALUE=URI;X-ADDRESS=Writer’s Theater 325 Tudor Ct Glencoe IL 60022 United States;X-APPLE-RADIUS=500;X-TITLE=325 Tudor Ct:geo:-87.7595349,42.1352006
END:VEVENT
END:VCALENDAR