BEGIN:VCALENDAR
VERSION:2.0
PRODID:-//Chicago Cultural Alliance - ECPv6.15.20//NONSGML v1.0//EN
CALSCALE:GREGORIAN
METHOD:PUBLISH
X-ORIGINAL-URL:https://www.chicagoculturalalliance.org
X-WR-CALDESC:Events for Chicago Cultural Alliance
REFRESH-INTERVAL;VALUE=DURATION:PT1H
X-Robots-Tag:noindex
X-PUBLISHED-TTL:PT1H
BEGIN:VTIMEZONE
TZID:America/Chicago
BEGIN:DAYLIGHT
TZOFFSETFROM:-0600
TZOFFSETTO:-0500
TZNAME:CDT
DTSTART:20220313T080000
END:DAYLIGHT
BEGIN:STANDARD
TZOFFSETFROM:-0500
TZOFFSETTO:-0600
TZNAME:CST
DTSTART:20221106T070000
END:STANDARD
BEGIN:DAYLIGHT
TZOFFSETFROM:-0600
TZOFFSETTO:-0500
TZNAME:CDT
DTSTART:20230312T080000
END:DAYLIGHT
BEGIN:STANDARD
TZOFFSETFROM:-0500
TZOFFSETTO:-0600
TZNAME:CST
DTSTART:20231105T070000
END:STANDARD
BEGIN:DAYLIGHT
TZOFFSETFROM:-0600
TZOFFSETTO:-0500
TZNAME:CDT
DTSTART:20240310T080000
END:DAYLIGHT
BEGIN:STANDARD
TZOFFSETFROM:-0500
TZOFFSETTO:-0600
TZNAME:CST
DTSTART:20241103T070000
END:STANDARD
END:VTIMEZONE
BEGIN:VEVENT
DTSTART;VALUE=DATE:20230201
DTEND;VALUE=DATE:20230206
DTSTAMP:20260424T214658
CREATED:20230117T155628Z
LAST-MODIFIED:20230123T212611Z
UID:10003148-1675209600-1675641599@www.chicagoculturalalliance.org
SUMMARY:Architecture & Design Film Festival
DESCRIPTION:This winter the CAC will be transforming our galleries into a temporary cineplex and welcoming the New York City-based Architecture & Design Film Festival. The line-up includes 15 feature films and more than a dozen free film shorts from all across the world\, each sharing a unique story of innovation and sustainability in architecture\, design and fashion. Come join us for this festive celebration for the design-minded. From creative explorations of fascinating architects like Winy Maas and Geoffrey Bawa\, to celebrations in artmaking from Marimekko to street art\, to the behind-the-scenes drama in everything from contemporary design competitions to community preservation movements\, there is something on view for most everyone. \n15 stories of innovation and sustainability in architecture\, design and fashion. Hosted by the Architecture and Design Film Fest in partnership with the CAC\, all showings will be at the Chicago Architecture Center\, 111 E Wacker Drive. \nTickets are $20/film or $15 for CAC Members. Your ticket includes a single film showing\, access to view all ADFF Short Films before or after your movie time\, and headphone rental as needed. Please arrive 20-30 minutes ahead of your scheduled showtime to allow for check-in. \nView schedule information\, film trailers and more at filmfest.architecture.org.
URL:https://www.chicagoculturalalliance.org/event/architecture-design-film-festival/
LOCATION:Chicago Architecture Center\, 111 E Wacker Dr\, Chicago\, IL\, 60601\, United States
CATEGORIES:Cultural Festivals and Fairs,Member Events,Music, Film, and Theater
ATTACH;FMTTYPE=image/jpeg:https://www.chicagoculturalalliance.org/wp-content/uploads/2023/01/film-fest-v2.jpg
ORGANIZER;CN="Chicago Architecture Center":MAILTO:info@architecture.org
GEO:41.8876241;-87.6236513
X-APPLE-STRUCTURED-LOCATION;VALUE=URI;X-ADDRESS=Chicago Architecture Center 111 E Wacker Dr Chicago IL 60601 United States;X-APPLE-RADIUS=500;X-TITLE=111 E Wacker Dr:geo:-87.6236513,41.8876241
END:VEVENT
BEGIN:VEVENT
DTSTART;TZID=America/Chicago:20230202T100000
DTEND;TZID=America/Chicago:20230202T110000
DTSTAMP:20260424T214658
CREATED:20221102T200141Z
LAST-MODIFIED:20221102T200141Z
UID:10001864-1675332000-1675335600@www.chicagoculturalalliance.org
SUMMARY:Bold Byzantine Women: Empress Theodora\, Anna Komnene\, and St. Kassia
DESCRIPTION:Join NHM Discussions as we explore the lives and legacies of three of the Byzantine Empire’s most influential figures: Empress Theodora\, Anna Komnene\, and St. Kassia. Theirs are stories of palace intrigue\, spiritual seeking\, and intellectual vibrancy. In the man’s world of the Byzantine Empire\, these three women left a legacy for us today.
URL:https://www.chicagoculturalalliance.org/event/bold-byzantine-women-empress-theodora-anna-komnene-and-st-kassia/2023-02-02/
LOCATION:Online\, IL\, United States
CATEGORIES:Member Events,Online Events,Talks and Gatherings,Workshops and Classes
ATTACH;FMTTYPE=image/jpeg:https://www.chicagoculturalalliance.org/wp-content/uploads/2022/11/byz-women-1.jpg
GEO:40.6331249;-89.3985283
END:VEVENT
END:VCALENDAR