BEGIN:VCALENDAR
VERSION:2.0
PRODID:-//Chicago Cultural Alliance - ECPv6.15.20//NONSGML v1.0//EN
CALSCALE:GREGORIAN
METHOD:PUBLISH
X-ORIGINAL-URL:https://www.chicagoculturalalliance.org
X-WR-CALDESC:Events for Chicago Cultural Alliance
REFRESH-INTERVAL;VALUE=DURATION:PT1H
X-Robots-Tag:noindex
X-PUBLISHED-TTL:PT1H
BEGIN:VTIMEZONE
TZID:America/Chicago
BEGIN:DAYLIGHT
TZOFFSETFROM:-0600
TZOFFSETTO:-0500
TZNAME:CDT
DTSTART:20210314T080000
END:DAYLIGHT
BEGIN:STANDARD
TZOFFSETFROM:-0500
TZOFFSETTO:-0600
TZNAME:CST
DTSTART:20211107T070000
END:STANDARD
BEGIN:DAYLIGHT
TZOFFSETFROM:-0600
TZOFFSETTO:-0500
TZNAME:CDT
DTSTART:20220313T080000
END:DAYLIGHT
BEGIN:STANDARD
TZOFFSETFROM:-0500
TZOFFSETTO:-0600
TZNAME:CST
DTSTART:20221106T070000
END:STANDARD
BEGIN:DAYLIGHT
TZOFFSETFROM:-0600
TZOFFSETTO:-0500
TZNAME:CDT
DTSTART:20230312T080000
END:DAYLIGHT
BEGIN:STANDARD
TZOFFSETFROM:-0500
TZOFFSETTO:-0600
TZNAME:CST
DTSTART:20231105T070000
END:STANDARD
END:VTIMEZONE
BEGIN:VEVENT
DTSTART;TZID=America/Chicago:20221002T133000
DTEND;TZID=America/Chicago:20221002T153000
DTSTAMP:20260423T110746
CREATED:20220920T054154Z
LAST-MODIFIED:20220920T054432Z
UID:10001751-1664717400-1664724600@www.chicagoculturalalliance.org
SUMMARY:Scandinavian Jam ONLINE
DESCRIPTION:Scandinavian Jam\, where we practice what we teach. Join Mary Allsopp and Paul Tyler online on the first and third Sunday of every month. Enjoy an afternoon of traditional roots music. We teach by ear\, review and share tunes. We are happy to take suggestions and love meeting new people. It’s a friendly group and we have folks joining in from across the country. \nContact Scandi.Fiddler@yahoo.com or PTyler@ameritech.net with any questions and to get a zoom code. This is a free event.
URL:https://www.chicagoculturalalliance.org/event/scandinavian-jam-online-4/2022-10-02/
LOCATION:Online\, IL\, United States
CATEGORIES:Music, Film, and Theater,Online Events
ATTACH;FMTTYPE=image/png:https://www.chicagoculturalalliance.org/wp-content/uploads/2022/09/307360432_10161424273909714_2074237853391582659_n.png
GEO:40.6331249;-89.3985283
END:VEVENT
BEGIN:VEVENT
DTSTART;TZID=America/Chicago:20221006T180000
DTEND;TZID=America/Chicago:20221006T190000
DTSTAMP:20260423T110746
CREATED:20221001T050427Z
LAST-MODIFIED:20221001T050519Z
UID:10001787-1665079200-1665082800@www.chicagoculturalalliance.org
SUMMARY:Artecito Virtual - Serpientes
DESCRIPTION:Snakes sometimes get labelled ‘cold-blooded’ but this is incorrect as their blood isn’t actually cold. Reptiles just need to use sources of heat\, like the sun\, to warm up!\nJoin us as we explore more about Snakes with our friends at Lincoln Park Zoo!\nContect Here:\nhttps://bit.ly/ArtecitoSerpientes\n____________________________________\nLas serpientes a veces son etiquetadas como “de sangre fría”\, pero esto es incorrecto ya que su sangre no es realmente fría. ¡Los reptiles solo necesitan usar fuentes de calor\, como el sol\, para calentarse!\n¡Únase a nosotros mientras exploramos más sobre serpientes con nuestros amigos en Lincoln Park Zoo!\nContáctese aquí: https://bit.ly/ArtecitoSerpientes\n\nWhat is Artecito?\nArtecito is a free workshop in Spanish developed by OPEN Center for the Arts and Lincoln Park Zoo that uses the arts to engage families with nature in ways that resonate with local holidays\, culture\, and wildlife. With a related art activity\, workshops highlight wildlife and nature to encourage children and families to think about nature and their relationship to it in creative ways.\n\n¿Qué es Artecito?\nArtecito es un taller gratuito en español bimensual gratuito desarrollado por OPEN Center for the Arts y Lincoln Park Zoo que utiliza las artes para involucrar a las familias con la naturaleza de maneras que resuenan con las festividades locales\, la cultura y la vida silvestre. Con una actividad artística relacionada\, los talleres destacan la vida silvestre y la naturaleza para alentar a los niños y las familias a pensar sobre la naturaleza y su relación con ella de manera creativa
URL:https://www.chicagoculturalalliance.org/event/artecito-virtual-serpientes/
LOCATION:Online\, IL\, United States
CATEGORIES:Online Events
ATTACH;FMTTYPE=image/jpeg:https://www.chicagoculturalalliance.org/wp-content/uploads/2022/10/309412122_5607115849382824_3862930746624812267_n.jpeg
GEO:40.6331249;-89.3985283
END:VEVENT
BEGIN:VEVENT
DTSTART;TZID=America/Chicago:20221016T133000
DTEND;TZID=America/Chicago:20221016T153000
DTSTAMP:20260423T110746
CREATED:20220926T183823Z
LAST-MODIFIED:20221102T174139Z
UID:10001754-1665927000-1665934200@www.chicagoculturalalliance.org
SUMMARY:Scandinavian Jam ONLINE
DESCRIPTION:Scandinavian Jam\, where we practice what we teach. Join Mary Allsopp and Paul Tyler online on the first and third Sunday of every month. Enjoy an afternoon of traditional roots music. We teach by ear\, review and share tunes. We are happy to take suggestions and love meeting new people. It’s a friendly group and we have folks joining in from across the country. \nContact Scandi.Fiddler@yahoo.com or PTyler@ameritech.net with any questions and to get a zoom code. This is a free event.
URL:https://www.chicagoculturalalliance.org/event/scandinavian-jam-online-4-2/2022-10-16/
LOCATION:Online\, IL\, United States
CATEGORIES:Music, Film, and Theater,Online Events
ATTACH;FMTTYPE=image/png:https://www.chicagoculturalalliance.org/wp-content/uploads/2022/09/307360432_10161424273909714_2074237853391582659_n.png
GEO:40.6331249;-89.3985283
END:VEVENT
BEGIN:VEVENT
DTSTART;TZID=America/Chicago:20221020T180000
DTEND;TZID=America/Chicago:20221020T190000
DTSTAMP:20260423T110746
CREATED:20221017T165243Z
LAST-MODIFIED:20221017T165243Z
UID:10001811-1666288800-1666292400@www.chicagoculturalalliance.org
SUMMARY:Artecito Virtual - Xoloitzcuintle
DESCRIPTION:Xoloitzuintle’s are the oldest dogs in the Americas\, Xolos have been around for millennia!\nJoin us as we explore more about Xoloitzuintle’s with our friends at Lincoln Park Zoo!\nContect Here:\nhttps://bit.ly/ArtecitoXolo\n____________________________________\nLos Xoloitzuintle son los perros más antiguos de América\, ¡los Xolos existen desde hace milenios!\n¡Únase a nosotros mientras exploramos más sobre Xoloitzuintle con nuestros amigos en Lincoln Park Zoo!\nContáctese aquí:\nhttps://bit.ly/ArtecitoXolo\n\n\nWhat is Artecito?\nArtecito is a free workshop in Spanish developed by OPEN Center for the Arts and Lincoln Park Zoo that uses the arts to engage families with nature in ways that resonate with local holidays\, culture\, and wildlife. With a related art activity\, workshops highlight wildlife and nature to encourage children and families to think about nature and their relationship to it in creative ways.\n\n¿Qué es Artecito?\nArtecito es un taller gratuito en español bimensual gratuito desarrollado por OPEN Center for the Arts y Lincoln Park Zoo que utiliza las artes para involucrar a las familias con la naturaleza de maneras que resuenan con las festividades locales\, la cultura y la vida silvestre. Con una actividad artística relacionada\, los talleres destacan la vida silvestre y la naturaleza para alentar a los niños y las familias a pensar sobre la naturaleza y su relación con ella de manera creativa \nSee less
URL:https://www.chicagoculturalalliance.org/event/artecito-virtual-xoloitzcuintle/
LOCATION:Virtual\, Chicago\, IL\, United States
CATEGORIES:Online Events
ATTACH;FMTTYPE=image/jpeg:https://www.chicagoculturalalliance.org/wp-content/uploads/2022/10/310082240_5629057507188658_6527661351889467839_n.jpg
GEO:41.8781136;-87.6297982
END:VEVENT
BEGIN:VEVENT
DTSTART;TZID=America/Chicago:20221020T190000
DTEND;TZID=America/Chicago:20221020T200000
DTSTAMP:20260423T110746
CREATED:20220629T183328Z
LAST-MODIFIED:20220728T164815Z
UID:10001599-1666292400-1666296000@www.chicagoculturalalliance.org
SUMMARY:NHM Virtual Book Club - The Island of Missing Trees
DESCRIPTION:Join the National Hellenic Museum’s Virtual Book Club! \nIn October\, we will be discussing The Island of Missing Trees by Elif Shafak\, shortlisted for the Women’s Prize for Fiction. \nBook Club is free to join and meets on the third Thursday of each month at 7 PM CDT via Zoom. \n  \nMore about The Island of Missing Trees: \n“A wise novel of love and grief\, roots and branches\, displacement and home\, faith and belief. Balm for our bruised times.” ―David Mitchell\, author of Utopia Avenue \nA rich\, magical new novel on belonging and identity\, love and trauma\, nature and renewal\, from the Booker-shortlisted author of 10 Minutes 38 Seconds in This Strange World. \nTwo teenagers\, a Greek Cypriot and a Turkish Cypriot\, meet at a taverna on the island they both call home. In the taverna\, hidden beneath garlands of garlic\, chili peppers and creeping honeysuckle\, Kostas and Defne grow in their forbidden love for each other. A fig tree stretches through a cavity in the roof\, and this tree bears witness to their hushed\, happy meetings and eventually\, to their silent\, surreptitious departures. The tree is there when war breaks out\, when the capital is reduced to ashes and rubble\, and when the teenagers vanish. Decades later\, Kostas returns. He is a botanist looking for native species\, but really\, he’s searching for lost love. \nYears later a Ficus carica grows in the back garden of a house in London where Ada Kazantzakis lives. This tree is her only connection to an island she has never visited— her only connection to her family’s troubled history and her complex identity as she seeks to untangle years of secrets to find her place in the world. \nA moving\, beautifully written\, and delicately constructed story of love\, division\, transcendence\, history\, and eco-consciousness\, The Island of Missing Trees is Elif Shafak’s best work yet. \nOn the New York Times bestseller list for over 20 weeks * A New York Times Notable Book * A Barack Obama Favorite * A National Book Award Finalist * Named a Best Book of the Year by Fresh Air\, Time\, Entertainment Weekly\, Associated Press\, and many more.
URL:https://www.chicagoculturalalliance.org/event/nhm-virtual-book-club-the-island-of-missing-trees/
LOCATION:Online\, IL\, United States
CATEGORIES:Member Events,Online Events,Talks and Gatherings
ATTACH;FMTTYPE=image/jpeg:https://www.chicagoculturalalliance.org/wp-content/uploads/2022/06/Oct-BC-22.jpg
GEO:40.6331249;-89.3985283
END:VEVENT
END:VCALENDAR