BEGIN:VCALENDAR
VERSION:2.0
PRODID:-//Chicago Cultural Alliance - ECPv6.15.20//NONSGML v1.0//EN
CALSCALE:GREGORIAN
METHOD:PUBLISH
X-WR-CALNAME:Chicago Cultural Alliance
X-ORIGINAL-URL:https://www.chicagoculturalalliance.org
X-WR-CALDESC:Events for Chicago Cultural Alliance
REFRESH-INTERVAL;VALUE=DURATION:PT1H
X-Robots-Tag:noindex
X-PUBLISHED-TTL:PT1H
BEGIN:VTIMEZONE
TZID:America/Chicago
BEGIN:DAYLIGHT
TZOFFSETFROM:-0600
TZOFFSETTO:-0500
TZNAME:CDT
DTSTART:20210314T080000
END:DAYLIGHT
BEGIN:STANDARD
TZOFFSETFROM:-0500
TZOFFSETTO:-0600
TZNAME:CST
DTSTART:20211107T070000
END:STANDARD
BEGIN:DAYLIGHT
TZOFFSETFROM:-0600
TZOFFSETTO:-0500
TZNAME:CDT
DTSTART:20220313T080000
END:DAYLIGHT
BEGIN:STANDARD
TZOFFSETFROM:-0500
TZOFFSETTO:-0600
TZNAME:CST
DTSTART:20221106T070000
END:STANDARD
BEGIN:DAYLIGHT
TZOFFSETFROM:-0600
TZOFFSETTO:-0500
TZNAME:CDT
DTSTART:20230312T080000
END:DAYLIGHT
BEGIN:STANDARD
TZOFFSETFROM:-0500
TZOFFSETTO:-0600
TZNAME:CST
DTSTART:20231105T070000
END:STANDARD
END:VTIMEZONE
BEGIN:VEVENT
DTSTART;TZID=America/Chicago:20221105T100000
DTEND;TZID=America/Chicago:20221105T110000
DTSTAMP:20260423T075209
CREATED:20220824T164445Z
LAST-MODIFIED:20220824T164445Z
UID:10001702-1667642400-1667646000@www.chicagoculturalalliance.org
SUMMARY:Scottish American History Forum: Scottish Settlement of Prince Edward Island and Its Implications for Island Society and Culture
DESCRIPTION:November 5 | 10:00 am – 11:00 am\n\nFree\n\n\n\nTopic: Scottish Settlement of Prince Edward Island and Its Implications for Island Society and Culture \nPresenter: Professor Edward MacDonald\, PhD\, Department of History\, University of Prince Edward Island\, Canada \nThis event is complimentary. To attend\, please register below.
URL:https://www.chicagoculturalalliance.org/event/scottish-american-history-forum-scottish-settlement-of-prince-edward-island-and-its-implications-for-island-society-and-culture/
LOCATION:Online Event
CATEGORIES:Online Events,Talks and Gatherings
ATTACH;FMTTYPE=image/jpeg:https://www.chicagoculturalalliance.org/wp-content/uploads/2022/08/edward-macdonald.jpeg
END:VEVENT
BEGIN:VEVENT
DTSTART;TZID=America/Chicago:20221106T133000
DTEND;TZID=America/Chicago:20221106T153000
DTSTAMP:20260423T075209
CREATED:20220920T054154Z
LAST-MODIFIED:20220920T054432Z
UID:10001752-1667741400-1667748600@www.chicagoculturalalliance.org
SUMMARY:Scandinavian Jam ONLINE
DESCRIPTION:Scandinavian Jam\, where we practice what we teach. Join Mary Allsopp and Paul Tyler online on the first and third Sunday of every month. Enjoy an afternoon of traditional roots music. We teach by ear\, review and share tunes. We are happy to take suggestions and love meeting new people. It’s a friendly group and we have folks joining in from across the country. \nContact Scandi.Fiddler@yahoo.com or PTyler@ameritech.net with any questions and to get a zoom code. This is a free event.
URL:https://www.chicagoculturalalliance.org/event/scandinavian-jam-online-4/2022-11-06/
LOCATION:Online\, IL\, United States
CATEGORIES:Music, Film, and Theater,Online Events
ATTACH;FMTTYPE=image/png:https://www.chicagoculturalalliance.org/wp-content/uploads/2022/09/307360432_10161424273909714_2074237853391582659_n.png
GEO:40.6331249;-89.3985283
END:VEVENT
BEGIN:VEVENT
DTSTART;TZID=America/Chicago:20221110T100000
DTEND;TZID=America/Chicago:20221110T110000
DTSTAMP:20260423T075209
CREATED:20221102T200258Z
LAST-MODIFIED:20221102T200258Z
UID:10001859-1668074400-1668078000@www.chicagoculturalalliance.org
SUMMARY:The Greek Diner and the Making of American Cuisine
DESCRIPTION:In this hour-long class\, we will explore the history of the Greek diner and its profound influence on American food culture. On the eve of World War I\, Greek immigrants began buying up the diners abandoned by German Americans facing anti-German persecution brought on by the war. In these kitchens\, the new Greek owners would adapt traditional German travelers’ fare with a touch of the Mediterranean and a pinch of entrepreneurial spirit. The result: A truly American way of cooking and eating.
URL:https://www.chicagoculturalalliance.org/event/the-greek-diner-and-the-making-of-american-cuisine/2022-11-10/
LOCATION:Online\, IL\, United States
CATEGORIES:Food and Drink,Member Events,Online Events,Talks and Gatherings,Workshops and Classes
ATTACH;FMTTYPE=image/jpeg:https://www.chicagoculturalalliance.org/wp-content/uploads/2022/11/rest-1.jpg
GEO:40.6331249;-89.3985283
END:VEVENT
BEGIN:VEVENT
DTSTART;TZID=America/Chicago:20221115T193000
DTEND;TZID=America/Chicago:20221115T203000
DTSTAMP:20260423T075209
CREATED:20220824T164750Z
LAST-MODIFIED:20220824T164750Z
UID:10001703-1668540600-1668544200@www.chicagoculturalalliance.org
SUMMARY:Beyond the Headlines: Haiti in Music
DESCRIPTION:New Music Chicago presents Crossing Borders Music celebrating its first decade with a return to its first-ever program\, “Beyond the Headlines: Haiti in Music”! Featuring music highlighting Haiti’s rich history and cultural traditions\, the Haitian diaspora\, and the accomplishments of its young artists\, this program remains as relevant as ever! \nView the concert online at their Facebook page.\nPictured: a poster for “Beyond the Headlines: Haiti in Music” from 2012. \n 
URL:https://www.chicagoculturalalliance.org/event/beyond-the-headlines-haiti-in-music/
LOCATION:Online Event
CATEGORIES:Music, Film, and Theater,Online Events
ATTACH;FMTTYPE=image/jpeg:https://www.chicagoculturalalliance.org/wp-content/uploads/2022/08/beyond-the-headlines.jpeg
END:VEVENT
BEGIN:VEVENT
DTSTART;TZID=America/Chicago:20221116T170000
DTEND;TZID=America/Chicago:20221116T180000
DTSTAMP:20260423T075209
CREATED:20221102T200141Z
LAST-MODIFIED:20221102T200141Z
UID:10001862-1668618000-1668621600@www.chicagoculturalalliance.org
SUMMARY:Bold Byzantine Women: Empress Theodora\, Anna Komnene\, and St. Kassia
DESCRIPTION:Join NHM Discussions as we explore the lives and legacies of three of the Byzantine Empire’s most influential figures: Empress Theodora\, Anna Komnene\, and St. Kassia. Theirs are stories of palace intrigue\, spiritual seeking\, and intellectual vibrancy. In the man’s world of the Byzantine Empire\, these three women left a legacy for us today.
URL:https://www.chicagoculturalalliance.org/event/bold-byzantine-women-empress-theodora-anna-komnene-and-st-kassia/2022-11-16/
LOCATION:Online\, IL\, United States
CATEGORIES:Member Events,Online Events,Talks and Gatherings,Workshops and Classes
ATTACH;FMTTYPE=image/jpeg:https://www.chicagoculturalalliance.org/wp-content/uploads/2022/11/byz-women-1.jpg
GEO:40.6331249;-89.3985283
END:VEVENT
BEGIN:VEVENT
DTSTART;TZID=America/Chicago:20221117T183000
DTEND;TZID=America/Chicago:20221117T183000
DTSTAMP:20260423T075209
CREATED:20221109T233523Z
LAST-MODIFIED:20221109T233523Z
UID:10001884-1668709800-1668709800@www.chicagoculturalalliance.org
SUMMARY:ONLINE BOOK & AUTHOR: “LIGHTNING DOWN: A WORLD WAR II STORY OF SURVIVAL”
DESCRIPTION:Join us in discussion with #1 New York Times bestselling author Tom Clavin as he makes his literary return to the aerial battlefields of WWII to tell a harrowing and unforgettable story of heroism and human endurance in his latest book\, Lightning Down: A World War II Story of Survival. \nBased on a true and largely untold story\, Lightning Down is an inspiring saga of American WWII fighter pilot Joe Moser who endured unspeakable horrors when his plane was shot down over Nazi-occupied France. Captured immediately\, Moser’s journey into hell began with imprisonment in Buchenwald concentration camp. Only a desperate plan would save him and his courageous comrades. \nReservations required.
URL:https://www.chicagoculturalalliance.org/event/online-book-author-lightning-down-a-world-war-ii-story-of-survival/
LOCATION:Online\, IL\, United States
CATEGORIES:Online Events,Talks and Gatherings
ATTACH;FMTTYPE=image/jpeg:https://www.chicagoculturalalliance.org/wp-content/uploads/2022/11/51AdPkJgvnL._AC_SY780_.jpg
GEO:40.6331249;-89.3985283
END:VEVENT
BEGIN:VEVENT
DTSTART;TZID=America/Chicago:20221117T190000
DTEND;TZID=America/Chicago:20221117T200000
DTSTAMP:20260423T075209
CREATED:20220629T183203Z
LAST-MODIFIED:20220728T164759Z
UID:10001596-1668711600-1668715200@www.chicagoculturalalliance.org
SUMMARY:NHM Virtual Book Club – The Greeks: A Global History
DESCRIPTION:Join the National Hellenic Museum’s Virtual Book Club! \nIn November\, we will be discussing The Greeks: A Global History by Roderick Beaton\, a sweeping history of the Greeks\, from the Bronze Age to today. This title was selected by members of NHM Virtual Book Club \nBook Club is free to join and meets on the third Thursday of each month at 7 PM CST \n  \nMore about The Greeks: A Global History: \nMore than 2\,000 years ago\, the Greek city-states\, led by Athens and Sparta\, laid the foundation for much of modern science\, the arts\, politics\, and law. But the influence of the Greeks did not end with the rise and fall of this classical civilization. As historian Roderick Beaton illustrates\, over three millennia Greek speakers produced a series of civilizations that were rooted in southeastern Europe but again and again ranged widely across the globe. \nIn The Greeks\, Beaton traces this history from the Bronze Age Mycenaeans who built powerful fortresses at home and strong trade routes abroad\, to the dramatic Eurasian conquests of Alexander the Great\, to the pious Byzantines who sought to export Christianity worldwide\, to today’s Greek diaspora\, which flourishes on five continents. The product of decades of research\, this is the story of the Greeks and their global impact told as never before.
URL:https://www.chicagoculturalalliance.org/event/nhm-virtual-book-club-the-greeks-a-global-history/
LOCATION:Online\, IL\, United States
CATEGORIES:Member Events,Online Events,Talks and Gatherings
ATTACH;FMTTYPE=image/jpeg:https://www.chicagoculturalalliance.org/wp-content/uploads/2022/06/Nov-BC-22.jpg
GEO:40.6331249;-89.3985283
END:VEVENT
BEGIN:VEVENT
DTSTART;TZID=America/Chicago:20221120T133000
DTEND;TZID=America/Chicago:20221120T153000
DTSTAMP:20260423T075209
CREATED:20220926T183823Z
LAST-MODIFIED:20221102T174139Z
UID:10001755-1668951000-1668958200@www.chicagoculturalalliance.org
SUMMARY:Scandinavian Jam ONLINE
DESCRIPTION:Scandinavian Jam\, where we practice what we teach. Join Mary Allsopp and Paul Tyler online on the first and third Sunday of every month. Enjoy an afternoon of traditional roots music. We teach by ear\, review and share tunes. We are happy to take suggestions and love meeting new people. It’s a friendly group and we have folks joining in from across the country. \nContact Scandi.Fiddler@yahoo.com or PTyler@ameritech.net with any questions and to get a zoom code. This is a free event.
URL:https://www.chicagoculturalalliance.org/event/scandinavian-jam-online-4-2/2022-11-20/
LOCATION:Online\, IL\, United States
CATEGORIES:Music, Film, and Theater,Online Events
ATTACH;FMTTYPE=image/png:https://www.chicagoculturalalliance.org/wp-content/uploads/2022/09/307360432_10161424273909714_2074237853391582659_n.png
GEO:40.6331249;-89.3985283
END:VEVENT
BEGIN:VEVENT
DTSTART;TZID=America/Chicago:20221126T100000
DTEND;TZID=America/Chicago:20221126T120000
DTSTAMP:20260423T075209
CREATED:20221102T174740Z
LAST-MODIFIED:20221102T174740Z
UID:10001866-1669456800-1669464000@www.chicagoculturalalliance.org
SUMMARY:Genealogy Session ONLINE
DESCRIPTION:Crimes and Punishment in Sweden by Kathy Meade \nDid your Swedish ancestor commit a crime? Many Swedish researchers have discovered a note in the church books that an ancestor was imprisoned and desired to know more about the crime. This class begins by giving an overview of the Swedish criminal justice system and then show where one can find prison and court records. The presentation will also include case studies showing what one can learn from police\, prison\, and court records. \nKathy Meade is the North American representative for ArkivDigital AD AB\, a company that offers online access to newly photographed color images of Swedish church books and other historical records. She has been working with Swedish genealogy for almost twenty years. Ms. Meade serves on the advisory board for the Swedish American Genealogy Research Center at the Swedish American Museum in Chicago. She volunteers at the Swedish American Museum in Chicago and the Arlington Heights Memorial Library in Arlington Heights\, Il helping patrons with their Swedish genealogical research. \nCost is free for Swedish American Genealogical Society members; $10 for non-members to participate (use PayPal button below). Reservations by members can be made via email to genealogy@samac.org or by calling the Museum at 773.728.8111. You will need a reservation to receive the Zoom code.
URL:https://www.chicagoculturalalliance.org/event/genealogy-session-online-2/
LOCATION:Online Event
CATEGORIES:Online Events,Talks and Gatherings
ATTACH;FMTTYPE=image/png:https://www.chicagoculturalalliance.org/wp-content/uploads/2020/12/Screen-Shot-2020-12-09-at-10.31.55-AM.png
END:VEVENT
END:VCALENDAR