BEGIN:VCALENDAR
VERSION:2.0
PRODID:-//Chicago Cultural Alliance - ECPv6.15.20//NONSGML v1.0//EN
CALSCALE:GREGORIAN
METHOD:PUBLISH
X-WR-CALNAME:Chicago Cultural Alliance
X-ORIGINAL-URL:https://www.chicagoculturalalliance.org
X-WR-CALDESC:Events for Chicago Cultural Alliance
REFRESH-INTERVAL;VALUE=DURATION:PT1H
X-Robots-Tag:noindex
X-PUBLISHED-TTL:PT1H
BEGIN:VTIMEZONE
TZID:America/Chicago
BEGIN:DAYLIGHT
TZOFFSETFROM:-0600
TZOFFSETTO:-0500
TZNAME:CDT
DTSTART:20210314T080000
END:DAYLIGHT
BEGIN:STANDARD
TZOFFSETFROM:-0500
TZOFFSETTO:-0600
TZNAME:CST
DTSTART:20211107T070000
END:STANDARD
BEGIN:DAYLIGHT
TZOFFSETFROM:-0600
TZOFFSETTO:-0500
TZNAME:CDT
DTSTART:20220313T080000
END:DAYLIGHT
BEGIN:STANDARD
TZOFFSETFROM:-0500
TZOFFSETTO:-0600
TZNAME:CST
DTSTART:20221106T070000
END:STANDARD
BEGIN:DAYLIGHT
TZOFFSETFROM:-0600
TZOFFSETTO:-0500
TZNAME:CDT
DTSTART:20230312T080000
END:DAYLIGHT
BEGIN:STANDARD
TZOFFSETFROM:-0500
TZOFFSETTO:-0600
TZNAME:CST
DTSTART:20231105T070000
END:STANDARD
END:VTIMEZONE
BEGIN:VEVENT
DTSTART;TZID=America/Chicago:20221201T100000
DTEND;TZID=America/Chicago:20221201T110000
DTSTAMP:20260423T063349
CREATED:20221107T170253Z
LAST-MODIFIED:20221107T170253Z
UID:10001853-1669888800-1669892400@www.chicagoculturalalliance.org
SUMMARY:What Did Homer Sound Like?: A Brief History of the Greek Language
DESCRIPTION:Greek may well be the world’s oldest continuously spoken linguistic tradition. In this hour-long class\, we will explore the long life of the Greek language\, from Proto-Greek speakers arriving in the Greek peninsula thousands of years ago to the “Greeklish” of the Greek diaspora.
URL:https://www.chicagoculturalalliance.org/event/what-did-homer-sound-like-a-brief-history-of-the-greek-language/2022-12-01/
LOCATION:Online\, IL\, United States
CATEGORIES:Member Events,Online Events,Talks and Gatherings,Workshops and Classes
ATTACH;FMTTYPE=image/jpeg:https://www.chicagoculturalalliance.org/wp-content/uploads/2022/11/tablet.jpg
GEO:40.6331249;-89.3985283
END:VEVENT
BEGIN:VEVENT
DTSTART;TZID=America/Chicago:20221201T170000
DTEND;TZID=America/Chicago:20221201T180000
DTSTAMP:20260423T063349
CREATED:20221110T202409Z
LAST-MODIFIED:20221110T202409Z
UID:10001891-1669914000-1669917600@www.chicagoculturalalliance.org
SUMMARY:Script? or Type? The Pleasures and Perils of Script Fonts - Russell Maret in Conversation with Jill Gage
DESCRIPTION:Renowned printer and type designer Russell Maret will discuss the creation and use of script fonts\, past and present\, with Jill Gage\, curator of the exhibition A Show of Hands: Handwriting in the Age of Print. \n\n\nSPEAKERS\nRussell Maret is a letter designer and letterpress printer working in New York City. \nJill Gage is the Newberry’s Custodian of the John M. Wing Foundation on the History Printing.
URL:https://www.chicagoculturalalliance.org/event/script-or-type-the-pleasures-and-perils-of-script-fonts-russell-maret-in-conversation-with-jill-gage/
LOCATION:Virtual\, Chicago\, IL\, United States
CATEGORIES:Exhibitions and Gallery Events,Online Events,Talks and Gatherings
ATTACH;FMTTYPE=image/png:https://www.chicagoculturalalliance.org/wp-content/uploads/2022/11/TW_NewberryLibrary_Maret.png
ORGANIZER;CN="Newberry Library":MAILTO:publicprograms@newberry.org
GEO:41.8781136;-87.6297982
END:VEVENT
BEGIN:VEVENT
DTSTART;TZID=America/Chicago:20221204T133000
DTEND;TZID=America/Chicago:20221204T153000
DTSTAMP:20260423T063349
CREATED:20220920T054154Z
LAST-MODIFIED:20220920T054432Z
UID:10001753-1670160600-1670167800@www.chicagoculturalalliance.org
SUMMARY:Scandinavian Jam ONLINE
DESCRIPTION:Scandinavian Jam\, where we practice what we teach. Join Mary Allsopp and Paul Tyler online on the first and third Sunday of every month. Enjoy an afternoon of traditional roots music. We teach by ear\, review and share tunes. We are happy to take suggestions and love meeting new people. It’s a friendly group and we have folks joining in from across the country. \nContact Scandi.Fiddler@yahoo.com or PTyler@ameritech.net with any questions and to get a zoom code. This is a free event.
URL:https://www.chicagoculturalalliance.org/event/scandinavian-jam-online-4/2022-12-04/
LOCATION:Online\, IL\, United States
CATEGORIES:Music, Film, and Theater,Online Events
ATTACH;FMTTYPE=image/png:https://www.chicagoculturalalliance.org/wp-content/uploads/2022/09/307360432_10161424273909714_2074237853391582659_n.png
GEO:40.6331249;-89.3985283
END:VEVENT
BEGIN:VEVENT
DTSTART;TZID=America/Chicago:20221206T130000
DTEND;TZID=America/Chicago:20221206T140000
DTSTAMP:20260423T063349
CREATED:20221102T200355Z
LAST-MODIFIED:20221102T200355Z
UID:10001856-1670331600-1670335200@www.chicagoculturalalliance.org
SUMMARY:The Greek-Turkish Conflict: 500 Years Ago and Yesterday
DESCRIPTION:Since the Greek state declared its independence from the Ottoman Empire in 1821\, the Greek-Turkish conflict has in many ways defined the history of modern Greece. In this NHM Discussion\, we will explore the history of this conflict from the Ottoman Empire to the Balkans War to Cyprus. If you feel like you are missing the context for today’s current events\, this is the class for you.
URL:https://www.chicagoculturalalliance.org/event/the-greek-turkish-conflict-500-years-ago-and-yesterday/2022-12-06/
LOCATION:Online\, IL\, United States
CATEGORIES:Member Events,Online Events,Talks and Gatherings,Workshops and Classes
ATTACH;FMTTYPE=image/jpeg:https://www.chicagoculturalalliance.org/wp-content/uploads/2022/11/battle.jpg
GEO:40.6331249;-89.3985283
END:VEVENT
BEGIN:VEVENT
DTSTART;TZID=America/Chicago:20221207T170000
DTEND;TZID=America/Chicago:20221207T180000
DTSTAMP:20260423T063349
CREATED:20221102T200258Z
LAST-MODIFIED:20221102T200258Z
UID:10001860-1670432400-1670436000@www.chicagoculturalalliance.org
SUMMARY:The Greek Diner and the Making of American Cuisine
DESCRIPTION:In this hour-long class\, we will explore the history of the Greek diner and its profound influence on American food culture. On the eve of World War I\, Greek immigrants began buying up the diners abandoned by German Americans facing anti-German persecution brought on by the war. In these kitchens\, the new Greek owners would adapt traditional German travelers’ fare with a touch of the Mediterranean and a pinch of entrepreneurial spirit. The result: A truly American way of cooking and eating.
URL:https://www.chicagoculturalalliance.org/event/the-greek-diner-and-the-making-of-american-cuisine/2022-12-07/
LOCATION:Online\, IL\, United States
CATEGORIES:Food and Drink,Member Events,Online Events,Talks and Gatherings,Workshops and Classes
ATTACH;FMTTYPE=image/jpeg:https://www.chicagoculturalalliance.org/wp-content/uploads/2022/11/rest-1.jpg
GEO:40.6331249;-89.3985283
END:VEVENT
BEGIN:VEVENT
DTSTART;TZID=America/Chicago:20221213T130000
DTEND;TZID=America/Chicago:20221213T140000
DTSTAMP:20260423T063349
CREATED:20221102T200141Z
LAST-MODIFIED:20221102T200141Z
UID:10001863-1670936400-1670940000@www.chicagoculturalalliance.org
SUMMARY:Bold Byzantine Women: Empress Theodora\, Anna Komnene\, and St. Kassia
DESCRIPTION:Join NHM Discussions as we explore the lives and legacies of three of the Byzantine Empire’s most influential figures: Empress Theodora\, Anna Komnene\, and St. Kassia. Theirs are stories of palace intrigue\, spiritual seeking\, and intellectual vibrancy. In the man’s world of the Byzantine Empire\, these three women left a legacy for us today.
URL:https://www.chicagoculturalalliance.org/event/bold-byzantine-women-empress-theodora-anna-komnene-and-st-kassia/2022-12-13/
LOCATION:Online\, IL\, United States
CATEGORIES:Member Events,Online Events,Talks and Gatherings,Workshops and Classes
ATTACH;FMTTYPE=image/jpeg:https://www.chicagoculturalalliance.org/wp-content/uploads/2022/11/byz-women-1.jpg
GEO:40.6331249;-89.3985283
END:VEVENT
BEGIN:VEVENT
DTSTART;TZID=America/Chicago:20221215T180000
DTEND;TZID=America/Chicago:20221215T190000
DTSTAMP:20260423T063349
CREATED:20221205T195125Z
LAST-MODIFIED:20221205T195125Z
UID:10002379-1671127200-1671130800@www.chicagoculturalalliance.org
SUMMARY:Artecito - Animales en Invierno
DESCRIPTION:Did you know: while humans are dreaming of sugar plums and chocolate abuelita\, animals in hibernation don’t! During hibernation\, an animal’s body is too cold to produce the electric currents related to dreaming.\nJoin us as we explore more about Animals in the Winter with our friends at Lincoln Park Zoo!\nContect Here:\nhttps://bit.ly/ArtecitoBurr\n____________________________________\n¿Sabías que mientras los humanos sueñan con ciruelas dulces y chocolate abuelita\, los animales en hibernación no lo hacen? Durante la hibernación\, el cuerpo de un animal está demasiado frío para producir las corrientes eléctricas relacionadas con los sueños.\n¡Únase a nosotros mientras exploramos más sobre  Animales en Invierno  con nuestros amigos en Lincoln Park Zoo!\nContáctese aquí:\nhttps://bit.ly/ArtecitoBurr\n\nWhat is Artecito?\nArtecito is a free workshop in Spanish developed by OPEN Center for the Arts and Lincoln Park Zoo that uses the arts to engage families with nature in ways that resonate with local holidays\, culture\, and wildlife. With a related art activity\, workshops highlight wildlife and nature to encourage children and families to think about nature and their relationship to it in creative ways.\n\n¿Qué es Artecito?\nArtecito es un taller gratuito en español bimensual gratuito desarrollado por OPEN Center for the Arts y Lincoln Park Zoo que utiliza las artes para involucrar a las familias con la naturaleza de maneras que resuenan con las festividades locales\, la cultura y la vida silvestre. Con una actividad artística relacionada\, los talleres destacan la vida silvestre y la naturaleza para alentar a los niños y las familias a pensar sobre la naturaleza y su relación con ella de manera creativa \nSee less
URL:https://www.chicagoculturalalliance.org/event/artecito-animales-en-invierno/
LOCATION:IL\, United States
CATEGORIES:Online Events
ATTACH;FMTTYPE=image/jpeg:https://www.chicagoculturalalliance.org/wp-content/uploads/2022/12/317338326_5801264626634611_6304453192954806342_n.jpg
GEO:41.8781136;-87.6297982
END:VEVENT
BEGIN:VEVENT
DTSTART;TZID=America/Chicago:20221215T190000
DTEND;TZID=America/Chicago:20221215T200000
DTSTAMP:20260423T063349
CREATED:20220629T183234Z
LAST-MODIFIED:20221102T150856Z
UID:10001597-1671130800-1671134400@www.chicagoculturalalliance.org
SUMMARY:NHM Virtual Book Club - The Minotaur Takes a Cigarette Break
DESCRIPTION:Join the National Hellenic Museum’s Virtual Book Club! \nIn December\, we will be discussing The Minotaur Takes a Cigarette Break by Steven Sherril. \n Book Club is free to join and meets on the third Thursday of each month at 7 PM CST via Zoom. \n  \nMore about The Minotaur Takes a Cigarette Break: \nFive thousand years out of the labyrinth\, the Minotaur finds himself in the American South\, living in a trailer park and working as a line cook at a steakhouse. No longer a devourer of human flesh\, the Minotaur is a socially inept\, lonely creature with very human needs. But over a two-week period\, as his life dissolves into chaos\, this broken and alienated immortal awakens to the possibility for happiness and to the capacity for love. \nSteven Sherrill is a graduate of UNC Charlotte and holds an MFA in poetry from the Iowa Writers’ Workshop. The recipient of a NEA Fellowship for Fiction\, he has published four novels and one book of poetry. His debut novel\, The Minotaur Takes a Cigarette Break\, was published in the UK and translated into eight languages. Neil Gaiman selected it as one of six audiobooks to launch “Neil Gaiman Presents” for Audible.com. A prolific painter and nascent musician\, Sherrill is now a professor of English & Integrative Arts at Penn State Altoona.
URL:https://www.chicagoculturalalliance.org/event/nhm-virtual-book-club-the-minotaur-takes-a-cigarette-break/
LOCATION:Online\, IL\, United States
CATEGORIES:Member Events,Online Events,Talks and Gatherings
ATTACH;FMTTYPE=image/jpeg:https://www.chicagoculturalalliance.org/wp-content/uploads/2022/06/Dec-BC-22.jpg
GEO:40.6331249;-89.3985283
END:VEVENT
BEGIN:VEVENT
DTSTART;TZID=America/Chicago:20221218T133000
DTEND;TZID=America/Chicago:20221218T153000
DTSTAMP:20260423T063349
CREATED:20220926T183823Z
LAST-MODIFIED:20221102T174139Z
UID:10001756-1671370200-1671377400@www.chicagoculturalalliance.org
SUMMARY:Scandinavian Jam ONLINE
DESCRIPTION:Scandinavian Jam\, where we practice what we teach. Join Mary Allsopp and Paul Tyler online on the first and third Sunday of every month. Enjoy an afternoon of traditional roots music. We teach by ear\, review and share tunes. We are happy to take suggestions and love meeting new people. It’s a friendly group and we have folks joining in from across the country. \nContact Scandi.Fiddler@yahoo.com or PTyler@ameritech.net with any questions and to get a zoom code. This is a free event.
URL:https://www.chicagoculturalalliance.org/event/scandinavian-jam-online-4-2/2022-12-18/
LOCATION:Online\, IL\, United States
CATEGORIES:Music, Film, and Theater,Online Events
ATTACH;FMTTYPE=image/png:https://www.chicagoculturalalliance.org/wp-content/uploads/2022/09/307360432_10161424273909714_2074237853391582659_n.png
GEO:40.6331249;-89.3985283
END:VEVENT
BEGIN:VEVENT
DTSTART;TZID=America/Chicago:20221227T190000
DTEND;TZID=America/Chicago:20221227T200000
DTSTAMP:20260423T063349
CREATED:20221212T214337Z
LAST-MODIFIED:20221212T214337Z
UID:10002391-1672167600-1672171200@www.chicagoculturalalliance.org
SUMMARY:Yo! Camp Chaperone Open House Online
DESCRIPTION:Love summer camp? Want to lead a group of campers from Chicago to California for the experience of a lifetime? \nJASC is partnering with Yo! Camp to offer a one week overnight camp experience in California this summer to rising 5th to 9th graders. We are actively recruiting chaperones (18+ years old) to travel with the campers and be leaders during the week at camp in the beginning of July 2023. \nLearn more about Yo! Camp on their website by clicking here. \nRead more about becoming a chaperone in a flyer by clicking here. \nConnect with camp directors and other interested young adults by attending one of two online Open Houses via Zoom. \nWhen: December 27 from 7 – 8 pm or December 29 from 9 – 10 pm \nQuestions? Ready to register for the Open House? Contact Jenn Trautvetter\, jtrautvetter@jasc-chicago.org or call her at (773) 275-0097 ext. 228.
URL:https://www.chicagoculturalalliance.org/event/yo-camp-chaperone-open-house-online/2022-12-27/
LOCATION:Online Event
CATEGORIES:Online Events
ATTACH;FMTTYPE=image/png:https://www.chicagoculturalalliance.org/wp-content/uploads/2022/12/1.png
END:VEVENT
BEGIN:VEVENT
DTSTART;TZID=America/Chicago:20221229T210000
DTEND;TZID=America/Chicago:20221229T220000
DTSTAMP:20260423T063349
CREATED:20221212T214337Z
LAST-MODIFIED:20221212T214337Z
UID:10002392-1672347600-1672351200@www.chicagoculturalalliance.org
SUMMARY:Yo! Camp Chaperone Open House Online
DESCRIPTION:Love summer camp? Want to lead a group of campers from Chicago to California for the experience of a lifetime? \nJASC is partnering with Yo! Camp to offer a one week overnight camp experience in California this summer to rising 5th to 9th graders. We are actively recruiting chaperones (18+ years old) to travel with the campers and be leaders during the week at camp in the beginning of July 2023. \nLearn more about Yo! Camp on their website by clicking here. \nRead more about becoming a chaperone in a flyer by clicking here. \nConnect with camp directors and other interested young adults by attending one of two online Open Houses via Zoom. \nWhen: December 27 from 7 – 8 pm or December 29 from 9 – 10 pm \nQuestions? Ready to register for the Open House? Contact Jenn Trautvetter\, jtrautvetter@jasc-chicago.org or call her at (773) 275-0097 ext. 228.
URL:https://www.chicagoculturalalliance.org/event/yo-camp-chaperone-open-house-online/2022-12-29/
LOCATION:Online Event
CATEGORIES:Online Events
ATTACH;FMTTYPE=image/png:https://www.chicagoculturalalliance.org/wp-content/uploads/2022/12/1.png
END:VEVENT
END:VCALENDAR