BEGIN:VCALENDAR
VERSION:2.0
PRODID:-//Chicago Cultural Alliance - ECPv6.15.20//NONSGML v1.0//EN
CALSCALE:GREGORIAN
METHOD:PUBLISH
X-WR-CALNAME:Chicago Cultural Alliance
X-ORIGINAL-URL:https://www.chicagoculturalalliance.org
X-WR-CALDESC:Events for Chicago Cultural Alliance
REFRESH-INTERVAL;VALUE=DURATION:PT1H
X-Robots-Tag:noindex
X-PUBLISHED-TTL:PT1H
BEGIN:VTIMEZONE
TZID:America/Chicago
BEGIN:DAYLIGHT
TZOFFSETFROM:-0600
TZOFFSETTO:-0500
TZNAME:CDT
DTSTART:20210314T080000
END:DAYLIGHT
BEGIN:STANDARD
TZOFFSETFROM:-0500
TZOFFSETTO:-0600
TZNAME:CST
DTSTART:20211107T070000
END:STANDARD
BEGIN:DAYLIGHT
TZOFFSETFROM:-0600
TZOFFSETTO:-0500
TZNAME:CDT
DTSTART:20220313T080000
END:DAYLIGHT
BEGIN:STANDARD
TZOFFSETFROM:-0500
TZOFFSETTO:-0600
TZNAME:CST
DTSTART:20221106T070000
END:STANDARD
BEGIN:DAYLIGHT
TZOFFSETFROM:-0600
TZOFFSETTO:-0500
TZNAME:CDT
DTSTART:20230312T080000
END:DAYLIGHT
BEGIN:STANDARD
TZOFFSETFROM:-0500
TZOFFSETTO:-0600
TZNAME:CST
DTSTART:20231105T070000
END:STANDARD
END:VTIMEZONE
BEGIN:VEVENT
DTSTART;TZID=America/Chicago:20220307T040000
DTEND;TZID=America/Chicago:20220307T060000
DTSTAMP:20260424T000832
CREATED:20220305T005031Z
LAST-MODIFIED:20220305T005031Z
UID:10001377-1646625600-1646632800@www.chicagoculturalalliance.org
SUMMARY:Pulaski Day Virtual Celebration
DESCRIPTION:Celebrate Pulaski Day virtually with the Polish Museum of America (PMA) on Monday\, March 7\, 2022. Top officials from national\, state\, county\, and city governments and leaders of Polonian organizations and institutions will observe the State of Illinois annual recognition of the Polish American community by honoring the Revolutionary War hero Casimir Pulaski. Speakers will include Polish Ambassador Marek Magierowski; Consul General of Ukraine in Chicago Serhiy Koledov; Mayor Lori Lightfoot; Illinois State Treasurer Michael Frerichs; Frank Spula\, National President of the Polish American Congress; Cook County Treasurer Maria Pappas; Judge Aurelia Pucinski and State Representative Delia Ramirez. The program will feature performances by Mirosława Sojka-Topór\, Kamil Bundyra\, the Academy of Music of the Paderewski Symphony Orchestra\, and Tatra Mountains Cultural Foundation Ensemble\, along with filmed presentations\, and conclude with the traditional wreath-laying ceremony at Stanislaw Batowski’s painting of Pulaski at Savannah. The program begins promptly at 10 a.m. and will be streamed live on the PMA website: www.PolishMuseumOfAmerica.org.
URL:https://www.chicagoculturalalliance.org/event/pulaski-day-virtual-celebration/
LOCATION:Online Event
CATEGORIES:Cultural Festivals and Fairs,Online Events,Talks and Gatherings
ATTACH;FMTTYPE=image/jpeg:https://www.chicagoculturalalliance.org/wp-content/uploads/2022/03/pulaski-day.jpeg
END:VEVENT
BEGIN:VEVENT
DTSTART;TZID=America/Chicago:20220310T120000
DTEND;TZID=America/Chicago:20220310T130000
DTSTAMP:20260424T000832
CREATED:20220303T220603Z
LAST-MODIFIED:20220303T220603Z
UID:10001374-1646913600-1646917200@www.chicagoculturalalliance.org
SUMMARY:Artecito Virtual: Coquis
DESCRIPTION:¿Sabías que los Coquis son los anfibios más ruidosos que conocemos?\n¡Cuando cantan juntos es tan fuerte como una motocicleta!\n¡Únase a nosotros mientras exploramos más sobre los coquis con nuestros amigos en Lincoln Park Zoo!\nConéctate aquí: https://bit.ly/ArtecitoCoqui\n____________________________________\nDid you know Coquis are the loudest amphibian we know? When they sing together it is as loud as a motorcycle!\nJoin us as we explore more about coquis with our friends at Lincoln Park Zoo!\nConnect here: https://bit.ly/ArtecitoCoqui\n\nArtecito Virtual is a Spanish language virtual workshop in partnership with Lincoln Park Zoo.
URL:https://www.chicagoculturalalliance.org/event/artecito-virtual-coquis/
LOCATION:Online Event
CATEGORIES:Online Events,Workshops and Classes
ATTACH;FMTTYPE=image/jpeg:https://www.chicagoculturalalliance.org/wp-content/uploads/2022/03/COQUIS-IG-PROMO.jpg
END:VEVENT
BEGIN:VEVENT
DTSTART;TZID=America/Chicago:20220310T130000
DTEND;TZID=America/Chicago:20220310T143000
DTSTAMP:20260424T000832
CREATED:20220215T021422Z
LAST-MODIFIED:20220215T021422Z
UID:10001321-1646917200-1646922600@www.chicagoculturalalliance.org
SUMMARY:Chicago Book Premiere: Woman on Fire
DESCRIPTION:On-Site & Virtual \nJoin the Women’s Leadership Committee in conversation with Deerfield resident and author Lisa Barr at the Chicago premiere of her multi-award-winning novel\, Woman On Fire\, a gripping story about a young\, ambitious journalist who becomes embroiled in an international art scandal centered around a Nazi-looted masterpiece. The book was recently named as part of Katie Couric’s 2022 Reading Guide. \nLisa\, the daughter of a Holocaust Survivor\, has a treasure trove of stories to share from her journalism career as an editor for The Jerusalem Post\, managing editor of Today’s Chicago Woman\, and as an editor/reporter for the Chicago Sun-Times. Lisa covered the famous “handshake” between the late Israeli Prime Minister Yitzhak Rabin\, the late PLO leader Yasser Arafat\, and President Bill Clinton at the White House; and has been featured on Good Morning America and Today for her work as an author\, journalist\, and blogger. \nHear these stories and Lisa’s personal insights about the creation of her new book. \nON-SITE\n$20.00 | With book: $45.00 \nVIRTUAL\n$10.00 | With book: $35.00
URL:https://www.chicagoculturalalliance.org/event/chicago-book-premiere-woman-on-fire/
LOCATION:Illinois Holocaust Museum\, 9603 Woods Drive\, Skokie\, IL\, 60077\, United States
CATEGORIES:Online Events,Talks and Gatherings
ATTACH;FMTTYPE=image/jpeg:https://www.chicagoculturalalliance.org/wp-content/uploads/2022/02/woman-on-fire.jpeg
GEO:42.0564867;-87.7607268
X-APPLE-STRUCTURED-LOCATION;VALUE=URI;X-ADDRESS=Illinois Holocaust Museum 9603 Woods Drive Skokie IL 60077 United States;X-APPLE-RADIUS=500;X-TITLE=9603 Woods Drive:geo:-87.7607268,42.0564867
END:VEVENT
BEGIN:VEVENT
DTSTART;TZID=America/Chicago:20220312T080000
DTEND;TZID=America/Chicago:20220312T090000
DTSTAMP:20260424T000832
CREATED:20220215T013705Z
LAST-MODIFIED:20220215T013705Z
UID:10001318-1647072000-1647075600@www.chicagoculturalalliance.org
SUMMARY:Balzekas Book Club: Lithuanians in Springfield
DESCRIPTION:Writer Sandy Baksys discusses the roots and legacy of Springfield\, Illinois\, Lithuanian-American community (A Balzekas Museum Zoom Event)\n\n\n\n\n\nAbout this event\n\n\nOn Saturday\, March 12\, 2022 at 2pm\, Lithuanian American author Sandy Baksys will present her book Lithuanians in Springfield. This event will take place on Zoom. Registered participants will receive a Zoom link to the program. \n\n\nThis project was supported in part by the Illinois Arts Council Agency and DCASE\, the Department of Culture and Special Events/CityARTS and a Grant of U.S. Department of Treasury funds through the City of Chicago. The opinions\, findings\, conclusions and recommendations expressed in this publication/program/exhibition are those of the author(s) and do not necessarily reflect the views of the Department of Treasury or the City of Chicago. The Balzekas Museum gratefully acknowledges these Grantors\, as well as its Members and Private Donors for their generous support\, which makes programs such as these possible.
URL:https://www.chicagoculturalalliance.org/event/balzekas-book-club-lithuanians-in-springfield/
LOCATION:Online Event
CATEGORIES:Online Events,Talks and Gatherings
ATTACH;FMTTYPE=image/jpeg:https://www.chicagoculturalalliance.org/wp-content/uploads/2022/02/balzekas-book-club.jpeg
END:VEVENT
END:VCALENDAR