BEGIN:VCALENDAR
VERSION:2.0
PRODID:-//Chicago Cultural Alliance - ECPv6.15.20//NONSGML v1.0//EN
CALSCALE:GREGORIAN
METHOD:PUBLISH
X-ORIGINAL-URL:https://www.chicagoculturalalliance.org
X-WR-CALDESC:Events for Chicago Cultural Alliance
REFRESH-INTERVAL;VALUE=DURATION:PT1H
X-Robots-Tag:noindex
X-PUBLISHED-TTL:PT1H
BEGIN:VTIMEZONE
TZID:America/Chicago
BEGIN:DAYLIGHT
TZOFFSETFROM:-0600
TZOFFSETTO:-0500
TZNAME:CDT
DTSTART:20210314T080000
END:DAYLIGHT
BEGIN:STANDARD
TZOFFSETFROM:-0500
TZOFFSETTO:-0600
TZNAME:CST
DTSTART:20211107T070000
END:STANDARD
BEGIN:DAYLIGHT
TZOFFSETFROM:-0600
TZOFFSETTO:-0500
TZNAME:CDT
DTSTART:20220313T080000
END:DAYLIGHT
BEGIN:STANDARD
TZOFFSETFROM:-0500
TZOFFSETTO:-0600
TZNAME:CST
DTSTART:20221106T070000
END:STANDARD
BEGIN:DAYLIGHT
TZOFFSETFROM:-0600
TZOFFSETTO:-0500
TZNAME:CDT
DTSTART:20230312T080000
END:DAYLIGHT
BEGIN:STANDARD
TZOFFSETFROM:-0500
TZOFFSETTO:-0600
TZNAME:CST
DTSTART:20231105T070000
END:STANDARD
END:VTIMEZONE
BEGIN:VEVENT
DTSTART;TZID=America/Chicago:20220410T080000
DTEND;TZID=America/Chicago:20220410T093000
DTSTAMP:20260424T014516
CREATED:20220314T224054Z
LAST-MODIFIED:20220314T224054Z
UID:10001401-1649577600-1649583000@www.chicagoculturalalliance.org
SUMMARY:First Blacks Chicago Online Concert
DESCRIPTION:“First Blacks Chicago” is a celebration of Black Chicago trailblazers! “First Blacks Chicago” was created by the Haitian American Museum of Chicago (HAMOC)\, and in 2019 HAMOC invited Crossing Borders Music’s participation in this ongoing historic project. Be among the first people to hear “Ogou Wa dè Zanj\,” (“Ogou\, King of Angels”)\, a new piece we commissioned of Jean Paul Coffy! Coffy is a former lead artist of Boukman Eksperyans\, the Grammy-nominated\, legendary Haitian roots music group\, and he joins on piano!\nHear also the reflective “Nostalgia” by Rudy Perrault\, honoring DuSable; the “natif” style of Gifrants’s “Fraternitas! Fraternitas! Dei Patris Nomine\,” a musical tribute to Harold Washington; and the elegance and beauty of Sabrina C D Jean Louis’ “La Cité\,” a tribute to the legacy of DuSable\, and a piece prompted by the work of Chicago’s DuSable Heritage Association. Hear too Rudy Perrault’s “Brother Malcolm” as he imagines\, through music\, a conversation between Malcolm X and Martin Luther King in response to the inauguration of Barack Obama. Plus\, hear the timeless Haitian classics “Ayiti Cheri\,” “Choucoune\,” and more!\nWe’re honored to announce that co-hosting the livestream will be Elsie Hector Hernandez\, Founder and President of HAMOC! Learn more about HAMOC’s great work at https://hamoc.org/ And\, DuSable Heritage Association President Etzer Cantave will join as a guest as well! Learn more about the DuSable Heritage Association at https://www.dusableheritage.com/\nFeaturing Marianne Parker; piano; Rasa Mahmoudian and Jennifer Leckie\, violins; Seth Pae\, viola; and Tom Clowes\, cello; Aidan Kranz\, cinematography; with special thanks to Thavary Krouch for her technical support.\nThis program is made possible in part by the Paul M Angell Family Foundation and City of Chicago’s Department of Cultural Affairs and Special Events.\nCrossing Borders Music acknowledges support from the Illinois Arts Council Agency.\nPictured: a black and white Chicago Tribune photo of Mayor Harold Washington\, the first African-American mayor of Chicago with his arms outstretched\, wearing a suit and overcoat\, leading a large\, predominantly African-American crowd down a downtown Chicago street\, with one person in the crowd holding a sign saying “Punch 9.” Washington and most people in the crowd are smiling.
URL:https://www.chicagoculturalalliance.org/event/first-blacks-chicago-online-concert/
LOCATION:Online Event
CATEGORIES:Music, Film, and Theater,Online Events
ATTACH;FMTTYPE=image/jpeg:https://www.chicagoculturalalliance.org/wp-content/uploads/2022/03/first-blacks-chicago.jpeg
END:VEVENT
BEGIN:VEVENT
DTSTART;TZID=America/Chicago:20220410T103000
DTEND;TZID=America/Chicago:20220410T120000
DTSTAMP:20260424T014516
CREATED:20220404T142156Z
LAST-MODIFIED:20220404T142156Z
UID:10001438-1649586600-1649592000@www.chicagoculturalalliance.org
SUMMARY:Online Artist Talk: Embodied Dualities
DESCRIPTION:This is part of NIAM’s series of programs for E/Merge: Art of the Indian Diaspora. \nUsing very different materials\, processes\, forms\, and strategies\, artists Sarika Goulatia\, Rit Premnath\, and Kaveri Raina each considers and depicts dualities in their works. \nModerator Ambika Trasi will lead the artists in a discussion of their interpretations of the dualities of absence/presence\, location/dislocation\, growth/decay\, hovering/being held through various means and entry points\, from architecture\, to abstraction\, to language/poetry. \nTime: 𝟏𝟎:𝟑𝟎𝐚𝐦 – 𝟏𝟏:𝟒𝟓𝐚𝐦 𝐂𝐓\n𝐑𝐞𝐠𝐢𝐬𝐭𝐞𝐫 𝐭𝐨 𝐫𝐞𝐜𝐞𝐢𝐯𝐞 𝐚 𝐳𝐨𝐨𝐦 𝐥𝐢𝐧𝐤 𝐟𝐨𝐫 𝐭𝐡𝐞 𝐅𝐑𝐄𝐄 𝐯𝐢𝐫𝐭𝐮𝐚𝐥 𝐞𝐯𝐞𝐧𝐭.\nFor enquiries: info@niam.org \n𝐒𝐚𝐫𝐢𝐤𝐚 𝐆𝐨𝐮𝐥𝐚𝐭𝐢𝐚 was born in India and earned a masters in textile design and development there. She has done residencies in rural India\, England\, Hong Kong and the United States. E/Merge features her installation “sometimes forgotten\, sometimes remembered; the tribulations and afflictions never erased.” \n𝐒𝐫𝐞𝐬𝐡𝐭𝐚 𝐑𝐢𝐭 𝐏𝐫𝐞𝐦𝐧𝐚𝐭𝐡 is a Bangalore-born\, Brooklyn-based artist\, educator\, and editor of Shifter Magazine.​​ His recent installations and videos have focused on how our occupation of space and endurance through time is shaped by systems of power and control. \n𝐊𝐚𝐯𝐞𝐫𝐢 𝐑𝐚𝐢𝐧𝐚 is from New Delhi (India)\, she received her BFA from the Maryland Institute College of Art and an MFA from the School of the Art Institute of Chicago. Kaveri Raina’s paintings are based on internal dialogues\, with words that trigger a feeling or an experience. \n𝐀𝐦𝐛𝐢𝐤𝐚 𝐓𝐫𝐚𝐬𝐢\, the panel moderator\, is an artist\, arts organizer\, and writer based in Brooklyn\, NY. Her multidisciplinary\, research-based practice considers the coloniality of power within images and sites. She is interested in the roles that memory\, language\, and technology play in identity-making\, community-building\, and unlearning in the diaspora. \nDue to limited availability please register early! Visit niam.org for artist bios\, COVID safety protocols and other details.
URL:https://www.chicagoculturalalliance.org/event/online-artist-talk-embodied-dualities/
LOCATION:Online Event
CATEGORIES:Exhibitions and Gallery Events,Online Events,Talks and Gatherings
ATTACH;FMTTYPE=image/jpeg:https://www.chicagoculturalalliance.org/wp-content/uploads/2022/04/embodied-dualities.jpg
END:VEVENT
BEGIN:VEVENT
DTSTART;TZID=America/Chicago:20220412T183000
DTEND;TZID=America/Chicago:20220412T193000
DTSTAMP:20260424T014516
CREATED:20220405T170914Z
LAST-MODIFIED:20220405T170914Z
UID:10001440-1649788200-1649791800@www.chicagoculturalalliance.org
SUMMARY:Online Artist Talk: SAMDI
DESCRIPTION:Join HAMOC and SAMDI for an artist talk and Q&A.\n\n\n\n\n\nAbout this event\n\n\nSAMDI is a contemporary Haïtian artist based in Miami. His work\, described by the artist as Sen Soley. Painting from a rhythm. A space where self is looking inwards and possibilities are endless. His work consists of cubist style portraits and a semi abstract approach to figuration. \nSelf exploration and the understanding of the spirit as a human in this space are at the core of SAMDI’s artistic practice. His work can reflect deep emotional trauma and at the same time express the beauty of love. The artist lets the audience be the author of their experience as they have to search inwards to make sense of what they are viewing or feeling.
URL:https://www.chicagoculturalalliance.org/event/online-artist-talk-samdi/
LOCATION:Online Event
CATEGORIES:Exhibitions and Gallery Events,Online Events,Talks and Gatherings
ATTACH;FMTTYPE=image/jpeg:https://www.chicagoculturalalliance.org/wp-content/uploads/2022/04/samdi.jpeg
END:VEVENT
END:VCALENDAR