BEGIN:VCALENDAR
VERSION:2.0
PRODID:-//Chicago Cultural Alliance - ECPv6.15.20//NONSGML v1.0//EN
CALSCALE:GREGORIAN
METHOD:PUBLISH
X-WR-CALNAME:Chicago Cultural Alliance
X-ORIGINAL-URL:https://www.chicagoculturalalliance.org
X-WR-CALDESC:Events for Chicago Cultural Alliance
REFRESH-INTERVAL;VALUE=DURATION:PT1H
X-Robots-Tag:noindex
X-PUBLISHED-TTL:PT1H
BEGIN:VTIMEZONE
TZID:America/Chicago
BEGIN:DAYLIGHT
TZOFFSETFROM:-0600
TZOFFSETTO:-0500
TZNAME:CDT
DTSTART:20210314T080000
END:DAYLIGHT
BEGIN:STANDARD
TZOFFSETFROM:-0500
TZOFFSETTO:-0600
TZNAME:CST
DTSTART:20211107T070000
END:STANDARD
BEGIN:DAYLIGHT
TZOFFSETFROM:-0600
TZOFFSETTO:-0500
TZNAME:CDT
DTSTART:20220313T080000
END:DAYLIGHT
BEGIN:STANDARD
TZOFFSETFROM:-0500
TZOFFSETTO:-0600
TZNAME:CST
DTSTART:20221106T070000
END:STANDARD
BEGIN:DAYLIGHT
TZOFFSETFROM:-0600
TZOFFSETTO:-0500
TZNAME:CDT
DTSTART:20230312T080000
END:DAYLIGHT
BEGIN:STANDARD
TZOFFSETFROM:-0500
TZOFFSETTO:-0600
TZNAME:CST
DTSTART:20231105T070000
END:STANDARD
END:VTIMEZONE
BEGIN:VEVENT
DTSTART;TZID=America/Chicago:20220424T190000
DTEND;TZID=America/Chicago:20220424T200000
DTSTAMP:20260423T224200
CREATED:20220405T171126Z
LAST-MODIFIED:20220405T171126Z
UID:10001441-1650826800-1650830400@www.chicagoculturalalliance.org
SUMMARY:Virtual Film Screening and Discussion: Inhabitants
DESCRIPTION:Join is virtually for our Earth Week Activities!\n\n\n\n\n\nAbout this event\n\n\nIn celebration of Earth Day and Earth Week\, join us for a virtual screening of the film Inhabitants. You can view the film at your leisure anytime between April 22-29th\, 2022. Be sure to join us on Sunday\, April 24th at 7:00pm for a panel discussion with filmmakers Costa Boutsikaris and Dr. Michael Kotutwa Johnson. *All links will be emailed before April 22nd. \n  \nInhabitants: Indigenous Perspectives on Restoring Our World \nFor millennia Native Americans successfully stewarded and shaped their landscapes\, but centuries of colonization have disrupted their ability to maintain their traditional land management practices. From deserts\, coastlines\, forests\, mountains\, and prairies\, Native communities across the US are restoring their ancient relationships with the land. The five stories include sustaining traditions of Hopi dryland farming in Arizona; restoring buffalo to the Blackfeet reservation in Montana; maintaining sustainable forestry on the Menominee reservation in Wisconsin; reviving native food forests in Hawaii; and returning prescribed fire to the landscape by the Karuk Tribe of California. As the climate crisis escalates these time-tested practices of North America’s original inhabitants are becoming increasingly essential in a rapidly changing world. \nWebsite: www.INHABITANTSFILM.com \nInstagram: @InhabitantsFilm \nFaceBook: www.FaceBook.com/InhabitantsFilm \n  \nFilmmakers: \nCosta Boutsikaris – Co-Director/Cinematographer/Editor \nCosta is a New York-based director and cinematographer. In 2015 he released his first feature documentary entitled INHABIT: A Permaculture Perspective. In 2016 it took home the Audience Choice Award at The Environmental Film Festival At Yale and the Princeton Environmental Film Festival and won Best In Theme at the Wild & Scenic Film Festival. \nDirectors Statement \n  \nWe\, Anna Palmer and Costa Boutsikaris\, have had the immense privilege of getting the opportunity to help Native project leaders share their stories and visions of the future. In 2017 Anna Palmer was working for the USDA helping develop climate adaptation plans for Tribes in the Southwest. While attending academic conferences on Climate Change Adaptation she continued to hear a constant request for higher quality media of Native land management projects. Through conversations with Tribal project leaders and our supporting foundations we developed a plan for creating a film to help document these projects. This film was made collaboratively with our Tribal Advisory Board\, which includes representatives from each of the Tribes highlighted in the film and the Kalliopeia Foundation. These partnerships allowed the film subjects to ensure that the film is accurate\, culturally appropriate and meets the needs of their communities. \n  \nFor more information about this program\, contact info@mitchellmuseum.org
URL:https://www.chicagoculturalalliance.org/event/virtual-film-screening-and-discussion-inhabitants/
LOCATION:Online Event
CATEGORIES:Music, Film, and Theater,Online Events
ATTACH;FMTTYPE=image/jpeg:https://www.chicagoculturalalliance.org/wp-content/uploads/2022/04/inhabitants.jpeg
END:VEVENT
BEGIN:VEVENT
DTSTART;TZID=America/Chicago:20220425T160000
DTEND;TZID=America/Chicago:20220425T170000
DTSTAMP:20260423T224200
CREATED:20220405T172936Z
LAST-MODIFIED:20220405T172936Z
UID:10001444-1650902400-1650906000@www.chicagoculturalalliance.org
SUMMARY:Swedish Cooking Class Online
DESCRIPTION:Join us for another cooking class series either online or in person. In April we will be making crepes. For the online class you will receive the recipe in advance. You can then either cook alongside or watch and try later. It is an interactive Zoom so you will be able to ask questions. The in person class takes four participants and is a hands on class. Cost for the in person class is $25 for Museum members and $35 for non members. The online class is $10 for members and $15 for non members.
URL:https://www.chicagoculturalalliance.org/event/swedish-cooking-class-online/
LOCATION:Online Event
CATEGORIES:Online Events,Workshops and Classes
ATTACH;FMTTYPE=image/jpeg:https://www.chicagoculturalalliance.org/wp-content/uploads/2018/05/swedish-american-museum-1.jpg
END:VEVENT
BEGIN:VEVENT
DTSTART;TZID=America/Chicago:20220426T190000
DTEND;TZID=America/Chicago:20220426T203000
DTSTAMP:20260423T224200
CREATED:20220414T194407Z
LAST-MODIFIED:20220414T194407Z
UID:10001453-1650999600-1651005000@www.chicagoculturalalliance.org
SUMMARY:We Are Here: Music From The Holocaust\, A Community-Wide Yom HaShoah Commemoration
DESCRIPTION:Conceived by Ira Antelis\, hosted by Rabbi Shoshanah Conover\, and produced by David Mendelson along with Ira Antelis and Jeremy Perlin\, the concert will honor the memory of those who were murdered and highlight the artists and writers who\, in the worst of times\, continued to create. With a 25-piece choir and performances and readings from some of Chicago’s top artists\, cantors\, and leaders\, this powerful concert will include a candle-lighting ceremony and memorial prayers. \nThis program is free to the public. \nOnline or in-person. \nDoors open at 6:30 pm. Program begins at 7:00 pm CDT.
URL:https://www.chicagoculturalalliance.org/event/we-are-here-music-from-the-holocaust-a-community-wide-yom-hashoah-commemoration/
LOCATION:Temple Sholom Chicago\, 3480 N Lake Shore Dr\, Chicago\, IL\, 60657\, United States
CATEGORIES:Music, Film, and Theater,Online Events,Talks and Gatherings
ATTACH;FMTTYPE=image/jpeg:https://www.chicagoculturalalliance.org/wp-content/uploads/2022/04/we-are-here.jpeg
GEO:41.9462788;-87.6426199
X-APPLE-STRUCTURED-LOCATION;VALUE=URI;X-ADDRESS=Temple Sholom Chicago 3480 N Lake Shore Dr Chicago IL 60657 United States;X-APPLE-RADIUS=500;X-TITLE=3480 N Lake Shore Dr:geo:-87.6426199,41.9462788
END:VEVENT
BEGIN:VEVENT
DTSTART;TZID=America/Chicago:20220427T183000
DTEND;TZID=America/Chicago:20220427T193000
DTSTAMP:20260423T224200
CREATED:20220414T193047Z
LAST-MODIFIED:20220414T193047Z
UID:10001452-1651084200-1651087800@www.chicagoculturalalliance.org
SUMMARY:One Night Stand: Pauline Simon
DESCRIPTION:One piece. By one artist. For one night.\n\n\n\n\n\nAbout this event\n\n\nJoin Intuit for One Night Stand\, a free series of art talks that focus on individual works of art from the museum’s collections and exhibitions. This month\, art historian and curator Lisa Stone will engage attendees in a conversation about artist Pauline Simon and her piece The Ocean. \n\n\nClosed captions will be available at the virtual program. Please contact Lindsey Wurz at lindsey@art.org with questions related to accessibility accommodations. \nOne Night Stand is free to join! To show your support to Intuit\, please consider the pay-what-you-can option when you complete your reservation. Your contributions help ensure the sustainability of our public programs and support guest lecturers and teaching artists. \nTwo hours before the event\, Intuit will email the Zoom link to those who RSVP on Eventbrite. Please check your junk folder; unfortunately\, these emails are sent there sometimes. \n\n\nOne Night Stand is funded in part by the Alphawood Foundation\, the Department of Cultural Affairs\, Gaylord and Dorothy Donnelley Foundation\, Illinois Arts Council Agency\, Illinois Humanities\, National Endowment for the Arts\, Prince Charitable Trust\, Terra Foundation for American Art\, and individual donations from Intuit members and supporters. \n\n\nMeet Lisa Stone \nLisa Stone is a member of the Vivian Society and the 2021 recipient of the Visionary Award. She recently retired as a senior lecturer in the Department of Art History\, Theory\, and Criticism at the School of the Art Institute of Chicago\, where she earned a Master of Science in Historic Preservation. Her research\, teaching\, writing and curating concern the preservation and interpretation of artist-built environments and the realms of non-mainstream art. Stone was curator of the Roger Brown Study Collection (1997–2020) and currently consults for the John Michael Kohler Art Center’s Art Preserve in Sheboygan\, Wisc. She was co-curator with Kenneth C. Burkhart of Chicago Calling: Art Against the Flow\, that traveled from Chicago to Paris; Kaufbeuren\, Germany; Lausanne\, Switzerland; and Amsterdam. \n\n\n\n\n\nImage: Pauline Simon (American\, 1894–1976). The Ocean\, n.d. Oil on canvas\, 28 x 40 in. Collection of Intuit: The Center for Intuitive and Outsider Art\, gift of Phyllis Kind\, 2006.17.2
URL:https://www.chicagoculturalalliance.org/event/one-night-stand-pauline-simon/
LOCATION:Online Event
CATEGORIES:Exhibitions and Gallery Events,Online Events,Talks and Gatherings
ATTACH;FMTTYPE=image/jpeg:https://www.chicagoculturalalliance.org/wp-content/uploads/2022/04/pauline-simon.jpeg
END:VEVENT
BEGIN:VEVENT
DTSTART;TZID=America/Chicago:20220429T090000
DTEND;TZID=America/Chicago:20220505T170000
DTSTAMP:20260423T224200
CREATED:20220420T175146Z
LAST-MODIFIED:20220420T175146Z
UID:10001472-1651222800-1651770000@www.chicagoculturalalliance.org
SUMMARY:Resonance of Color and Line\, 'Gyeol' by Hyelim Kim
DESCRIPTION:Fashion Artist\, Hyelim Kim exhibition of traditional and modernity garment constructed using the techniques of the Korean traditional hanbok sewing known as\, Kkaekki\, using the Western textile of wool silk\, cotton silk\, and Korean textile of Korean silk\, silk organza and dupioni silk. Opening Reception is April 30 at 2pm.
URL:https://www.chicagoculturalalliance.org/event/resonance-of-color-and-line-gyeol-by-hyelim-kim/
LOCATION:Korean Cultural Center of Chicago\, 9925 Capitol Dr\, Wheeling\, IL\, United States
CATEGORIES:Alliance Events,Exhibitions and Gallery Events,Member Events,Online Events
ATTACH;FMTTYPE=image/gif:https://www.chicagoculturalalliance.org/wp-content/uploads/2022/04/TalkMedia_i_d76805cea3f2.gif
GEO:42.1107829;-87.9082415
X-APPLE-STRUCTURED-LOCATION;VALUE=URI;X-ADDRESS=Korean Cultural Center of Chicago 9925 Capitol Dr Wheeling IL United States;X-APPLE-RADIUS=500;X-TITLE=9925 Capitol Dr:geo:-87.9082415,42.1107829
END:VEVENT
END:VCALENDAR