BEGIN:VCALENDAR
VERSION:2.0
PRODID:-//Chicago Cultural Alliance - ECPv6.15.20//NONSGML v1.0//EN
CALSCALE:GREGORIAN
METHOD:PUBLISH
X-WR-CALNAME:Chicago Cultural Alliance
X-ORIGINAL-URL:https://www.chicagoculturalalliance.org
X-WR-CALDESC:Events for Chicago Cultural Alliance
REFRESH-INTERVAL;VALUE=DURATION:PT1H
X-Robots-Tag:noindex
X-PUBLISHED-TTL:PT1H
BEGIN:VTIMEZONE
TZID:America/Chicago
BEGIN:DAYLIGHT
TZOFFSETFROM:-0600
TZOFFSETTO:-0500
TZNAME:CDT
DTSTART:20210314T080000
END:DAYLIGHT
BEGIN:STANDARD
TZOFFSETFROM:-0500
TZOFFSETTO:-0600
TZNAME:CST
DTSTART:20211107T070000
END:STANDARD
BEGIN:DAYLIGHT
TZOFFSETFROM:-0600
TZOFFSETTO:-0500
TZNAME:CDT
DTSTART:20220313T080000
END:DAYLIGHT
BEGIN:STANDARD
TZOFFSETFROM:-0500
TZOFFSETTO:-0600
TZNAME:CST
DTSTART:20221106T070000
END:STANDARD
BEGIN:DAYLIGHT
TZOFFSETFROM:-0600
TZOFFSETTO:-0500
TZNAME:CDT
DTSTART:20230312T080000
END:DAYLIGHT
BEGIN:STANDARD
TZOFFSETFROM:-0500
TZOFFSETTO:-0600
TZNAME:CST
DTSTART:20231105T070000
END:STANDARD
END:VTIMEZONE
BEGIN:VEVENT
DTSTART;TZID=America/Chicago:20220612T130000
DTEND;TZID=America/Chicago:20220612T143000
DTSTAMP:20260423T224257
CREATED:20220314T224637Z
LAST-MODIFIED:20220509T173449Z
UID:10001403-1655038800-1655044200@www.chicagoculturalalliance.org
SUMMARY:Composers with Disabilities and Momenta Dance!
DESCRIPTION:Join us to revel in the beautiful music of composers with disabilities! This unique program features the world premiere performance of Rylan Gleave’s piano quintet “Boyh (bringer of your hair)” alongside world premiere choreography by Julia Cox\, danced by Robby Williams and Connor Cornelius of Momenta Dance Company! In addition to these commissioned works\, the program includes works selected from an international call for submissions for music creators with disabilities!\nThis event will be broadcast live on the Crossing Borders Music Facebook and YouTube channels.\nMomenta Dance Company cultivates and presents repertory and contemporary dance works that strive to educate\, innovate and amplify the artistry of students and professionals\, inclusive of artists with disabilities.\nFeaturing Marianne Parker; piano; Rasa Mahmoudian and Jennifer Leckie\, violins; Seth Van Embden\, viola; and Tom Clowes\, cello; with special thanks to Thavary Krouch for her technical support.\nThis program is made possible in part by the Paul M Angell Family Foundation and City of Chicago’s Department of Cultural Affairs and Special Events.\nCrossing Borders Music acknowledges support from the Illinois Arts Council Agency.\nWe recognize that some artists in this program prefer identity-first language (“disabled artists”)\, while others prefer person-first language (“artists with disabilities”).\nImage Description: Dancer Robby Williams on a dark stage in front of a black curtain leans backwards with his head turned left while reaching his arm to the back of the left wheel of the manual wheelchair he’s using. Photo credit Momenta Dance.
URL:https://www.chicagoculturalalliance.org/event/composers-with-disabilities-and-momenta-dance/
LOCATION:Online Event
CATEGORIES:Music, Film, and Theater,Online Events
ATTACH;FMTTYPE=image/jpeg:https://www.chicagoculturalalliance.org/wp-content/uploads/2022/03/composers-with-disabilities.jpeg
END:VEVENT
BEGIN:VEVENT
DTSTART;TZID=America/Chicago:20220615T173000
DTEND;TZID=America/Chicago:20220615T190000
DTSTAMP:20260423T224257
CREATED:20220614T181555Z
LAST-MODIFIED:20220614T190749Z
UID:10001552-1655314200-1655319600@www.chicagoculturalalliance.org
SUMMARY:A Celebration of Robert Joffrey: Heritage\, Legacy\, and Innovation
DESCRIPTION:MALA presents a special presentation and discussion centering on the legacy of legendary dancer\, teacher\, producer\, and choreographer Robert Joffrey\, who was born Anver Bey Abdullah Jaffa Khan. Joffrey’s achievements and innovations in dance and education have helped to shape the landscape of arts in the U.S. and throughout the global community.\n\nJoin us on Wednesday\, June 15th to learn more about Robert Joffrey’s life and legacy as we honor Pride Month and explore the influence of Muslim cultures and heritage in the arts. The program will feature a presentation on Robert Joffrey’s cultural and artistic background\, with an emphasis on his contributions to the Chicago dance community\, to be followed by a Q&A session.\n\n*This program is made possible through the generous support of Illinois Humanities’ Activating History grant.
URL:https://www.chicagoculturalalliance.org/event/a-celebration-of-robert-joffrey-heritage-legacy-and-innovation/
LOCATION:Online Event
CATEGORIES:Dance,Online Events,Talks and Gatherings
ATTACH;FMTTYPE=image/jpeg:https://www.chicagoculturalalliance.org/wp-content/uploads/2022/06/286692883_3133531493628025_5387299205952644556_n.jpg
END:VEVENT
BEGIN:VEVENT
DTSTART;TZID=America/Chicago:20220616T180000
DTEND;TZID=America/Chicago:20220616T190000
DTSTAMP:20260423T224257
CREATED:20220614T181040Z
LAST-MODIFIED:20220614T181821Z
UID:10001551-1655402400-1655406000@www.chicagoculturalalliance.org
SUMMARY:Artecito Virtual - Ajolote
DESCRIPTION:¡Los Ajolotes son anfibios que comienzan su ciclo de vida de huevo-larva-adulto en el agua y pasan por la metamorfosis y se mudan a la tierra cuando son adultos!\n¡Únase a nosotros mientras exploramos más sobre los Ajolotes con nuestros amigos en Lincoln Park Zoo!\nConéctate aquí: https://bit.ly/ArtecitoAjolote\n_______________\nAxolotls are amphibians that begin their egg-larva-adult life cycle in water and go through metamorphosis and move to land when adults!\nJoin us as we explore more about Axolotls with our friends at Lincoln Park Zoo!\nConnect here: https://bit.ly/ArtecitoAjolote
URL:https://www.chicagoculturalalliance.org/event/artecito-virtual-ajolote/
LOCATION:Online Event
CATEGORIES:Member Events,Online Events
ATTACH;FMTTYPE=image/jpeg:https://www.chicagoculturalalliance.org/wp-content/uploads/2022/06/AJOLOTE-FB-PROMO-scaled.jpg
END:VEVENT
END:VCALENDAR