BEGIN:VCALENDAR
VERSION:2.0
PRODID:-//Chicago Cultural Alliance - ECPv6.15.20//NONSGML v1.0//EN
CALSCALE:GREGORIAN
METHOD:PUBLISH
X-ORIGINAL-URL:https://www.chicagoculturalalliance.org
X-WR-CALDESC:Events for Chicago Cultural Alliance
REFRESH-INTERVAL;VALUE=DURATION:PT1H
X-Robots-Tag:noindex
X-PUBLISHED-TTL:PT1H
BEGIN:VTIMEZONE
TZID:America/Chicago
BEGIN:DAYLIGHT
TZOFFSETFROM:-0600
TZOFFSETTO:-0500
TZNAME:CDT
DTSTART:20210314T080000
END:DAYLIGHT
BEGIN:STANDARD
TZOFFSETFROM:-0500
TZOFFSETTO:-0600
TZNAME:CST
DTSTART:20211107T070000
END:STANDARD
BEGIN:DAYLIGHT
TZOFFSETFROM:-0600
TZOFFSETTO:-0500
TZNAME:CDT
DTSTART:20220313T080000
END:DAYLIGHT
BEGIN:STANDARD
TZOFFSETFROM:-0500
TZOFFSETTO:-0600
TZNAME:CST
DTSTART:20221106T070000
END:STANDARD
BEGIN:DAYLIGHT
TZOFFSETFROM:-0600
TZOFFSETTO:-0500
TZNAME:CDT
DTSTART:20230312T080000
END:DAYLIGHT
BEGIN:STANDARD
TZOFFSETFROM:-0500
TZOFFSETTO:-0600
TZNAME:CST
DTSTART:20231105T070000
END:STANDARD
END:VTIMEZONE
BEGIN:VEVENT
DTSTART;TZID=America/Chicago:20220712T180000
DTEND;TZID=America/Chicago:20220712T190000
DTSTAMP:20260423T221744
CREATED:20220621T200540Z
LAST-MODIFIED:20220621T200616Z
UID:10001578-1657648800-1657652400@www.chicagoculturalalliance.org
SUMMARY:Online Program | Muslims\, the Holocaust\, and Antisemitism
DESCRIPTION:At a challenging time for religious dialogue and healing\, join us online with Dr. Mehnaz Afridi\, Director of the Holocaust\, Genocide\, and Interfaith Education Center at Manhattan College and author of “Shoah Through Muslim Eyes\,” as she explores the rejection of myths about the Holocaust and Jews\, and offers new ways of creating an understanding between two communities through the acceptance and enormity of the Shoah. Dr. Afridi will also discuss Islam and principles of justice\, as well as the role of Muslims in North Africa during the Holocaust\, rescue stories\, and how we can acknowledge narratives of suffering at different times in history.\n\nMembers: Free; Non-Members: $5.00\n\nMembers must sign in to take advantage of their member discount \nRegister: https://ihm.ec/muslimsandtheholocaust
URL:https://www.chicagoculturalalliance.org/event/online-program-muslims-the-holocaust-and-antisemitism/
LOCATION:Online Event
CATEGORIES:Online Events,Talks and Gatherings
ATTACH;FMTTYPE=image/jpeg:https://www.chicagoculturalalliance.org/wp-content/uploads/2022/06/285824398_10166214314285721_6359627089089591106_n.jpg
END:VEVENT
END:VCALENDAR