BEGIN:VCALENDAR
VERSION:2.0
PRODID:-//Chicago Cultural Alliance - ECPv6.15.20//NONSGML v1.0//EN
CALSCALE:GREGORIAN
METHOD:PUBLISH
X-WR-CALNAME:Chicago Cultural Alliance
X-ORIGINAL-URL:https://www.chicagoculturalalliance.org
X-WR-CALDESC:Events for Chicago Cultural Alliance
REFRESH-INTERVAL;VALUE=DURATION:PT1H
X-Robots-Tag:noindex
X-PUBLISHED-TTL:PT1H
BEGIN:VTIMEZONE
TZID:America/Chicago
BEGIN:DAYLIGHT
TZOFFSETFROM:-0600
TZOFFSETTO:-0500
TZNAME:CDT
DTSTART:20210314T080000
END:DAYLIGHT
BEGIN:STANDARD
TZOFFSETFROM:-0500
TZOFFSETTO:-0600
TZNAME:CST
DTSTART:20211107T070000
END:STANDARD
BEGIN:DAYLIGHT
TZOFFSETFROM:-0600
TZOFFSETTO:-0500
TZNAME:CDT
DTSTART:20220313T080000
END:DAYLIGHT
BEGIN:STANDARD
TZOFFSETFROM:-0500
TZOFFSETTO:-0600
TZNAME:CST
DTSTART:20221106T070000
END:STANDARD
BEGIN:DAYLIGHT
TZOFFSETFROM:-0600
TZOFFSETTO:-0500
TZNAME:CDT
DTSTART:20230312T080000
END:DAYLIGHT
BEGIN:STANDARD
TZOFFSETFROM:-0500
TZOFFSETTO:-0600
TZNAME:CST
DTSTART:20231105T070000
END:STANDARD
END:VTIMEZONE
BEGIN:VEVENT
DTSTART;TZID=America/Chicago:20220910T120000
DTEND;TZID=America/Chicago:20220910T130000
DTSTAMP:20260423T153933
CREATED:20220908T143314Z
LAST-MODIFIED:20220908T143314Z
UID:10001721-1662811200-1662814800@www.chicagoculturalalliance.org
SUMMARY:Poetry Session with Chicago Poetry Center
DESCRIPTION:The Chinese American Museum of Chicago (CAMOC) is excited to host two free public programs for the Spotlight Series exhibition Yuge Zhou: Moon Drawings. The first of these programs is a poetry session in collaboration with the Chicago Poetry Center on Saturday\, September 10\, from 12pm-1pm CT\, coinciding with the Mid-Autumn (Moon) Festival. The poetry session will start with a poetry performance by Lisa Low followed by an ekphrastic workshop with participants create and share their poems in response to the themes of the exhibition.\n\nRegister here\n\nAbout the poet\nLisa Low is a poet and essayist from Maryland. Her poems appear or are forthcoming in Copper Nickel\, Ecotone\, The Massachusetts Review\, Poetry\, The Southern Review\, and elsewhere\, and her essay “How to Apologize” won the 2020 Gulf Coast Nonfiction Prize. She earned an MFA from Indiana University and a PhD in creative writing and literature from the University of Cincinnati\, where she served as associate editor at The Cincinnati Review. Her debut chapbook\, Crown for the Girl Inside\, won the 2020 Vinyl 45 Chapbook Contest and is forthcoming from YesYes Books.
URL:https://www.chicagoculturalalliance.org/event/poetry-session-with-chicago-poetry-center/
LOCATION:Chinese American Museum of Chicago\, 238 W. 23rd St\, Chicago\, IL\, 60616\, United States
CATEGORIES:Online Events,Talks and Gatherings,Workshops and Classes
ATTACH;FMTTYPE=image/jpeg:https://www.chicagoculturalalliance.org/wp-content/uploads/2022/09/Moon-Drawings_2022-winter-scaled.jpg
GEO:41.8512186;-87.6335147
X-APPLE-STRUCTURED-LOCATION;VALUE=URI;X-ADDRESS=Chinese American Museum of Chicago 238 W. 23rd St Chicago IL 60616 United States;X-APPLE-RADIUS=500;X-TITLE=238 W. 23rd St:geo:-87.6335147,41.8512186
END:VEVENT
END:VCALENDAR