BEGIN:VCALENDAR
VERSION:2.0
PRODID:-//Chicago Cultural Alliance - ECPv6.15.20//NONSGML v1.0//EN
CALSCALE:GREGORIAN
METHOD:PUBLISH
X-ORIGINAL-URL:https://www.chicagoculturalalliance.org
X-WR-CALDESC:Events for Chicago Cultural Alliance
REFRESH-INTERVAL;VALUE=DURATION:PT1H
X-Robots-Tag:noindex
X-PUBLISHED-TTL:PT1H
BEGIN:VTIMEZONE
TZID:America/Chicago
BEGIN:DAYLIGHT
TZOFFSETFROM:-0600
TZOFFSETTO:-0500
TZNAME:CDT
DTSTART:20210314T080000
END:DAYLIGHT
BEGIN:STANDARD
TZOFFSETFROM:-0500
TZOFFSETTO:-0600
TZNAME:CST
DTSTART:20211107T070000
END:STANDARD
BEGIN:DAYLIGHT
TZOFFSETFROM:-0600
TZOFFSETTO:-0500
TZNAME:CDT
DTSTART:20220313T080000
END:DAYLIGHT
BEGIN:STANDARD
TZOFFSETFROM:-0500
TZOFFSETTO:-0600
TZNAME:CST
DTSTART:20221106T070000
END:STANDARD
BEGIN:DAYLIGHT
TZOFFSETFROM:-0600
TZOFFSETTO:-0500
TZNAME:CDT
DTSTART:20230312T080000
END:DAYLIGHT
BEGIN:STANDARD
TZOFFSETFROM:-0500
TZOFFSETTO:-0600
TZNAME:CST
DTSTART:20231105T070000
END:STANDARD
END:VTIMEZONE
BEGIN:VEVENT
DTSTART;TZID=America/Chicago:20220929T190000
DTEND;TZID=America/Chicago:20220929T203000
DTSTAMP:20260423T154142
CREATED:20220830T200759Z
LAST-MODIFIED:20220830T200759Z
UID:10001715-1664478000-1664483400@www.chicagoculturalalliance.org
SUMMARY:Dare to Tell! Storytelling Workshop
DESCRIPTION:Do you want to tell stories to connect with people emotionally and to create intimate communities with others? Do you want to tell stories that reflect upon urgent social concerns of our time? \nThere are two parts to this workshop/circle. During the first part of the session\, we will discuss central tenets of this art form and explore some general principles. Participants will practice sharing personal stories during the second part of the session. \nInstructor bio\nAda Cheng is a professor-turned-storyteller\, solo performer\, and storytelling show producer. She is the producer and the host of five storytelling shows\, including Pour One Out\, Am I Man Enough?\, Talk Stories: An Asian American/Asian Diaspora Storytelling Show\, Speaking Truths Series\, and This Is America: Truths through My Body. She creates platforms for people to tell difficult and vulnerable stories as well as spaces for people and communities who may not have opportunities otherwise. She teaches at both Dominican University and Northwestern University. She has been a speaker for Illinois Humanities Road Scholars Speakers Bureau since 2019. Her interests span multiple fields\, including academia\, storytelling/performance art\, and advocacy. Her motto: Make your life the best story you tell. \n  \nDate: Thursday\, September 29\, 2022\nTime: 7pm – 8:30pm\nLocation: Zoom (Virtual)
URL:https://www.chicagoculturalalliance.org/event/dare-to-tell-storytelling-workshop/
LOCATION:Online Event
CATEGORIES:Online Events,Workshops and Classes
ATTACH;FMTTYPE=image/png:https://www.chicagoculturalalliance.org/wp-content/uploads/2022/08/dare-to-tell.png
END:VEVENT
END:VCALENDAR