BEGIN:VCALENDAR
VERSION:2.0
PRODID:-//Chicago Cultural Alliance - ECPv6.15.20//NONSGML v1.0//EN
CALSCALE:GREGORIAN
METHOD:PUBLISH
X-WR-CALNAME:Chicago Cultural Alliance
X-ORIGINAL-URL:https://www.chicagoculturalalliance.org
X-WR-CALDESC:Events for Chicago Cultural Alliance
REFRESH-INTERVAL;VALUE=DURATION:PT1H
X-Robots-Tag:noindex
X-PUBLISHED-TTL:PT1H
BEGIN:VTIMEZONE
TZID:America/Chicago
BEGIN:DAYLIGHT
TZOFFSETFROM:-0600
TZOFFSETTO:-0500
TZNAME:CDT
DTSTART:20210314T080000
END:DAYLIGHT
BEGIN:STANDARD
TZOFFSETFROM:-0500
TZOFFSETTO:-0600
TZNAME:CST
DTSTART:20211107T070000
END:STANDARD
BEGIN:DAYLIGHT
TZOFFSETFROM:-0600
TZOFFSETTO:-0500
TZNAME:CDT
DTSTART:20220313T080000
END:DAYLIGHT
BEGIN:STANDARD
TZOFFSETFROM:-0500
TZOFFSETTO:-0600
TZNAME:CST
DTSTART:20221106T070000
END:STANDARD
BEGIN:DAYLIGHT
TZOFFSETFROM:-0600
TZOFFSETTO:-0500
TZNAME:CDT
DTSTART:20230312T080000
END:DAYLIGHT
BEGIN:STANDARD
TZOFFSETFROM:-0500
TZOFFSETTO:-0600
TZNAME:CST
DTSTART:20231105T070000
END:STANDARD
END:VTIMEZONE
BEGIN:VEVENT
DTSTART;TZID=America/Chicago:20221218T133000
DTEND;TZID=America/Chicago:20221218T153000
DTSTAMP:20260423T110407
CREATED:20220926T183823Z
LAST-MODIFIED:20221102T174139Z
UID:10001756-1671370200-1671377400@www.chicagoculturalalliance.org
SUMMARY:Scandinavian Jam ONLINE
DESCRIPTION:Scandinavian Jam\, where we practice what we teach. Join Mary Allsopp and Paul Tyler online on the first and third Sunday of every month. Enjoy an afternoon of traditional roots music. We teach by ear\, review and share tunes. We are happy to take suggestions and love meeting new people. It’s a friendly group and we have folks joining in from across the country. \nContact Scandi.Fiddler@yahoo.com or PTyler@ameritech.net with any questions and to get a zoom code. This is a free event.
URL:https://www.chicagoculturalalliance.org/event/scandinavian-jam-online-4-2/2022-12-18/
LOCATION:Online\, IL\, United States
CATEGORIES:Music, Film, and Theater,Online Events
ATTACH;FMTTYPE=image/png:https://www.chicagoculturalalliance.org/wp-content/uploads/2022/09/307360432_10161424273909714_2074237853391582659_n.png
GEO:40.6331249;-89.3985283
END:VEVENT
END:VCALENDAR