BEGIN:VCALENDAR
VERSION:2.0
PRODID:-//Chicago Cultural Alliance - ECPv6.15.20//NONSGML v1.0//EN
CALSCALE:GREGORIAN
METHOD:PUBLISH
X-WR-CALNAME:Chicago Cultural Alliance
X-ORIGINAL-URL:https://www.chicagoculturalalliance.org
X-WR-CALDESC:Events for Chicago Cultural Alliance
REFRESH-INTERVAL;VALUE=DURATION:PT1H
X-Robots-Tag:noindex
X-PUBLISHED-TTL:PT1H
BEGIN:VTIMEZONE
TZID:America/Chicago
BEGIN:DAYLIGHT
TZOFFSETFROM:-0600
TZOFFSETTO:-0500
TZNAME:CDT
DTSTART:20250309T080000
END:DAYLIGHT
BEGIN:STANDARD
TZOFFSETFROM:-0500
TZOFFSETTO:-0600
TZNAME:CST
DTSTART:20251102T070000
END:STANDARD
BEGIN:DAYLIGHT
TZOFFSETFROM:-0600
TZOFFSETTO:-0500
TZNAME:CDT
DTSTART:20260308T080000
END:DAYLIGHT
BEGIN:STANDARD
TZOFFSETFROM:-0500
TZOFFSETTO:-0600
TZNAME:CST
DTSTART:20261101T070000
END:STANDARD
BEGIN:DAYLIGHT
TZOFFSETFROM:-0600
TZOFFSETTO:-0500
TZNAME:CDT
DTSTART:20270314T080000
END:DAYLIGHT
BEGIN:STANDARD
TZOFFSETFROM:-0500
TZOFFSETTO:-0600
TZNAME:CST
DTSTART:20271107T070000
END:STANDARD
END:VTIMEZONE
BEGIN:VEVENT
DTSTART;TZID=America/Chicago:20260116T190000
DTEND;TZID=America/Chicago:20260116T233000
DTSTAMP:20260424T040838
CREATED:20260106T204158Z
LAST-MODIFIED:20260106T204158Z
UID:10010352-1768590000-1768606200@www.chicagoculturalalliance.org
SUMMARY:Spieleabend | Game Night  Stammtisch Open Haus
DESCRIPTION:Our January Open Haus will be the best game night in town! Did you know that Germans invented the jigsaw puzzle and board games? Bring your friends and your competitive spirit and celebrate Germany with a night of German food\, drink\, games\, and Gemütlichkeit! We’ll have games of all types for all ages – board games\, card games\, foosball\, and more! \nFood and drink will be available for purchase. \n 
URL:https://www.chicagoculturalalliance.org/event/spieleabend-game-night-stammtisch-open-haus-2/
LOCATION:DANK Haus German American Cultural Center\, 4740 N. Western Ave.\, Chicago\, IL\, 60625\, United States
CATEGORIES:Talks and Gatherings
ATTACH;FMTTYPE=image/png:https://www.chicagoculturalalliance.org/wp-content/uploads/2026/01/Game-Night-Stammtisch-promo-4-x-6-in-Real-Estate-Flyer.png
GEO:41.9680013;-87.6890642
X-APPLE-STRUCTURED-LOCATION;VALUE=URI;X-ADDRESS=DANK Haus German American Cultural Center 4740 N. Western Ave. Chicago IL 60625 United States;X-APPLE-RADIUS=500;X-TITLE=4740 N. Western Ave.:geo:-87.6890642,41.9680013
END:VEVENT
BEGIN:VEVENT
DTSTART;TZID=America/Chicago:20260116T193000
DTEND;TZID=America/Chicago:20260117T000000
DTSTAMP:20260424T040838
CREATED:20240219T213700Z
LAST-MODIFIED:20240219T213900Z
UID:10006060-1768591800-1768608000@www.chicagoculturalalliance.org
SUMMARY:Stammtisch Open Haus\, Every 3rd Friday
DESCRIPTION:Feiern Sie mit uns! Our monthly Open Haus Stammtisch is a great way to meet new friends and enjoy a little Gemütlichkeit over some delicious German food and drink! \nTheme TBD \nFood and drink will be available for purchase. \nFree parking at 5/3 Bank after 6:00 PM located at Western and Gunnison
URL:https://www.chicagoculturalalliance.org/event/stammtisch-open-haus-every-3rd-friday/2026-01-16/
LOCATION:DANK Haus German American Cultural Center\, 4740 N. Western Ave.\, Chicago\, IL\, 60625\, United States
CATEGORIES:Food and Drink,Talks and Gatherings
ATTACH;FMTTYPE=image/jpeg:https://www.chicagoculturalalliance.org/wp-content/uploads/2023/11/Christmas-Stammtisch-2022-wap_048-B.jpg
GEO:41.9680013;-87.6890642
X-APPLE-STRUCTURED-LOCATION;VALUE=URI;X-ADDRESS=DANK Haus German American Cultural Center 4740 N. Western Ave. Chicago IL 60625 United States;X-APPLE-RADIUS=500;X-TITLE=4740 N. Western Ave.:geo:-87.6890642,41.9680013
END:VEVENT
BEGIN:VEVENT
DTSTART;TZID=America/Chicago:20260122T180000
DTEND;TZID=America/Chicago:20260122T190000
DTSTAMP:20260424T040838
CREATED:20251217T212157Z
LAST-MODIFIED:20251217T212157Z
UID:10010323-1769104800-1769108400@www.chicagoculturalalliance.org
SUMMARY:Religion and Journalism in Chicago with Mary Ann Ahern (IN PERSON)
DESCRIPTION:Join us for a conversation with Emmy Award-winning journalist Mary Ann Ahern of Chicago’s NBC 5 about covering religion\, writing about Chicago’s Pope\, and shaping the public’s perception and practice of faith. \nMary Ann Ahern joined NBC 5 News in March 1989 and was named the station’s Political Reporter in 2006. Most recently\, Ahern was front-and-center at the Vatican for NBC 5 Chicago’s extensive on-site coverage of one of the year’s biggest international stories when Chicago native\, Cardinal Robert Francis Prevost\, became Pope Leo XIV. For her standout work at the Vatican\, Ahern earned a pair 2025 Chicago/Midwest Emmy Awards. \nThis is an in person program at the American Writers Museum. This program will also be livestreamed\, and you can register for the link to the online broadcast here. \nThis program is presented in conjunction with the AWM’s special exhibit American Prophets: Writers\, Religion\, and Culture\, a powerful new exhibit that takes you on the ultimate exploration through spirituality and storytelling. American Prophets is supported by a grant from Lilly Endowment Inc. through its Religion and Cultural Institutions Initiative.
URL:https://www.chicagoculturalalliance.org/event/religion-and-journalism-in-chicago-with-mary-ann-ahern-in-person/
LOCATION:American Writers Museum\, 180 N. Michigan Ave.\, Chicago\, IL\, 60601\, United States
CATEGORIES:Talks and Gatherings
ATTACH;FMTTYPE=image/png:https://www.chicagoculturalalliance.org/wp-content/uploads/2025/12/Religion-and-Journalism-Square-IN-PERSON.png
GEO:41.8855045;-87.6248892
X-APPLE-STRUCTURED-LOCATION;VALUE=URI;X-ADDRESS=American Writers Museum 180 N. Michigan Ave. Chicago IL 60601 United States;X-APPLE-RADIUS=500;X-TITLE=180 N. Michigan Ave.:geo:-87.6248892,41.8855045
END:VEVENT
BEGIN:VEVENT
DTSTART;TZID=America/Chicago:20260122T190000
DTEND;TZID=America/Chicago:20260122T203000
DTSTAMP:20260424T040838
CREATED:20260123T225102Z
LAST-MODIFIED:20260123T225102Z
UID:10010355-1769108400-1769113800@www.chicagoculturalalliance.org
SUMMARY:The World of the Brothers Grimm | In-Person Presentation
DESCRIPTION:If at its core Kultur can be defined as what a people choose to pass on to their children\, the folklore of the Brothers Grimm might be said to represent a rich tapestry of the German people’s distinct\, cultural memory. \nThis in-person presentation will explore the times in which this folklore was first collected and published. As the Grimms were part and parcel of the Romanticist movement of the early 19th century\, their interpretations of the tales they collected might be seen not only as a reaction to Enlightenment rationalism but also in support of an early nationalist movement seeking to promote a “German” consciousness based on the authentic voices of a common folk bound together by language and and tradition.  \nJoin us then as we take a closer look at the historical and cultural context behind the enchanted folklore of the Brothers Grimm.
URL:https://www.chicagoculturalalliance.org/event/the-world-of-the-brothers-grimm-in-person-presentation/
LOCATION:DANK Haus German American Cultural Center\, 4740 N. Western Ave.\, Chicago\, IL\, 60625\, United States
CATEGORIES:Talks and Gatherings
ATTACH;FMTTYPE=image/png:https://www.chicagoculturalalliance.org/wp-content/uploads/2026/01/Copy-of-Grimms-Tales-2.png
GEO:41.9680013;-87.6890642
X-APPLE-STRUCTURED-LOCATION;VALUE=URI;X-ADDRESS=DANK Haus German American Cultural Center 4740 N. Western Ave. Chicago IL 60625 United States;X-APPLE-RADIUS=500;X-TITLE=4740 N. Western Ave.:geo:-87.6890642,41.9680013
END:VEVENT
BEGIN:VEVENT
DTSTART;TZID=America/Chicago:20260129T180000
DTEND;TZID=America/Chicago:20260129T190000
DTSTAMP:20260424T040838
CREATED:20260106T174426Z
LAST-MODIFIED:20260106T174426Z
UID:10010325-1769709600-1769713200@www.chicagoculturalalliance.org
SUMMARY:The Fire Inside: The Dharma of James Baldwin and Audre Lorde (ONLINE)
DESCRIPTION:Join us online for a discussion with Dr. Rima Vesely-Flad about her new book The Fire Inside: The Dharma of James Baldwin and Audre Lorde. Black\, queer\, feminist\, Buddhist: The Fire Inside casts a fresh new light on the radical literary legacies of James Baldwin and Audre Lorde. \nThis is an online-only program with the American Writers Museum. \nThis program is presented in conjunction with the AWM’s special exhibit American Prophets: Writers\, Religion\, and Culture\, a powerful new exhibit that takes you on the ultimate exploration through spirituality and storytelling. American Prophets is supported by a grant from Lilly Endowment Inc. through its Religion and Cultural Institutions Initiative. \n \nMore about The Fire Inside: \nThe Fire Inside explores the writings of Audre Lorde and James Baldwin through a Dharmic lens\, revealing for the first time how two of America’s greatest literary voices reflect—and expand—Buddhism’s most timeless truths toward justice and liberation. \nDr. Rima Vesely-Flad dives deeply into a dharma of liberation as lived by Baldwin and Lorde\, offering timely lessons to help us each meet this moment. She explores the writers’ enduring legacies to show that liberation depends not only on organizing and mass movements\, but the generative power of inner well-being\, authenticity\, art\, and embodiment. Each chapter shares how looking inward is the way forward\, examining Baldwin and Lorde through key Buddhist principles. \nThis book offers space for emerging conversations within spiritual communities—ones that don’t shy away from difficult or uncomfortable truths; that center—and celebrate—Black\, queer\, radical thought; and that embrace the ways our inner lives\, creative fire\, sensuality\, and expressions of love can ignite and sustain revolutionary liberation. \nPraise for The Fire Inside: \n“I have followed and admired Rima Vesely-Flad’s work for years. She is tapping resources that all of us can access for greater hope and change.” —MICHELLE ALEXANDER\, author of The New Jim Crow \n“This groundbreaking work is a gift of love reminding us of how Black liberation struggle\, like the dharma itself\, has always been about everyone getting free.” —LAMA ROD OWENS\, author of Love and Rage and The New Saints \n“This is a read not to miss… I find my own embers of wellness\, justice\, and harmony stoked with her joy of expression from the heart and mind on behalf of us all.” —LARRY WARD\, Buddhist teacher\, author\, and cofounder of The Lotus Institute \n“This book is a fire that both illuminates and refines\, a call to engage with the truth of our times while drawing strength from ancestral wisdom.” —RUTH KING\, author of Mindful of Race \nAbout the author: \nDR. RIMA VESELY-FLAD is the Visiting Professor of Buddhism and Black Studies at Union Theological Seminary. She is the author of Black Buddhists and the Black Radical Tradition: The Practice of Stillness in the Movement for Liberation (NYU Press\, 2022) and Racial Purity and Dangerous Bodies: Moral Pollution\, Black Lives\, and the Struggle for Justice (Fortress Press\, 2017).
URL:https://www.chicagoculturalalliance.org/event/the-fire-inside-the-dharma-of-james-baldwin-and-audre-lorde-online/
LOCATION:Virtual\, Chicago\, IL\, United States
CATEGORIES:Music, Film, and Theater,Talks and Gatherings
ATTACH;FMTTYPE=image/png:https://www.chicagoculturalalliance.org/wp-content/uploads/2025/12/The-Fire-Inside-Eventbrite-Online.png
GEO:41.8781136;-87.6297982
END:VEVENT
END:VCALENDAR