BEGIN:VCALENDAR
VERSION:2.0
PRODID:-//Chicago Cultural Alliance - ECPv6.15.20//NONSGML v1.0//EN
CALSCALE:GREGORIAN
METHOD:PUBLISH
X-ORIGINAL-URL:https://www.chicagoculturalalliance.org
X-WR-CALDESC:Events for Chicago Cultural Alliance
REFRESH-INTERVAL;VALUE=DURATION:PT1H
X-Robots-Tag:noindex
X-PUBLISHED-TTL:PT1H
BEGIN:VTIMEZONE
TZID:America/Chicago
BEGIN:DAYLIGHT
TZOFFSETFROM:-0600
TZOFFSETTO:-0500
TZNAME:CDT
DTSTART:20210314T080000
END:DAYLIGHT
BEGIN:STANDARD
TZOFFSETFROM:-0500
TZOFFSETTO:-0600
TZNAME:CST
DTSTART:20211107T070000
END:STANDARD
BEGIN:DAYLIGHT
TZOFFSETFROM:-0600
TZOFFSETTO:-0500
TZNAME:CDT
DTSTART:20220313T080000
END:DAYLIGHT
BEGIN:STANDARD
TZOFFSETFROM:-0500
TZOFFSETTO:-0600
TZNAME:CST
DTSTART:20221106T070000
END:STANDARD
BEGIN:DAYLIGHT
TZOFFSETFROM:-0600
TZOFFSETTO:-0500
TZNAME:CDT
DTSTART:20230312T080000
END:DAYLIGHT
BEGIN:STANDARD
TZOFFSETFROM:-0500
TZOFFSETTO:-0600
TZNAME:CST
DTSTART:20231105T070000
END:STANDARD
END:VTIMEZONE
BEGIN:VEVENT
DTSTART;TZID=America/Chicago:20220127T120000
DTEND;TZID=America/Chicago:20220127T130000
DTSTAMP:20260422T054246
CREATED:20220118T220048Z
LAST-MODIFIED:20220118T220048Z
UID:10001281-1643284800-1643288400@www.chicagoculturalalliance.org
SUMMARY:Virtual Artist Talk: Jennifer M. Stevens (Oneida and Oglala Lakota)
DESCRIPTION:Virtual Artist Discussion! \n\n\n\nJoin us for our artist discussion about their work and who they are as artists. There will be a live Q&A at the end of each discussion.\n\n\n\n\n\nAbout this event\n\n\nJennifer M. Stevens is currently a resident of Bayview-Milwaukee\, Wisconsin. She is an enrolled member of the Oneida Nation of Wisconsin through her father and Oglala Lakota through her Mother. She was born in Alexandria\, Virginia and raised on the Oneida Nation-De Pere\, Wisconsin and received her Bachelor’s of Arts Degree in Art from St. Norbert College. \nJennifer M. Stevens has weaved a creative life as a classical singer and visual artist. She studied Classical Singing and Opera nationally and internationally and she studied Classical Art in college and traditional Oneida Pottery with prominent woodland Indigenous artists such as; Rose K. Kerstetter\, Peter B. Jones\, and Richard Zane Smith. \nFurthermore\, Jennifer M. Stevens became nationally known for her contribution in cultural preservation through Oneida Pottery revitalization\, taught Oneida Pottery for 20 years 4k-Advance level students\, and one of the few in history to become a professional Native American woman composer and classical singer. Stevens was acknowledged in the book\, Encyclopedia of Native American Music of North America by Elaine Keillor and Timothy Archambault\, and was a featured Artist\, Singer\, and Composer on PBS-Wisconsin Public Television\, “Wisconsin Life” and the documentary\, “Owe.la’: The Music Within Jennifer Stevens.” Stevens is a Singer\, Composer\, Artist\, Researcher\, and Educator\, and her life philosophy is “Community Building Through the Arts.” \n\n\n\n\nThursday\, 1/27 at 6pm Central via Zoom. Tickets here https://www.eventbrite.com/…/virtual-artist-discussion…\nFor more information\, please visit www.mitchellmuseum.org/events
URL:https://www.chicagoculturalalliance.org/event/virtual-artist-talk-jennifer-m-stevens-oneida-and-oglala-lakota/
LOCATION:Online Event
CATEGORIES:Member Events,Talks and Gatherings
ATTACH;FMTTYPE=image/jpeg:https://www.chicagoculturalalliance.org/wp-content/uploads/2022/01/jennifer-stevens-talk.jpeg
END:VEVENT
END:VCALENDAR