BEGIN:VCALENDAR
VERSION:2.0
PRODID:-//Chicago Cultural Alliance - ECPv6.15.20//NONSGML v1.0//EN
CALSCALE:GREGORIAN
METHOD:PUBLISH
X-ORIGINAL-URL:https://www.chicagoculturalalliance.org
X-WR-CALDESC:Events for Chicago Cultural Alliance
REFRESH-INTERVAL;VALUE=DURATION:PT1H
X-Robots-Tag:noindex
X-PUBLISHED-TTL:PT1H
BEGIN:VTIMEZONE
TZID:America/Chicago
BEGIN:DAYLIGHT
TZOFFSETFROM:-0600
TZOFFSETTO:-0500
TZNAME:CDT
DTSTART:20240310T080000
END:DAYLIGHT
BEGIN:STANDARD
TZOFFSETFROM:-0500
TZOFFSETTO:-0600
TZNAME:CST
DTSTART:20241103T070000
END:STANDARD
BEGIN:DAYLIGHT
TZOFFSETFROM:-0600
TZOFFSETTO:-0500
TZNAME:CDT
DTSTART:20250309T080000
END:DAYLIGHT
BEGIN:STANDARD
TZOFFSETFROM:-0500
TZOFFSETTO:-0600
TZNAME:CST
DTSTART:20251102T070000
END:STANDARD
BEGIN:DAYLIGHT
TZOFFSETFROM:-0600
TZOFFSETTO:-0500
TZNAME:CDT
DTSTART:20260308T080000
END:DAYLIGHT
BEGIN:STANDARD
TZOFFSETFROM:-0500
TZOFFSETTO:-0600
TZNAME:CST
DTSTART:20261101T070000
END:STANDARD
END:VTIMEZONE
BEGIN:VEVENT
DTSTART;TZID=America/Chicago:20250321T170000
DTEND;TZID=America/Chicago:20250321T200000
DTSTAMP:20260421T035046
CREATED:20230605T165541Z
LAST-MODIFIED:20240331T210634Z
UID:10004260-1742576400-1742587200@www.chicagoculturalalliance.org
SUMMARY:3rd Fridays Free Admission Museum Night
DESCRIPTION:Free Admission Museum Nights take place every third Friday of each month from 5 pm to 8 pm! The tour will start at 6 PM on time. All tours depart from the reception desk\, and please be sure to arrive on time. The event offers wine and appetizers. \nThis Friday at 7-7:40 PM\, our Resident Artist 2024 – Irene Hsiao will perform at the Heritage Museum of Asian Art as part of the project If The Sky Could Dream.  \nAbout the Tour –  \nLearn about Asian Art in the Heritage Museum of Asian Art with a guided hour-long tour around the gallery. Museum-trained interns and volunteers will give a talk on selected artworks. Each word is packed with fascinating insights\, information\, and stories. During this participatory experience\, you’ll connect with works from across the collection and get a close look at highlighting artworks. Visitors of all ages are welcome. \nPlease note tours may be canceled or postponed due to unforeseen circumstances. \nAbout the project –  \nIF THE SKY COULD DREAM focuses on the Chinese dragon as a powerful being that fosters harmony. This creature is emblematic of China as well as a mythological being for many Asian and Western cultures and thus evokes a sense of mysticism\, and intrigue in many communities. Representing the Chinese Dragon as a water deity\, the installation series will feature images and projections of the weather and local bodies of water in Chicago. \nIf The Sky Could Dream is supported\, in part\, by a Foundation for Contemporary Arts Emergency Grant \nAbout Irene Hsiao \nIrene Hsiao creates performances in conversation with visual art in museums\, galleries\, and public spaces\, a practice that includes site-specific interaction with visual artworks and experimental engagement with artists\, institutions\, and the public. Find out more through our website. \nAccessibility \nThe Heritage Museum of Asian Art’s Entrance is on West 35th Street. Take the elevator to the third floor and turn right to the Museum Reception Desk. Accessible and standard toilets are located on the same floor. Free parking space is available next to the museum via West 35th Street. \nIf you have any programming questions\, don’t hesitate to get in touch with info@heritageasianart.org or 312-842-8884.
URL:https://www.chicagoculturalalliance.org/event/3rd-fridays-free-admission-museum-night/2025-03-21/
LOCATION:Heritage Museum of Asian Art\, 3500 S Morgan St\, Chicago\, IL\, 60609\, United States
CATEGORIES:Exhibitions and Gallery Events,Tour
ATTACH;FMTTYPE=image/png:https://www.chicagoculturalalliance.org/wp-content/uploads/2023/06/Tour-Cover-1.png
ORGANIZER;CN="Heritage Museum of Asian Art":MAILTO:info@heritageasianart.org
GEO:41.8304864;-87.6513977
X-APPLE-STRUCTURED-LOCATION;VALUE=URI;X-ADDRESS=Heritage Museum of Asian Art 3500 S Morgan St Chicago IL 60609 United States;X-APPLE-RADIUS=500;X-TITLE=3500 S Morgan St:geo:-87.6513977,41.8304864
END:VEVENT
BEGIN:VEVENT
DTSTART;TZID=America/Chicago:20250323T150000
DTEND;TZID=America/Chicago:20250323T170000
DTSTAMP:20260421T035046
CREATED:20250314T202859Z
LAST-MODIFIED:20250314T212344Z
UID:10007844-1742742000-1742749200@www.chicagoculturalalliance.org
SUMMARY:ART WORKS Projects Gallery Closing Event: 18 Years of Visual Advocacy
DESCRIPTION:After 11 years of producing and presenting high-impact visual advocacy projects in our beloved shared office and gallery space located at 625 N Kingsbury Street\, our team at AWP will be moving out on March 31. \n\nTo mark this occasion\, we welcome back AWP’s founder\, Leslie Thomas\, who will be joining us for a special closing event featuring a conversation with managing director Bora Un on Sunday\, March 23 from 3:00 – 5:00pm. This conversation will be moderated by AWP Board Member and DEI Manager at WBEZ\, Steve Bynum.\n\nDuring our time together\, we will revisit some of AWP’s projects from across our 18 years of creating impact through powerful visual storytelling\, and will share details about some upcoming collaborations with Leslie’s film production studio\, MIRA Studios/MIRA Europe. Guests will also have the opportunity to view a glimpse of Leslie’s latest feature-length documentary film\, The Sharp Edge of Peace\, based on AWP’s 2012 project Women Between Peace and War: Afghanistan.\n\n\n\n\n\n\n\nThis event will serve as the closing event for our open house taking place on Saturday\, March 22 – Sunday\, March 23 from 12:00 – 6pm each day as we invite our Chicago community to come see the space for a final time\, and to help us find new homes for a number of our ready-to-go exhibition kits\, books\, limited edition prints\, and a range of unused exhibition materials and supplies that will be for sale\, or free for the taking! 
URL:https://www.chicagoculturalalliance.org/event/art-works-projects-open-house-moving-sale-march-22-23/
LOCATION:625 North Kingsbury Street Chicago\, IL 60654\, 625 North Kingsbury Street\, Chicago\, IL\, 60654\, United States
CATEGORIES:Exhibitions and Gallery Events,Member Events,Talks and Gatherings,Tour
ATTACH;FMTTYPE=image/jpeg:https://www.chicagoculturalalliance.org/wp-content/uploads/2025/03/DNC0787-1.jpg
ORGANIZER;CN="Art Works Projects":MAILTO:info@artworksprojects.org
GEO:41.8928209;-87.6407311
X-APPLE-STRUCTURED-LOCATION;VALUE=URI;X-ADDRESS=625 North Kingsbury Street Chicago IL 60654 625 North Kingsbury Street Chicago IL 60654 United States;X-APPLE-RADIUS=500;X-TITLE=625 North Kingsbury Street:geo:-87.6407311,41.8928209
END:VEVENT
END:VCALENDAR