BEGIN:VCALENDAR
VERSION:2.0
PRODID:-//Chicago Cultural Alliance - ECPv6.15.20//NONSGML v1.0//EN
CALSCALE:GREGORIAN
METHOD:PUBLISH
X-WR-CALNAME:Chicago Cultural Alliance
X-ORIGINAL-URL:https://www.chicagoculturalalliance.org
X-WR-CALDESC:Events for Chicago Cultural Alliance
REFRESH-INTERVAL;VALUE=DURATION:PT1H
X-Robots-Tag:noindex
X-PUBLISHED-TTL:PT1H
BEGIN:VTIMEZONE
TZID:America/Chicago
BEGIN:DAYLIGHT
TZOFFSETFROM:-0600
TZOFFSETTO:-0500
TZNAME:CDT
DTSTART:20210314T080000
END:DAYLIGHT
BEGIN:STANDARD
TZOFFSETFROM:-0500
TZOFFSETTO:-0600
TZNAME:CST
DTSTART:20211107T070000
END:STANDARD
BEGIN:DAYLIGHT
TZOFFSETFROM:-0600
TZOFFSETTO:-0500
TZNAME:CDT
DTSTART:20220313T080000
END:DAYLIGHT
BEGIN:STANDARD
TZOFFSETFROM:-0500
TZOFFSETTO:-0600
TZNAME:CST
DTSTART:20221106T070000
END:STANDARD
BEGIN:DAYLIGHT
TZOFFSETFROM:-0600
TZOFFSETTO:-0500
TZNAME:CDT
DTSTART:20230312T080000
END:DAYLIGHT
BEGIN:STANDARD
TZOFFSETFROM:-0500
TZOFFSETTO:-0600
TZNAME:CST
DTSTART:20231105T070000
END:STANDARD
END:VTIMEZONE
BEGIN:VEVENT
DTSTART;TZID=America/Chicago:20220604T123000
DTEND;TZID=America/Chicago:20220604T150000
DTSTAMP:20260425T180809
CREATED:20220526T151305Z
LAST-MODIFIED:20220526T151305Z
UID:10001529-1654345800-1654354800@www.chicagoculturalalliance.org
SUMMARY:A Queer History Tour of Bronzeville
DESCRIPTION:Community member Rachael Pierce will lead a queer-centered history tour\, beginning with SSCAC. \n\n\nAbout this event\n\n\n\nJoin us with Rachael Pierce on Saturday\, June 4th for a Queer history tour of the Bronzeville area\, as well as learning more about SSCAC’s role in highlighting queer histories as they relate to Black artists! \nRachael will also facilitate a storytelling component with Queer elders from the South Side after the tour\, to take place on our front stoop. \n  \nRUN OF PROGRAM: \nWalking tour will begin at South Side Community Art Center\, and take place from 12:30PM – 1:45PM. \nStorytelling back at South Side Community Art Center will take place from 2PM – 3PM. \n\n\n\n\nRachael Pierce is a community builder from the South Side of Chicago. She’s a lover of history\, black queer herstory to be exact; and as CEO of her production company\, Pi360co\, Rachael works to create spaces and platforms for queer BIPOC women to bravely share their stories and explore their spirituality. \nHer passions meet at the intersection of everything and are influenced by her Queer\, Black\, Indigenous identity. Rachael believes she is called to empower folks to bravely gather\, build community\, and share their stories of life and faith. \nThis program is presented in conjunction with EMERGENCE: Intersections at the Center\, currently on view until July 2\, 2022. \nEMERGENCE: Intersections at the Center spotlights The South Side Community Art Center’s historical role in supporting a full spectrum of Black artists through an intersectional viewpoint. The first exhibition of its kind at the South Side Community Art Center\, EMERGENCE positions the Center as an important anchor for Black LGBTQ artists who belonged to its community from its founding in 1940 to the 1980s and beyond.
URL:https://www.chicagoculturalalliance.org/event/a-queer-history-tour-of-bronzeville/
LOCATION:South Side Community Art Center\, 3831 S. Michigan Ave.\, Chicago\, IL\, 60653\, United States
CATEGORIES:Tour
ATTACH;FMTTYPE=image/png:https://www.chicagoculturalalliance.org/wp-content/uploads/2022/05/Screen-Shot-2022-05-26-at-10.11.24-AM.png
GEO:41.8245972;-87.6227065
X-APPLE-STRUCTURED-LOCATION;VALUE=URI;X-ADDRESS=South Side Community Art Center 3831 S. Michigan Ave. Chicago IL 60653 United States;X-APPLE-RADIUS=500;X-TITLE=3831 S. Michigan Ave.:geo:-87.6227065,41.8245972
END:VEVENT
END:VCALENDAR