BEGIN:VCALENDAR
VERSION:2.0
PRODID:-//Chicago Cultural Alliance - ECPv6.15.20//NONSGML v1.0//EN
CALSCALE:GREGORIAN
METHOD:PUBLISH
X-WR-CALNAME:Chicago Cultural Alliance
X-ORIGINAL-URL:https://www.chicagoculturalalliance.org
X-WR-CALDESC:Events for Chicago Cultural Alliance
REFRESH-INTERVAL;VALUE=DURATION:PT1H
X-Robots-Tag:noindex
X-PUBLISHED-TTL:PT1H
BEGIN:VTIMEZONE
TZID:America/Chicago
BEGIN:DAYLIGHT
TZOFFSETFROM:-0600
TZOFFSETTO:-0500
TZNAME:CDT
DTSTART:20200308T080000
END:DAYLIGHT
BEGIN:STANDARD
TZOFFSETFROM:-0500
TZOFFSETTO:-0600
TZNAME:CST
DTSTART:20201101T070000
END:STANDARD
BEGIN:DAYLIGHT
TZOFFSETFROM:-0600
TZOFFSETTO:-0500
TZNAME:CDT
DTSTART:20210314T080000
END:DAYLIGHT
BEGIN:STANDARD
TZOFFSETFROM:-0500
TZOFFSETTO:-0600
TZNAME:CST
DTSTART:20211107T070000
END:STANDARD
BEGIN:DAYLIGHT
TZOFFSETFROM:-0600
TZOFFSETTO:-0500
TZNAME:CDT
DTSTART:20220313T080000
END:DAYLIGHT
BEGIN:STANDARD
TZOFFSETFROM:-0500
TZOFFSETTO:-0600
TZNAME:CST
DTSTART:20221106T070000
END:STANDARD
END:VTIMEZONE
BEGIN:VEVENT
DTSTART;TZID=America/Chicago:20210204T110000
DTEND;TZID=America/Chicago:20210204T120000
DTSTAMP:20260423T050815
CREATED:20210210T032952Z
LAST-MODIFIED:20210210T032952Z
UID:10001190-1612436400-1612440000@www.chicagoculturalalliance.org
SUMMARY:Chinese New Year Preparation with Jewel Osco
DESCRIPTION:The Chinese American Museum of Chicago is partnering with Jewel Osco to get ready to ring in the Year of The Ox! Join us via Zoom\, where we’ll show you how to prepare delicious cuisine and drink recipe for the upcoming Chinese New Year holiday\, teach you about the history\, and more excitement! \nThis event includes: \n\nCooking demonstrations from Ying Stoller\, President & Founder of Ying’s Kitchen\, who’ll be showing you how to prepare General Tso’s Chicken and KA-ME Noodles\, and Chicken Broccoli\nCocktail making lesson from Christophe Pienkowski\, Martell Brand Ambassador\, who’ll be teaching you how to make a Martell Sidecar\nCultural activities from the Chinese American Museum\nRoxanne Janiczek local food blogger and recipe developer will join us as host\nGiveaways and more!\n\nWe’ll also be featuring more products from these brands: Ying’s Kitchen\, Martell\, KA-ME\, Cuties Mandarins\, Wonderful Pistachios\, Tropicana\, Scott\, and Viva.
URL:https://www.chicagoculturalalliance.org/event/chinese-new-year-preparation-with-jewel-osco/2021-02-04/
LOCATION:IL\, United States
CATEGORIES:Cultural Festivals and Fairs,Food and Drink,Workshops and Classes
GEO:41.8781136;-87.6297982
END:VEVENT
BEGIN:VEVENT
DTSTART;TZID=America/Chicago:20210208T040000
DTEND;TZID=America/Chicago:20210208T060000
DTSTAMP:20260423T050815
CREATED:20210108T002232Z
LAST-MODIFIED:20210108T002427Z
UID:10001180-1612756800-1612764000@www.chicagoculturalalliance.org
SUMMARY:Printmaking: A Virtual Senior Series - Register by January 29
DESCRIPTION:The Garfield Park Conservatory has teamed up with Teaching Artist and Printmaker Sarita Garcia to offer an 8-week online printmaking course with older adults\, age 55+\, that takes place in the comfort of your own homes! \nIn this class\, we will be experimenting with different methods of printmaking\, such as block printing\, patternmaking\, silk screen and natural dye printing. Create one of a kind prints using leaves from your garden\, sew printed textiles for your own garden tool bag\, and make printing inks using foods from your kitchen. This course will also focus on the celebration of natural dye printmaking styles. \nThis course takes place on Monday’s from 10:00 am-12:00 pm on the following dates: \nFebruary 8\, 15\, 22 \nMarch 1\, 8\, 15\, 22\, 29 \nCulminating Event: TBD by Students \nClass price: \nGeneral – $240 \nVolunteers/Members – $192 \nMaterials: Thanks to the support of Aroha Philanthropies\, all supplies are covered for students in this class! Materials will be available for pick up by appointment at Garfield Park Conservatory. \nScholarships are available! Please fill out this Scholarship Application or contact Mattie Wilson at mwilson@garfieldpark.org for more information. \nSarita Garcia is a multidisciplinary artist and educator based in Chicago\, IL and born and raised in South Texas. Garcia received her Bachelors of Fine Arts with a major in Fiber & Material Studies at the School of the Art Institute of Chicago (SAIC) Her work is informed by architectural spaces of her vernacular culture using an image archive of markets to talk about consumerism\, identity and cultural hubs. These “Fantasyscapes” showcase a vocabulary of iconography as a means to empower and remix the reality of these spaces. Garcia has exhibited her work in multiple cultural institutions in Chicago such as the National Museum of Mexican Art\, Hyde Park Art Center\, Chicago Art Department\, ACRE and Sullivan Galleries. Nationally Garcia has shown in Laband Art Gallery Los Angeles\,CA\, City Gallery San Diego\, CA\, and Blue Star Contemporary San Antonio\, Texas. Garcia’s pedagogy is also practiced through facilitating and maintaining an open printmaking studio for young people in the heart of Pilsen named Yollo Lab. \nRegistration Closes January 29th 2021
URL:https://www.chicagoculturalalliance.org/event/printmaking-a-virtual-senior-series-register-by-january-29/2021-02-08/
LOCATION:Virtual\, Chicago\, IL\, United States
CATEGORIES:Workshops and Classes
ORGANIZER;CN="Garfield Park Conservatory Alliance":MAILTO:visitors@garfieldpark.org
GEO:41.8781136;-87.6297982
END:VEVENT
BEGIN:VEVENT
DTSTART;TZID=America/Chicago:20210210T110000
DTEND;TZID=America/Chicago:20210210T120000
DTSTAMP:20260423T050815
CREATED:20210210T032952Z
LAST-MODIFIED:20210210T032952Z
UID:10001191-1612954800-1612958400@www.chicagoculturalalliance.org
SUMMARY:Chinese New Year Preparation with Jewel Osco
DESCRIPTION:The Chinese American Museum of Chicago is partnering with Jewel Osco to get ready to ring in the Year of The Ox! Join us via Zoom\, where we’ll show you how to prepare delicious cuisine and drink recipe for the upcoming Chinese New Year holiday\, teach you about the history\, and more excitement! \nThis event includes: \n\nCooking demonstrations from Ying Stoller\, President & Founder of Ying’s Kitchen\, who’ll be showing you how to prepare General Tso’s Chicken and KA-ME Noodles\, and Chicken Broccoli\nCocktail making lesson from Christophe Pienkowski\, Martell Brand Ambassador\, who’ll be teaching you how to make a Martell Sidecar\nCultural activities from the Chinese American Museum\nRoxanne Janiczek local food blogger and recipe developer will join us as host\nGiveaways and more!\n\nWe’ll also be featuring more products from these brands: Ying’s Kitchen\, Martell\, KA-ME\, Cuties Mandarins\, Wonderful Pistachios\, Tropicana\, Scott\, and Viva.
URL:https://www.chicagoculturalalliance.org/event/chinese-new-year-preparation-with-jewel-osco/2021-02-10/
LOCATION:IL\, United States
CATEGORIES:Cultural Festivals and Fairs,Food and Drink,Workshops and Classes
GEO:41.8781136;-87.6297982
END:VEVENT
BEGIN:VEVENT
DTSTART;TZID=America/Chicago:20210213T043000
DTEND;TZID=America/Chicago:20210213T070000
DTSTAMP:20260423T050815
CREATED:20210113T010800Z
LAST-MODIFIED:20210113T010819Z
UID:10001188-1613190600-1613199600@www.chicagoculturalalliance.org
SUMMARY:Virtual Beginning Beekeeping Class
DESCRIPTION:Spend 2 days with our Head Beekeeper\, Marcin Matelski\, learning the basics of beekeeping: equipment\, hive design and construction\, bee biology and behavior\, bee management\, and bee products. This lecture based class has been adapted for a virtual experience and is limited in capacity to encourage questions and group interaction. Pre-registration is required. Automated live captioning is available. \n  \n*This class takes place virtually over the course of 2 days \nClass 1- Saturday\, February 13th 10:30am – 1:00pm \nClass 2 – Saturday February 20th 10:30am – 1:00pm \n  \nGeneral Registration – $50 \nVolunteer/Member Registration – $40 \nScholarships are available! Please complete the SCHOLARSHIP APPLICATION to be considered. \n  \nCancellation Policy: If you find this class date no longer works for you\, we will gladly refund your money if it is more than two weeks prior to the class date. If it is within two weeks\, we can either move your registration to a different class date or you can use the money as a credit towards another class offering before the end of our fiscal year (June 30). In the event that we have a waitlist\, with 24 or more notice\, we may be able to refund your spot. \nRegistration closes Saturday\, February 13th 2021 at 10:00am
URL:https://www.chicagoculturalalliance.org/event/virtual-beginning-beekeeping-class/2021-02-13/
LOCATION:Garfield Park Conservatory
CATEGORIES:Workshops and Classes
ORGANIZER;CN="Garfield Park Conservatory Alliance":MAILTO:visitors@garfieldpark.org
END:VEVENT
BEGIN:VEVENT
DTSTART;TZID=America/Chicago:20210215T040000
DTEND;TZID=America/Chicago:20210215T060000
DTSTAMP:20260423T050815
CREATED:20210108T002232Z
LAST-MODIFIED:20210108T002427Z
UID:10001181-1613361600-1613368800@www.chicagoculturalalliance.org
SUMMARY:Printmaking: A Virtual Senior Series - Register by January 29
DESCRIPTION:The Garfield Park Conservatory has teamed up with Teaching Artist and Printmaker Sarita Garcia to offer an 8-week online printmaking course with older adults\, age 55+\, that takes place in the comfort of your own homes! \nIn this class\, we will be experimenting with different methods of printmaking\, such as block printing\, patternmaking\, silk screen and natural dye printing. Create one of a kind prints using leaves from your garden\, sew printed textiles for your own garden tool bag\, and make printing inks using foods from your kitchen. This course will also focus on the celebration of natural dye printmaking styles. \nThis course takes place on Monday’s from 10:00 am-12:00 pm on the following dates: \nFebruary 8\, 15\, 22 \nMarch 1\, 8\, 15\, 22\, 29 \nCulminating Event: TBD by Students \nClass price: \nGeneral – $240 \nVolunteers/Members – $192 \nMaterials: Thanks to the support of Aroha Philanthropies\, all supplies are covered for students in this class! Materials will be available for pick up by appointment at Garfield Park Conservatory. \nScholarships are available! Please fill out this Scholarship Application or contact Mattie Wilson at mwilson@garfieldpark.org for more information. \nSarita Garcia is a multidisciplinary artist and educator based in Chicago\, IL and born and raised in South Texas. Garcia received her Bachelors of Fine Arts with a major in Fiber & Material Studies at the School of the Art Institute of Chicago (SAIC) Her work is informed by architectural spaces of her vernacular culture using an image archive of markets to talk about consumerism\, identity and cultural hubs. These “Fantasyscapes” showcase a vocabulary of iconography as a means to empower and remix the reality of these spaces. Garcia has exhibited her work in multiple cultural institutions in Chicago such as the National Museum of Mexican Art\, Hyde Park Art Center\, Chicago Art Department\, ACRE and Sullivan Galleries. Nationally Garcia has shown in Laband Art Gallery Los Angeles\,CA\, City Gallery San Diego\, CA\, and Blue Star Contemporary San Antonio\, Texas. Garcia’s pedagogy is also practiced through facilitating and maintaining an open printmaking studio for young people in the heart of Pilsen named Yollo Lab. \nRegistration Closes January 29th 2021
URL:https://www.chicagoculturalalliance.org/event/printmaking-a-virtual-senior-series-register-by-january-29/2021-02-15/
LOCATION:Virtual\, Chicago\, IL\, United States
CATEGORIES:Workshops and Classes
ORGANIZER;CN="Garfield Park Conservatory Alliance":MAILTO:visitors@garfieldpark.org
GEO:41.8781136;-87.6297982
END:VEVENT
BEGIN:VEVENT
DTSTART;TZID=America/Chicago:20210220T043000
DTEND;TZID=America/Chicago:20210220T070000
DTSTAMP:20260423T050815
CREATED:20210113T010800Z
LAST-MODIFIED:20210113T010819Z
UID:10001189-1613795400-1613804400@www.chicagoculturalalliance.org
SUMMARY:Virtual Beginning Beekeeping Class
DESCRIPTION:Spend 2 days with our Head Beekeeper\, Marcin Matelski\, learning the basics of beekeeping: equipment\, hive design and construction\, bee biology and behavior\, bee management\, and bee products. This lecture based class has been adapted for a virtual experience and is limited in capacity to encourage questions and group interaction. Pre-registration is required. Automated live captioning is available. \n  \n*This class takes place virtually over the course of 2 days \nClass 1- Saturday\, February 13th 10:30am – 1:00pm \nClass 2 – Saturday February 20th 10:30am – 1:00pm \n  \nGeneral Registration – $50 \nVolunteer/Member Registration – $40 \nScholarships are available! Please complete the SCHOLARSHIP APPLICATION to be considered. \n  \nCancellation Policy: If you find this class date no longer works for you\, we will gladly refund your money if it is more than two weeks prior to the class date. If it is within two weeks\, we can either move your registration to a different class date or you can use the money as a credit towards another class offering before the end of our fiscal year (June 30). In the event that we have a waitlist\, with 24 or more notice\, we may be able to refund your spot. \nRegistration closes Saturday\, February 13th 2021 at 10:00am
URL:https://www.chicagoculturalalliance.org/event/virtual-beginning-beekeeping-class/2021-02-20/
LOCATION:Garfield Park Conservatory
CATEGORIES:Workshops and Classes
ORGANIZER;CN="Garfield Park Conservatory Alliance":MAILTO:visitors@garfieldpark.org
END:VEVENT
BEGIN:VEVENT
DTSTART;TZID=America/Chicago:20210222T040000
DTEND;TZID=America/Chicago:20210222T060000
DTSTAMP:20260423T050815
CREATED:20210108T002232Z
LAST-MODIFIED:20210108T002427Z
UID:10001182-1613966400-1613973600@www.chicagoculturalalliance.org
SUMMARY:Printmaking: A Virtual Senior Series - Register by January 29
DESCRIPTION:The Garfield Park Conservatory has teamed up with Teaching Artist and Printmaker Sarita Garcia to offer an 8-week online printmaking course with older adults\, age 55+\, that takes place in the comfort of your own homes! \nIn this class\, we will be experimenting with different methods of printmaking\, such as block printing\, patternmaking\, silk screen and natural dye printing. Create one of a kind prints using leaves from your garden\, sew printed textiles for your own garden tool bag\, and make printing inks using foods from your kitchen. This course will also focus on the celebration of natural dye printmaking styles. \nThis course takes place on Monday’s from 10:00 am-12:00 pm on the following dates: \nFebruary 8\, 15\, 22 \nMarch 1\, 8\, 15\, 22\, 29 \nCulminating Event: TBD by Students \nClass price: \nGeneral – $240 \nVolunteers/Members – $192 \nMaterials: Thanks to the support of Aroha Philanthropies\, all supplies are covered for students in this class! Materials will be available for pick up by appointment at Garfield Park Conservatory. \nScholarships are available! Please fill out this Scholarship Application or contact Mattie Wilson at mwilson@garfieldpark.org for more information. \nSarita Garcia is a multidisciplinary artist and educator based in Chicago\, IL and born and raised in South Texas. Garcia received her Bachelors of Fine Arts with a major in Fiber & Material Studies at the School of the Art Institute of Chicago (SAIC) Her work is informed by architectural spaces of her vernacular culture using an image archive of markets to talk about consumerism\, identity and cultural hubs. These “Fantasyscapes” showcase a vocabulary of iconography as a means to empower and remix the reality of these spaces. Garcia has exhibited her work in multiple cultural institutions in Chicago such as the National Museum of Mexican Art\, Hyde Park Art Center\, Chicago Art Department\, ACRE and Sullivan Galleries. Nationally Garcia has shown in Laband Art Gallery Los Angeles\,CA\, City Gallery San Diego\, CA\, and Blue Star Contemporary San Antonio\, Texas. Garcia’s pedagogy is also practiced through facilitating and maintaining an open printmaking studio for young people in the heart of Pilsen named Yollo Lab. \nRegistration Closes January 29th 2021
URL:https://www.chicagoculturalalliance.org/event/printmaking-a-virtual-senior-series-register-by-january-29/2021-02-22/
LOCATION:Virtual\, Chicago\, IL\, United States
CATEGORIES:Workshops and Classes
ORGANIZER;CN="Garfield Park Conservatory Alliance":MAILTO:visitors@garfieldpark.org
GEO:41.8781136;-87.6297982
END:VEVENT
END:VCALENDAR