BEGIN:VCALENDAR
VERSION:2.0
PRODID:-//Chicago Cultural Alliance - ECPv6.15.20//NONSGML v1.0//EN
CALSCALE:GREGORIAN
METHOD:PUBLISH
X-WR-CALNAME:Chicago Cultural Alliance
X-ORIGINAL-URL:https://www.chicagoculturalalliance.org
X-WR-CALDESC:Events for Chicago Cultural Alliance
REFRESH-INTERVAL;VALUE=DURATION:PT1H
X-Robots-Tag:noindex
X-PUBLISHED-TTL:PT1H
BEGIN:VTIMEZONE
TZID:America/Chicago
BEGIN:DAYLIGHT
TZOFFSETFROM:-0600
TZOFFSETTO:-0500
TZNAME:CDT
DTSTART:20210314T080000
END:DAYLIGHT
BEGIN:STANDARD
TZOFFSETFROM:-0500
TZOFFSETTO:-0600
TZNAME:CST
DTSTART:20211107T070000
END:STANDARD
BEGIN:DAYLIGHT
TZOFFSETFROM:-0600
TZOFFSETTO:-0500
TZNAME:CDT
DTSTART:20220313T080000
END:DAYLIGHT
BEGIN:STANDARD
TZOFFSETFROM:-0500
TZOFFSETTO:-0600
TZNAME:CST
DTSTART:20221106T070000
END:STANDARD
BEGIN:DAYLIGHT
TZOFFSETFROM:-0600
TZOFFSETTO:-0500
TZNAME:CDT
DTSTART:20230312T080000
END:DAYLIGHT
BEGIN:STANDARD
TZOFFSETFROM:-0500
TZOFFSETTO:-0600
TZNAME:CST
DTSTART:20231105T070000
END:STANDARD
END:VTIMEZONE
BEGIN:VEVENT
DTSTART;TZID=America/Chicago:20220217T110000
DTEND;TZID=America/Chicago:20220217T120000
DTSTAMP:20260422T065930
CREATED:20220203T224105Z
LAST-MODIFIED:20220203T224105Z
UID:10001300-1645095600-1645099200@www.chicagoculturalalliance.org
SUMMARY:Art After Work: Charles Williams
DESCRIPTION:Artist and museum educator Mayra Palafox guides an art-making workshop inspired by Charles Williams.\nAbout this event\nJoin Intuit for Art After Work\, a free series of facilitated art-making workshops inspired by outsider and self-taught art and artists from the museum’s collections and exhibitions. This month\, artist and museum educator Mayra Palafox will lead a discussion and facilitate a workshop inspired by artist Charles Williams\, who found inspiration in comic books\, pop culture and his lived experiences to create new superheroes. In the virtual workshop\, participants will explore the process of mixed media to create their own superheroes!
URL:https://www.chicagoculturalalliance.org/event/art-after-work-charles-williams/
LOCATION:Online Event
CATEGORIES:Online Events,Workshops and Classes
ATTACH;FMTTYPE=image/jpeg:https://www.chicagoculturalalliance.org/wp-content/uploads/2020/11/Art-After-Work_horizontal.jpg
END:VEVENT
BEGIN:VEVENT
DTSTART;TZID=America/Chicago:20220221T100000
DTEND;TZID=America/Chicago:20220221T110000
DTSTAMP:20260422T065930
CREATED:20220208T012327Z
LAST-MODIFIED:20220208T012327Z
UID:10001308-1645437600-1645441200@www.chicagoculturalalliance.org
SUMMARY:Cooking Class ONLINE
DESCRIPTION:Join us for another cooking class series either online or in person. In February we will be making Lentil soup and a dessert. You can do this class online or in person (to register for the in person class please click here) For the online class you will receive the recipe in advance. You can then either cook alongside or watch and try later. It is an interactive Zoom so you will be able to ask questions.
URL:https://www.chicagoculturalalliance.org/event/cooking-class-online/
LOCATION:Online Event
CATEGORIES:Food and Drink,Online Events,Workshops and Classes
ATTACH;FMTTYPE=image/jpeg:https://www.chicagoculturalalliance.org/wp-content/uploads/2018/05/swedish-american-museum-1.jpg
END:VEVENT
BEGIN:VEVENT
DTSTART;TZID=America/Chicago:20220224T120000
DTEND;TZID=America/Chicago:20220224T130000
DTSTAMP:20260422T065930
CREATED:20220218T235902Z
LAST-MODIFIED:20220218T235902Z
UID:10001331-1645704000-1645707600@www.chicagoculturalalliance.org
SUMMARY:Artecito Virtual: Pumas
DESCRIPTION:A family-friendly\, Spanish-language workshop presented in partnership with Lincoln Park Zoo. Learn about pumas while making your own from art supplies! \n¿Sabías que los Pumas pueden correr a una velocidad de hasta 35 millas por hora? ¡Esa es mas o menos la velocidad que conducimos los automóviles en la ciudad!\n¡Únase a nosotros mientras exploramos más sobre las pumas con nuestros amigos en Lincoln Park Zoo!\nConéctate aquí: https://bit.ly/ArtecitoPumas\n____________________________________\nDid you know Pumas can run as fast as 35 miles per hour? That’s about the speed at which people drive cars in the city!\nJoin us as we explore more about pumas with our friends at Lincoln Park Zoo!\nConnect here: https://bit.ly/ArtecitoPumas
URL:https://www.chicagoculturalalliance.org/event/artecito-virtual-pumas/
LOCATION:Online Event
CATEGORIES:Online Events,Workshops and Classes
ATTACH;FMTTYPE=image/jpeg:https://www.chicagoculturalalliance.org/wp-content/uploads/2022/02/artecito-0224.jpeg
END:VEVENT
BEGIN:VEVENT
DTSTART;TZID=America/Chicago:20220225T113000
DTEND;TZID=America/Chicago:20220225T133000
DTSTAMP:20260422T065930
CREATED:20220216T232435Z
LAST-MODIFIED:20220216T232435Z
UID:10001328-1645788600-1645795800@www.chicagoculturalalliance.org
SUMMARY:Kulturküche | German Cooking Class
DESCRIPTION:Join us in February for a Kulturküche guaranteed to add some sugar and sweetness to your life! Baker in Chief with Zimt Bakery\, Alina Tompert\, will show us how to decorate cookies like a pro! A fun and interactive activity for you and your Valentine or Galentines alike! \nYou will be baking and decorating Zimt’s mouth watering namesake Cinnamon cookies with a rainbow of glazes\, naturally colored with superfood powders. Alina will be demonstrating a variety of decoration techniques for you to try\, including flooding\, lettering\, marbling\, and feathering. (You’ll decorate and speak like a pro after this class!) For extra sparkle and pizzaz\, bring your own cookie cutters and sprinkles to add a personal touch to your creations.
URL:https://www.chicagoculturalalliance.org/event/kulturkuche-german-cooking-class/
LOCATION:DANK Haus German American Cultural Center\, 4740 N. Western Ave.\, Chicago\, IL\, 60625\, United States
CATEGORIES:Cultural Festivals and Fairs,Food and Drink,Talks and Gatherings,Workshops and Classes
ATTACH;FMTTYPE=image/jpeg:https://www.chicagoculturalalliance.org/wp-content/uploads/2022/02/IMG_9168-2.jpeg
GEO:41.9680013;-87.6890642
X-APPLE-STRUCTURED-LOCATION;VALUE=URI;X-ADDRESS=DANK Haus German American Cultural Center 4740 N. Western Ave. Chicago IL 60625 United States;X-APPLE-RADIUS=500;X-TITLE=4740 N. Western Ave.:geo:-87.6890642,41.9680013
END:VEVENT
BEGIN:VEVENT
DTSTART;TZID=America/Chicago:20220226T040000
DTEND;TZID=America/Chicago:20220226T060000
DTSTAMP:20260422T065930
CREATED:20220208T012149Z
LAST-MODIFIED:20220208T012149Z
UID:10001307-1645848000-1645855200@www.chicagoculturalalliance.org
SUMMARY:Genealogy Session Online
DESCRIPTION:Swedish Settlements on the South Shore\nBy Kenneth Schoon \nImmigrants from Sweden were the first non-English speaking people to move into the Indiana Dunes region and establish settlements.  Their legacy can be seen today. \nThis program\, and its accompanying book\, note that these Swedes established more than a dozen local churches\, most of which are still active today.  They built homes out of logs\, lumber\, and bricks\, cleared and farmed the land\, worked for the railroads and the brick factories\, and established businesses\, some of which are still in business today.  Several of the early Swedes served in the Union army in the Civil War.  Nearly all got American citizenship\, and some were elected to political office. \nThe fourth of July was widely celebrated\, but so were Swedish traditions at Midsummer and the Christmas season.   Today descendants of Swedes still learn Swedish songs and dances and celebrate the traditions of their forbears.  Even non-Swedes know about Vikings and may eat Swedish meatballs.  Smörgåsbord has become an American word—though to Swedes it has slightly different meaning.  Swedes and their descendants have helped build the Calumet Area. \nKenneth Schoon is the author of “Swedish Settlements on the South Shore of Lake Michigan.” Although not a Swede\, he is married to the granddaughter of Swedish immigrants. His earlier works include Calumet Beginnings\, Dreams of Duneland\, and Shifting Sands\, all published by Indiana University Press\, and City Trees published by Stackpole Books. \nCost is free for Swedish American Museum Genealogical Society members; $10 for non-members to participate. Member reservations appreciated and can be made via email to genealogy@samac.org or by calling the Museum at 773.728.8111 and non-members can use the button below.
URL:https://www.chicagoculturalalliance.org/event/genealogy-session-online/
LOCATION:Online Event
CATEGORIES:Online Events,Workshops and Classes
ATTACH;FMTTYPE=image/jpeg:https://www.chicagoculturalalliance.org/wp-content/uploads/2018/05/swedish-american-museum-1.jpg
END:VEVENT
BEGIN:VEVENT
DTSTART;TZID=America/Chicago:20220227T050000
DTEND;TZID=America/Chicago:20220227T060000
DTSTAMP:20260422T065930
CREATED:20220208T011828Z
LAST-MODIFIED:20220208T011925Z
UID:10001305-1645938000-1645941600@www.chicagoculturalalliance.org
SUMMARY:Guided Tour: Swedish American Museum
DESCRIPTION:Dive into the history of Swedish immigration to Chicago with a guided tour of the Swedish American Museum’s permanent exhibit\, “The Dream of America.” Uncover the stories of real immigrants like Karl Karlsson\, who left Sweden with his family in 1893\, or Elin and Birgitta Hedman\, who made the journey in 1924. Learn about what awaited the millions who came to America via Ellis Island and what life was like in Swedish neighborhoods such as Andersonville in Chicago then and now. The tour is free with admissions\, and members are free. Reservations are recommended and can be made via email to museum@samac.org.
URL:https://www.chicagoculturalalliance.org/event/guided-tour/
LOCATION:Swedish American Museum\, 5211 N. Clark St.\, Chicago\, IL\, 60640\, United States
CATEGORIES:Member Events,Workshops and Classes
ATTACH;FMTTYPE=image/jpeg:https://www.chicagoculturalalliance.org/wp-content/uploads/2018/10/36291203_10157050110794714_4243821777467211776_o.jpg
GEO:41.9766451;-87.668015
X-APPLE-STRUCTURED-LOCATION;VALUE=URI;X-ADDRESS=Swedish American Museum 5211 N. Clark St. Chicago IL 60640 United States;X-APPLE-RADIUS=500;X-TITLE=5211 N. Clark St.:geo:-87.668015,41.9766451
END:VEVENT
END:VCALENDAR