BEGIN:VCALENDAR
VERSION:2.0
PRODID:-//Chicago Cultural Alliance - ECPv6.15.20//NONSGML v1.0//EN
CALSCALE:GREGORIAN
METHOD:PUBLISH
X-WR-CALNAME:Chicago Cultural Alliance
X-ORIGINAL-URL:https://www.chicagoculturalalliance.org
X-WR-CALDESC:Events for Chicago Cultural Alliance
REFRESH-INTERVAL;VALUE=DURATION:PT1H
X-Robots-Tag:noindex
X-PUBLISHED-TTL:PT1H
BEGIN:VTIMEZONE
TZID:America/Chicago
BEGIN:DAYLIGHT
TZOFFSETFROM:-0600
TZOFFSETTO:-0500
TZNAME:CDT
DTSTART:20210314T080000
END:DAYLIGHT
BEGIN:STANDARD
TZOFFSETFROM:-0500
TZOFFSETTO:-0600
TZNAME:CST
DTSTART:20211107T070000
END:STANDARD
BEGIN:DAYLIGHT
TZOFFSETFROM:-0600
TZOFFSETTO:-0500
TZNAME:CDT
DTSTART:20220313T080000
END:DAYLIGHT
BEGIN:STANDARD
TZOFFSETFROM:-0500
TZOFFSETTO:-0600
TZNAME:CST
DTSTART:20221106T070000
END:STANDARD
BEGIN:DAYLIGHT
TZOFFSETFROM:-0600
TZOFFSETTO:-0500
TZNAME:CDT
DTSTART:20230312T080000
END:DAYLIGHT
BEGIN:STANDARD
TZOFFSETFROM:-0500
TZOFFSETTO:-0600
TZNAME:CST
DTSTART:20231105T070000
END:STANDARD
END:VTIMEZONE
BEGIN:VEVENT
DTSTART;TZID=America/Chicago:20220308T070000
DTEND;TZID=America/Chicago:20220308T120000
DTSTAMP:20260422T065936
CREATED:20220224T232440Z
LAST-MODIFIED:20220224T232440Z
UID:10001368-1646722800-1646740800@www.chicagoculturalalliance.org
SUMMARY:Ukwakwha: Bringing Corn to AIC - Cooking Class
DESCRIPTION:Join us for a presentation by Rebecca M. Webster (Kany^htkelu) (Oneida Nation\, Wisconsin). Rebecca is an assistant professor at the University of Minnesota\, Duluth\, and has been a cultural educator regarding seed keeping and the food sovereignty movement. \nMarch 8 – Cooking classes with a lesson on native corn\nMarch 9 – Trade Market and the art of bartering \nEveryone is welcome!
URL:https://www.chicagoculturalalliance.org/event/ukwakwha-bringing-corn-to-aic-cooking-class/
LOCATION:American Indian Center\, 3401 West Ainslie Street\, Chicago\, IL\, 60625\, United States
CATEGORIES:Member Events,Talks and Gatherings,Workshops and Classes
ATTACH;FMTTYPE=image/jpeg:https://www.chicagoculturalalliance.org/wp-content/uploads/2022/02/Rebecca-Webster_Mar-2022_FINAL-DRAFT-scaled.jpg
GEO:41.9699765;-87.7137595
X-APPLE-STRUCTURED-LOCATION;VALUE=URI;X-ADDRESS=American Indian Center 3401 West Ainslie Street Chicago IL 60625 United States;X-APPLE-RADIUS=500;X-TITLE=3401 West Ainslie Street:geo:-87.7137595,41.9699765
END:VEVENT
BEGIN:VEVENT
DTSTART;TZID=America/Chicago:20220309T050000
DTEND;TZID=America/Chicago:20220309T110000
DTSTAMP:20260422T065936
CREATED:20220224T232605Z
LAST-MODIFIED:20220224T232605Z
UID:10001369-1646802000-1646823600@www.chicagoculturalalliance.org
SUMMARY:Ukwakhwa: Bringing Corn to AIC - Trade Market
DESCRIPTION:Join us for a presentation by Rebecca M. Webster (Kany^htkelu) (Oneida Nation\, Wisconsin). Rebecca is an assistant professor at the University of Minnesota\, Duluth\, and has been a cultural educator regarding seed keeping and the food sovereignty movement. \nMarch 8 – Cooking classes with a lesson on native corn\nMarch 9 – Trade Market and the art of bartering \nEveryone is welcome!
URL:https://www.chicagoculturalalliance.org/event/ukwakhwa-bringing-corn-to-aic-trade-market/
LOCATION:American Indian Center\, 3401 West Ainslie Street\, Chicago\, IL\, 60625\, United States
CATEGORIES:Member Events,Talks and Gatherings,Workshops and Classes
ATTACH;FMTTYPE=image/jpeg:https://www.chicagoculturalalliance.org/wp-content/uploads/2022/02/Rebecca-Webster_Mar-2022_FINAL-DRAFT-scaled.jpg
GEO:41.9699765;-87.7137595
X-APPLE-STRUCTURED-LOCATION;VALUE=URI;X-ADDRESS=American Indian Center 3401 West Ainslie Street Chicago IL 60625 United States;X-APPLE-RADIUS=500;X-TITLE=3401 West Ainslie Street:geo:-87.7137595,41.9699765
END:VEVENT
BEGIN:VEVENT
DTSTART;TZID=America/Chicago:20220310T120000
DTEND;TZID=America/Chicago:20220310T130000
DTSTAMP:20260422T065936
CREATED:20220303T220603Z
LAST-MODIFIED:20220303T220603Z
UID:10001374-1646913600-1646917200@www.chicagoculturalalliance.org
SUMMARY:Artecito Virtual: Coquis
DESCRIPTION:¿Sabías que los Coquis son los anfibios más ruidosos que conocemos?\n¡Cuando cantan juntos es tan fuerte como una motocicleta!\n¡Únase a nosotros mientras exploramos más sobre los coquis con nuestros amigos en Lincoln Park Zoo!\nConéctate aquí: https://bit.ly/ArtecitoCoqui\n____________________________________\nDid you know Coquis are the loudest amphibian we know? When they sing together it is as loud as a motorcycle!\nJoin us as we explore more about coquis with our friends at Lincoln Park Zoo!\nConnect here: https://bit.ly/ArtecitoCoqui\n\nArtecito Virtual is a Spanish language virtual workshop in partnership with Lincoln Park Zoo.
URL:https://www.chicagoculturalalliance.org/event/artecito-virtual-coquis/
LOCATION:Online Event
CATEGORIES:Online Events,Workshops and Classes
ATTACH;FMTTYPE=image/jpeg:https://www.chicagoculturalalliance.org/wp-content/uploads/2022/03/COQUIS-IG-PROMO.jpg
END:VEVENT
BEGIN:VEVENT
DTSTART;TZID=America/Chicago:20220312T040000
DTEND;TZID=America/Chicago:20220312T073000
DTSTAMP:20260422T065936
CREATED:20220308T231614Z
LAST-MODIFIED:20220308T231614Z
UID:10001380-1647057600-1647070200@www.chicagoculturalalliance.org
SUMMARY:Ukrainian Pysanky (Easter Egg) Workshop
DESCRIPTION:Pysanka Workshops at the Ukrainian National Museum\nWe are excited to once again announce the Pysanky (Easter Egg) Workshops at the Ukrainian National Museum.\nThis year we offer in-person classes.\n\nYou will discover the art of writing pysanky by our expert Pysanka Instructor Anna Chychula. In each session\, you will learn the process of how to use the tools (kistka\, wax\, dyes) and to write your own pysanka. Information about the history\, meanings of the colors and symbols in this Ukrainian art will be shared during the workshop.\n\n\n\nHurry and select a date that best suits you.\nMARCH 12TH\, MARCH 26TH\, APRIL 2ND and APRIL 9TH\n\nClass schedule from 10:00 am to 1:30 p.m.\n\nCOST: $40.00 per person\, including a complete kit (with dyes\, wax\, kistka)\, detailed instructions\, preparation timeline\, and brochure.\n\nREGISTER HERE FOR PYSANKA WORKSHOP\n\nFor any questions please email: admin@ukrainiannationalmuseum.org or call 312 421-8020\nNo previous experience is required to participate in the workshop.\nRecommended for ages 16+.\nThe maximum number of participants per workshop 15.
URL:https://www.chicagoculturalalliance.org/event/ukrainian-pysanky-easter-egg-workshop/2022-03-12/
LOCATION:Ukrainian National Museum\, 2249 W. Superior St.\, Chicago\, IL\, 60612\, United States
CATEGORIES:Member Events,Workshops and Classes
ATTACH;FMTTYPE=image/jpeg:https://www.chicagoculturalalliance.org/wp-content/uploads/2022/03/pysanky-workshops.jpeg
GEO:41.894571;-87.684031
X-APPLE-STRUCTURED-LOCATION;VALUE=URI;X-ADDRESS=Ukrainian National Museum 2249 W. Superior St. Chicago IL 60612 United States;X-APPLE-RADIUS=500;X-TITLE=2249 W. Superior St.:geo:-87.684031,41.894571
END:VEVENT
BEGIN:VEVENT
DTSTART;TZID=America/Chicago:20220324T130000
DTEND;TZID=America/Chicago:20220324T140000
DTSTAMP:20260422T065936
CREATED:20220314T204934Z
LAST-MODIFIED:20220314T204934Z
UID:10001397-1648126800-1648130400@www.chicagoculturalalliance.org
SUMMARY:Artecito Virtual - Frutas y Verduras de Temporada
DESCRIPTION:La generosa abundancia de frutas y verduras de la temporada nos brinda los nutrientes necesarios para la vida\, ¡y también para nuestros amigos animales!\n¡Únase a nosotros mientras exploramos más sobre Frutas y Verduras de Temporada con nuestros amigos en Lincoln Park Zoo!\nConéctate aquí: https://bit.ly/ArtecitoFrutas\n____________________________________\n\nThe generous bounty of Seasonal fruits and vegetables give us the nutrients for life\, and for our animal friends too!\nJoin us as we explore more about Seasonal Fruits and Vegetables with our friends at Lincoln Park Zoo!\nConnect here: https://bit.ly/ArtecitoFrutas
URL:https://www.chicagoculturalalliance.org/event/artecito-virtual-frutas-y-verduras-de-temporada/
LOCATION:Online Event
CATEGORIES:Online Events,Workshops and Classes
ATTACH;FMTTYPE=image/jpeg:https://www.chicagoculturalalliance.org/wp-content/uploads/2022/03/artecito-mar-24.jpeg
END:VEVENT
BEGIN:VEVENT
DTSTART;TZID=America/Chicago:20220326T050000
DTEND;TZID=America/Chicago:20220326T083000
DTSTAMP:20260422T065936
CREATED:20220308T231614Z
LAST-MODIFIED:20220314T201508Z
UID:10001381-1648270800-1648283400@www.chicagoculturalalliance.org
SUMMARY:Ukrainian Pysanky (Easter Egg) Workshop - SOLD OUT
DESCRIPTION:Pysanka Workshops at the Ukrainian National Museum\nWe are excited to once again announce the Pysanky (Easter Egg) Workshops at the Ukrainian National Museum.\nThis year we offer in-person classes.\n\nYou will discover the art of writing pysanky by our expert Pysanka Instructor Anna Chychula. In each session\, you will learn the process of how to use the tools (kistka\, wax\, dyes) and to write your own pysanka. Information about the history\, meanings of the colors and symbols in this Ukrainian art will be shared during the workshop.\n\n\nHurry and select a date that best suits you.\nMARCH 12TH\, MARCH 26TH\, APRIL 2ND and APRIL 9TH\n\nClass schedule from 10:00 am to 1:30 p.m.\n\nCOST: $40.00 per person\, including a complete kit (with dyes\, wax\, kistka)\, detailed instructions\, preparation timeline\, and brochure.\n\nREGISTER HERE FOR PYSANKA WORKSHOP\n\nFor any questions please email: admin@ukrainiannationalmuseum.org or call 312 421-8020\nNo previous experience is required to participate in the workshop.\nRecommended for ages 16+.\nThe maximum number of participants per workshop 15.
URL:https://www.chicagoculturalalliance.org/event/ukrainian-pysanky-easter-egg-workshop-2022-03-26/
LOCATION:Ukrainian National Museum\, 2249 W. Superior St.\, Chicago\, IL\, 60612\, United States
CATEGORIES:Member Events,Workshops and Classes
ATTACH;FMTTYPE=image/jpeg:https://www.chicagoculturalalliance.org/wp-content/uploads/2022/03/pysanky-workshops.jpeg
GEO:41.894571;-87.684031
X-APPLE-STRUCTURED-LOCATION;VALUE=URI;X-ADDRESS=Ukrainian National Museum 2249 W. Superior St. Chicago IL 60612 United States;X-APPLE-RADIUS=500;X-TITLE=2249 W. Superior St.:geo:-87.684031,41.894571
END:VEVENT
END:VCALENDAR