BEGIN:VCALENDAR
VERSION:2.0
PRODID:-//Chicago Cultural Alliance - ECPv6.15.20//NONSGML v1.0//EN
CALSCALE:GREGORIAN
METHOD:PUBLISH
X-ORIGINAL-URL:https://www.chicagoculturalalliance.org
X-WR-CALDESC:Events for Chicago Cultural Alliance
REFRESH-INTERVAL;VALUE=DURATION:PT1H
X-Robots-Tag:noindex
X-PUBLISHED-TTL:PT1H
BEGIN:VTIMEZONE
TZID:America/Chicago
BEGIN:DAYLIGHT
TZOFFSETFROM:-0600
TZOFFSETTO:-0500
TZNAME:CDT
DTSTART:20210314T080000
END:DAYLIGHT
BEGIN:STANDARD
TZOFFSETFROM:-0500
TZOFFSETTO:-0600
TZNAME:CST
DTSTART:20211107T070000
END:STANDARD
BEGIN:DAYLIGHT
TZOFFSETFROM:-0600
TZOFFSETTO:-0500
TZNAME:CDT
DTSTART:20220313T080000
END:DAYLIGHT
BEGIN:STANDARD
TZOFFSETFROM:-0500
TZOFFSETTO:-0600
TZNAME:CST
DTSTART:20221106T070000
END:STANDARD
BEGIN:DAYLIGHT
TZOFFSETFROM:-0600
TZOFFSETTO:-0500
TZNAME:CDT
DTSTART:20230312T080000
END:DAYLIGHT
BEGIN:STANDARD
TZOFFSETFROM:-0500
TZOFFSETTO:-0600
TZNAME:CST
DTSTART:20231105T070000
END:STANDARD
END:VTIMEZONE
BEGIN:VEVENT
DTSTART;TZID=America/Chicago:20220227T050000
DTEND;TZID=America/Chicago:20220227T060000
DTSTAMP:20260422T070040
CREATED:20220208T011828Z
LAST-MODIFIED:20220208T011925Z
UID:10001305-1645938000-1645941600@www.chicagoculturalalliance.org
SUMMARY:Guided Tour: Swedish American Museum
DESCRIPTION:Dive into the history of Swedish immigration to Chicago with a guided tour of the Swedish American Museum’s permanent exhibit\, “The Dream of America.” Uncover the stories of real immigrants like Karl Karlsson\, who left Sweden with his family in 1893\, or Elin and Birgitta Hedman\, who made the journey in 1924. Learn about what awaited the millions who came to America via Ellis Island and what life was like in Swedish neighborhoods such as Andersonville in Chicago then and now. The tour is free with admissions\, and members are free. Reservations are recommended and can be made via email to museum@samac.org.
URL:https://www.chicagoculturalalliance.org/event/guided-tour/
LOCATION:Swedish American Museum\, 5211 N. Clark St.\, Chicago\, IL\, 60640\, United States
CATEGORIES:Member Events,Workshops and Classes
ATTACH;FMTTYPE=image/jpeg:https://www.chicagoculturalalliance.org/wp-content/uploads/2018/10/36291203_10157050110794714_4243821777467211776_o.jpg
GEO:41.9766451;-87.668015
X-APPLE-STRUCTURED-LOCATION;VALUE=URI;X-ADDRESS=Swedish American Museum 5211 N. Clark St. Chicago IL 60640 United States;X-APPLE-RADIUS=500;X-TITLE=5211 N. Clark St.:geo:-87.668015,41.9766451
END:VEVENT
END:VCALENDAR