BEGIN:VCALENDAR
VERSION:2.0
PRODID:-//Chicago Cultural Alliance - ECPv6.15.20//NONSGML v1.0//EN
CALSCALE:GREGORIAN
METHOD:PUBLISH
X-ORIGINAL-URL:https://www.chicagoculturalalliance.org
X-WR-CALDESC:Events for Chicago Cultural Alliance
REFRESH-INTERVAL;VALUE=DURATION:PT1H
X-Robots-Tag:noindex
X-PUBLISHED-TTL:PT1H
BEGIN:VTIMEZONE
TZID:America/Chicago
BEGIN:DAYLIGHT
TZOFFSETFROM:-0600
TZOFFSETTO:-0500
TZNAME:CDT
DTSTART:20210314T080000
END:DAYLIGHT
BEGIN:STANDARD
TZOFFSETFROM:-0500
TZOFFSETTO:-0600
TZNAME:CST
DTSTART:20211107T070000
END:STANDARD
BEGIN:DAYLIGHT
TZOFFSETFROM:-0600
TZOFFSETTO:-0500
TZNAME:CDT
DTSTART:20220313T080000
END:DAYLIGHT
BEGIN:STANDARD
TZOFFSETFROM:-0500
TZOFFSETTO:-0600
TZNAME:CST
DTSTART:20221106T070000
END:STANDARD
BEGIN:DAYLIGHT
TZOFFSETFROM:-0600
TZOFFSETTO:-0500
TZNAME:CDT
DTSTART:20230312T080000
END:DAYLIGHT
BEGIN:STANDARD
TZOFFSETFROM:-0500
TZOFFSETTO:-0600
TZNAME:CST
DTSTART:20231105T070000
END:STANDARD
END:VTIMEZONE
BEGIN:VEVENT
DTSTART;TZID=America/Chicago:20220407T180000
DTEND;TZID=America/Chicago:20220407T190000
DTSTAMP:20260422T070042
CREATED:20220401T212911Z
LAST-MODIFIED:20220401T212911Z
UID:10001437-1649354400-1649358000@www.chicagoculturalalliance.org
SUMMARY:Artecito Virtual: Arboles\, hojas y semillas
DESCRIPTION:Comienza con una semilla\, crece hasta convertirse en árboles y brotan hojas. ¡Estos organismos que dan vida vienen en muchas variedades diferentes\, y algunas de las cuales son exclusivas de nuestras áreas circundantes!\n¡Únase a nosotros mientras exploramos más sobre arboles\, hojas y semillas con nuestros amigos en Lincoln Park Zoo!\nConéctate aquí: https://bit.ly/ArtecitoArboles\n____________________________________\nIt starts with a seed\, grows into trees and sprouts leaves. These life giving organisms come in many different varieties\, and some of which are exclusive to our surrounding areas!\nJoin us as we explore more about trees\, leaves and seeds with our friends at Lincoln Park Zoo!\nConnect here: https://bit.ly/ArtecitoArboles\n\nArtecito is a Spanish language virtual workshop in partnership with Lincoln Park Zoo.
URL:https://www.chicagoculturalalliance.org/event/artecito-virtual-arboles-hojas-y-semillas/
LOCATION:Online Event
CATEGORIES:Online Events,Workshops and Classes
ATTACH;FMTTYPE=image/jpeg:https://www.chicagoculturalalliance.org/wp-content/uploads/2022/04/artecito-arboles.jpeg
END:VEVENT
BEGIN:VEVENT
DTSTART;TZID=America/Chicago:20220408T130000
DTEND;TZID=America/Chicago:20220408T150000
DTSTAMP:20260422T070042
CREATED:20220406T215801Z
LAST-MODIFIED:20220406T215801Z
UID:10001446-1649422800-1649430000@www.chicagoculturalalliance.org
SUMMARY:Kulturküche | German Pretzels Cooking Class
DESCRIPTION:The Pretzel Blitz is back! \n\n\nWe are hosting 5 pretzel making classes in April. Why? We LOVE pretzels! These pretzel-making classes will be offered in-person. We will host up to 20 students in our industrial kitchen at the DANK Haus. These 20 students will get hands on training from Reinhard Richter\, our resident Pretzel Meister\, and take home their homemade pretzels at the end of the class. \n\nWe have 5 classes to choose from. The April 29th class will be taught entirely in German (auf Deutsch)! All students will get the recipe and be able to communicate directly with our chef.
URL:https://www.chicagoculturalalliance.org/event/kulturkuche-german-pretzels-cooking-class/
LOCATION:DANK Haus German American Cultural Center\, 4740 N. Western Ave.\, Chicago\, IL\, 60625\, United States
CATEGORIES:Cultural Festivals and Fairs,Food and Drink,Talks and Gatherings,Workshops and Classes
ATTACH;FMTTYPE=image/png:https://www.chicagoculturalalliance.org/wp-content/uploads/2022/04/2022-Pretzel-Blitz-1920-x-1040-px-1.png
GEO:41.9680013;-87.6890642
X-APPLE-STRUCTURED-LOCATION;VALUE=URI;X-ADDRESS=DANK Haus German American Cultural Center 4740 N. Western Ave. Chicago IL 60625 United States;X-APPLE-RADIUS=500;X-TITLE=4740 N. Western Ave.:geo:-87.6890642,41.9680013
END:VEVENT
BEGIN:VEVENT
DTSTART;TZID=America/Chicago:20220409T050000
DTEND;TZID=America/Chicago:20220409T070000
DTSTAMP:20260422T070042
CREATED:20220314T205644Z
LAST-MODIFIED:20220314T205644Z
UID:10001398-1649480400-1649487600@www.chicagoculturalalliance.org
SUMMARY:Get Egg-cited: Polish Pisanki Workshop
DESCRIPTION:Easter is on its way.\nGet in the spirit by learning the intricate art of making Pisanki – Polish egg decorating\,\nwith instructor Christine Frankowicz-Burd\,\non Saturday\, April 9\, 2022\, from 10:00 a.m. to 12:00 p.m.\nThe workshop will be held in the PRCUA Social Hall on the first floor. \nThis year’s event is co-sponsored by the Edward T. & Ellen K. Dryer Charitable Foundation. \nThe workshop registration fee is $25 per person and includes the cost of stylus and wax. Each participant is asked to bring 3-4 hard-boiled eggs. Children must be at least 10 years old and accompanied by a parent or guardian for the entire workshop. \nMuseum admission is complimentary for each paid participant on the day of the workshop. \nSpace is limited to 40 participants. Guarantee a place today by calling 773-384-3352\, ext. 2111\, or register online \nChecks should be made payable to: Polish Museum of America. Credit card payment is also accepted. Free parking. \nDyes\, wax\, and kistka/ stylus can be ordered from the PMA Gift Shop online.
URL:https://www.chicagoculturalalliance.org/event/get-egg-cited-polish-pisanki-workshop/
LOCATION:Polish Roman Catholic Union of America Social Hall\, 984 North Milwaukee Avenue\, Chicago\, IL\, 60642\, United States
CATEGORIES:Member Events,Workshops and Classes
ATTACH;FMTTYPE=image/jpeg:https://www.chicagoculturalalliance.org/wp-content/uploads/2022/03/pisanki-2.jpeg
GEO:41.8995566;-87.6612726
X-APPLE-STRUCTURED-LOCATION;VALUE=URI;X-ADDRESS=Polish Roman Catholic Union of America Social Hall 984 North Milwaukee Avenue Chicago IL 60642 United States;X-APPLE-RADIUS=500;X-TITLE=984 North Milwaukee Avenue:geo:-87.6612726,41.8995566
END:VEVENT
BEGIN:VEVENT
DTSTART;TZID=America/Chicago:20220409T050000
DTEND;TZID=America/Chicago:20220409T083000
DTSTAMP:20260422T070042
CREATED:20220308T231614Z
LAST-MODIFIED:20220314T201425Z
UID:10001383-1649480400-1649493000@www.chicagoculturalalliance.org
SUMMARY:Ukrainian Pysanky (Easter Egg) Workshop - SOLD OUT
DESCRIPTION:Pysanka Workshops at the Ukrainian National Museum\nWe are excited to once again announce the Pysanky (Easter Egg) Workshops at the Ukrainian National Museum.\nThis year we offer in-person classes.\n\nYou will discover the art of writing pysanky by our expert Pysanka Instructor Anna Chychula. In each session\, you will learn the process of how to use the tools (kistka\, wax\, dyes) and to write your own pysanka. Information about the history\, meanings of the colors and symbols in this Ukrainian art will be shared during the workshop.\n\n\nHurry and select a date that best suits you.\nMARCH 12TH\, MARCH 26TH\, APRIL 2ND and APRIL 9TH\n\nClass schedule from 10:00 am to 1:30 p.m.\n\nCOST: $40.00 per person\, including a complete kit (with dyes\, wax\, kistka)\, detailed instructions\, preparation timeline\, and brochure.\n\nREGISTER HERE FOR PYSANKA WORKSHOP\n\nFor any questions please email: admin@ukrainiannationalmuseum.org or call 312 421-8020\nNo previous experience is required to participate in the workshop.\nRecommended for ages 16+.\nThe maximum number of participants per workshop 15.
URL:https://www.chicagoculturalalliance.org/event/ukrainian-pysanky-easter-egg-workshop-2022-04-09/
LOCATION:Ukrainian National Museum\, 2249 W. Superior St.\, Chicago\, IL\, 60612\, United States
CATEGORIES:Member Events,Workshops and Classes
ATTACH;FMTTYPE=image/jpeg:https://www.chicagoculturalalliance.org/wp-content/uploads/2022/03/pysanky-workshops.jpeg
GEO:41.894571;-87.684031
X-APPLE-STRUCTURED-LOCATION;VALUE=URI;X-ADDRESS=Ukrainian National Museum 2249 W. Superior St. Chicago IL 60612 United States;X-APPLE-RADIUS=500;X-TITLE=2249 W. Superior St.:geo:-87.684031,41.894571
END:VEVENT
END:VCALENDAR