BEGIN:VCALENDAR
VERSION:2.0
PRODID:-//Chicago Cultural Alliance - ECPv6.15.20//NONSGML v1.0//EN
CALSCALE:GREGORIAN
METHOD:PUBLISH
X-ORIGINAL-URL:https://www.chicagoculturalalliance.org
X-WR-CALDESC:Events for Chicago Cultural Alliance
REFRESH-INTERVAL;VALUE=DURATION:PT1H
X-Robots-Tag:noindex
X-PUBLISHED-TTL:PT1H
BEGIN:VTIMEZONE
TZID:America/Chicago
BEGIN:DAYLIGHT
TZOFFSETFROM:-0600
TZOFFSETTO:-0500
TZNAME:CDT
DTSTART:20210314T080000
END:DAYLIGHT
BEGIN:STANDARD
TZOFFSETFROM:-0500
TZOFFSETTO:-0600
TZNAME:CST
DTSTART:20211107T070000
END:STANDARD
BEGIN:DAYLIGHT
TZOFFSETFROM:-0600
TZOFFSETTO:-0500
TZNAME:CDT
DTSTART:20220313T080000
END:DAYLIGHT
BEGIN:STANDARD
TZOFFSETFROM:-0500
TZOFFSETTO:-0600
TZNAME:CST
DTSTART:20221106T070000
END:STANDARD
BEGIN:DAYLIGHT
TZOFFSETFROM:-0600
TZOFFSETTO:-0500
TZNAME:CDT
DTSTART:20230312T080000
END:DAYLIGHT
BEGIN:STANDARD
TZOFFSETFROM:-0500
TZOFFSETTO:-0600
TZNAME:CST
DTSTART:20231105T070000
END:STANDARD
END:VTIMEZONE
BEGIN:VEVENT
DTSTART;TZID=America/Chicago:20220421T170000
DTEND;TZID=America/Chicago:20220421T180000
DTSTAMP:20260422T071815
CREATED:20220414T192836Z
LAST-MODIFIED:20220414T192836Z
UID:10001451-1650560400-1650564000@www.chicagoculturalalliance.org
SUMMARY:Art After Work: Earth Day
DESCRIPTION:Intuit partners with Weinberg/Newton Gallery to host a special edition of Art After Work in celebration of Earth Day.\n\n\n\n\n\nAbout this event\n\n\nJoin Intuit for Art After Work\, a free series of facilitated art-making workshops. This month\, Intuit is partnering with our neighbor Weinberg/Newton Gallery to host a special edition of Art After Work in celebration of Earth Day (Friday\, April 22\, 2022). In the virtual program\, Weinberg/Newton Gallery educator Lisa Lindvay will spotlight the gallery’s exhibition Human/Nature\, an exhibition addressing one of the most urgent issues of our time: climate change. Following the discussion\, Lindvay will facilitate an embroidery workshop inspired by conceptual craft artist Karen Reimer\, whose work is exhibited in Human/Nature. \n\n\n\nSuggested materials \n\nRecycled patterned fabric\nEmbroidery floss\nNeedle\nScissors\nEmbroidery hoop\n\nOptional materials (for sketching) \n\nPencils\nPaper\n\nPlease note: If you are in Chicago and would like to pick up materials for this Art After Work\, Weinberg/Newton Gallery has art kits at the ready! Please contact Lisa Lindvay at lisa@weinbergnewtongallery.com with questions about the kits. \nArt After Work is for everyone\, including beginners and people who say they “are not artists.” We can all be artists! It is a guided workshop\, and instruction will begin at 5 p.m. central. \nClosed captions will be available at the virtual program. Please contact Lindsey Wurz at lindsey@art.org with questions related to accessibility accommodations. \nArt After Work is free to join! To show your support to Intuit\, please consider the pay-what-you-can option when you complete your reservation. Your contributions help ensure the sustainability of our public programs and support guest lecturers and teaching artists. \nTwo hours before the event\, Intuit will email the Zoom link to those who RSVP on Eventbrite. Please check your junk folder; unfortunately\, these emails are sent there sometimes. \n\n\nArt After Work is funded in part by the Alphawood Foundation\, the Department of Cultural Affairs\, Gaylord and Dorothy Donnelley Foundation\, Illinois Arts Council Agency\, Illinois Humanities\, National Endowment for the Arts\, Prince Charitable Trust\, Terra Foundation for American Art\, and individual donations from Intuit members and supporters. \n\n\nAbout Weinberg/Newton Gallery \nWeinberg/Newton Gallery is a non-commercial gallery with a mission to collaborate with nonprofit organizations and artists to educate and engage the public on social justice issues. Through artwork and programming\, the gallery provides a vital space for open discourse on critical contemporary issues facing our communities. \nHuman/Nature is presented by Weinberg/Newton Gallery in partnership with the Bulletin of the Atomic Scientists. \n\n\nMeet Lisa Lindvay \nLisa Lindvay is a Chicago-based artist and educator. She is currently the Education Coordinator at Weinberg/Newton Gallery and is an adjunct photography professor at Columbia College Chicago. Lindvay earned her MFA in Photography from Columbia College Chicago (2009) and BFA in Applied Media Arts from Edinboro University of Pennsylvania (2005). Lindvay’s photographs have been exhibited at Addison Gallery of American Art\, Andover\, Mass.; Hyde Park Art Center\, Chicago; Johalla Projects\, Chicago; John Michael Kohler Arts Center\, Sheboygan\, Wisc.; Museum of Contemporary Photography\, Chicago; Silver Eye Center for Photography\, Pittsburgh; Smithsonian National Portrait Gallery\, Washington\, D.C.; Turner Contemporary\, Margate\, England; and Weatherspoon Art Museum\, Greensboro\, N.C.; among others. Her photographs are included in the Museum of Contemporary Photography’s permanent collection as well as various private collections. She is the recipient of the 3Arts Artist Award (2011) and Chicago Artadia Award (2012).
URL:https://www.chicagoculturalalliance.org/event/art-after-work-earth-day/
LOCATION:Online Event
CATEGORIES:Online Events,Workshops and Classes
ATTACH;FMTTYPE=image/jpeg:https://www.chicagoculturalalliance.org/wp-content/uploads/2020/11/Art-After-Work_horizontal.jpg
END:VEVENT
BEGIN:VEVENT
DTSTART;TZID=America/Chicago:20220421T180000
DTEND;TZID=America/Chicago:20220421T190000
DTSTAMP:20260422T071815
CREATED:20220414T200329Z
LAST-MODIFIED:20220414T200329Z
UID:10001457-1650564000-1650567600@www.chicagoculturalalliance.org
SUMMARY:Artecito Virtual: Selvas
DESCRIPTION:Artecito is a Spanish-language workshop for families presented in partnership between OPEN Center for the Arts and Lincoln Park Zoo\n\nLas selvas tropicales tiene un ecosistema muy diverso\, la selva tropical es el hogar de más de la mitad de las plantas y animales del planeta\, aunque la selva tropical solo cubre alrededor del 6% de la superficie del mundo.\n¡Únase a nosotros mientras exploramos más sobre selvas con nuestros amigos en Lincoln Park Zoo!\nConéctate aquí: https://bit.ly/ArtecitoSelvas\n____________________________________\nRainforests have a very diverse ecosystem\, are home for more than half of the planets plants and animals\, even though rainforest only cover around 6% of the worlds surface.\nJoin us as we explore more about rainforests with our friends at Lincoln Park Zoo!\nConnect here: https://bit.ly/ArtecitoSelvas
URL:https://www.chicagoculturalalliance.org/event/artecito-virtual-selvas/
LOCATION:Online Event
CATEGORIES:Online Events,Workshops and Classes
ATTACH;FMTTYPE=image/jpeg:https://www.chicagoculturalalliance.org/wp-content/uploads/2022/04/SELVAS-IG-PROMO.jpg
END:VEVENT
BEGIN:VEVENT
DTSTART;TZID=America/Chicago:20220422T183000
DTEND;TZID=America/Chicago:20220422T203000
DTSTAMP:20260422T071815
CREATED:20220415T195333Z
LAST-MODIFIED:20220415T195333Z
UID:10001464-1650652200-1650659400@www.chicagoculturalalliance.org
SUMMARY:Kulturküche | German Pretzels Cooking Class
DESCRIPTION:The Pretzel Blitz is back!\n\nWe are hosting 5 pretzel making classes in April. Why? We LOVE pretzels! These pretzel-making classes will be offered in-person. We will host up to 20 students in our industrial kitchen at the DANK Haus. These 20 students will get hands on training from Reinhard Richter\, our resident Pretzel Meister\, and take home their homemade pretzels at the end of the class.\n\nWe have 5 classes to choose from. The April 29th class will be taught entirely in German (auf Deutsch)! All students will get the recipe and be able to communicate directly with our chef.
URL:https://www.chicagoculturalalliance.org/event/kulturkuche-german-pretzels-cooking-class-3/
LOCATION:DANK Haus German American Cultural Center\, 4740 N. Western Ave.\, Chicago\, IL\, 60625\, United States
CATEGORIES:Cultural Festivals and Fairs,Food and Drink,Talks and Gatherings,Workshops and Classes
ATTACH;FMTTYPE=image/png:https://www.chicagoculturalalliance.org/wp-content/uploads/2022/04/2022-Pretzel-Blitz-1920-x-1040-px.png
GEO:41.9680013;-87.6890642
X-APPLE-STRUCTURED-LOCATION;VALUE=URI;X-ADDRESS=DANK Haus German American Cultural Center 4740 N. Western Ave. Chicago IL 60625 United States;X-APPLE-RADIUS=500;X-TITLE=4740 N. Western Ave.:geo:-87.6890642,41.9680013
END:VEVENT
END:VCALENDAR