BEGIN:VCALENDAR
VERSION:2.0
PRODID:-//Chicago Cultural Alliance - ECPv6.15.20//NONSGML v1.0//EN
CALSCALE:GREGORIAN
METHOD:PUBLISH
X-ORIGINAL-URL:https://www.chicagoculturalalliance.org
X-WR-CALDESC:Events for Chicago Cultural Alliance
REFRESH-INTERVAL;VALUE=DURATION:PT1H
X-Robots-Tag:noindex
X-PUBLISHED-TTL:PT1H
BEGIN:VTIMEZONE
TZID:America/Chicago
BEGIN:DAYLIGHT
TZOFFSETFROM:-0600
TZOFFSETTO:-0500
TZNAME:CDT
DTSTART:20210314T080000
END:DAYLIGHT
BEGIN:STANDARD
TZOFFSETFROM:-0500
TZOFFSETTO:-0600
TZNAME:CST
DTSTART:20211107T070000
END:STANDARD
BEGIN:DAYLIGHT
TZOFFSETFROM:-0600
TZOFFSETTO:-0500
TZNAME:CDT
DTSTART:20220313T080000
END:DAYLIGHT
BEGIN:STANDARD
TZOFFSETFROM:-0500
TZOFFSETTO:-0600
TZNAME:CST
DTSTART:20221106T070000
END:STANDARD
BEGIN:DAYLIGHT
TZOFFSETFROM:-0600
TZOFFSETTO:-0500
TZNAME:CDT
DTSTART:20230312T080000
END:DAYLIGHT
BEGIN:STANDARD
TZOFFSETFROM:-0500
TZOFFSETTO:-0600
TZNAME:CST
DTSTART:20231105T070000
END:STANDARD
END:VTIMEZONE
BEGIN:VEVENT
DTSTART;TZID=America/Chicago:20220504T170000
DTEND;TZID=America/Chicago:20220504T190000
DTSTAMP:20260422T035808
CREATED:20220421T184316Z
LAST-MODIFIED:20220421T184316Z
UID:10001473-1651683600-1651690800@www.chicagoculturalalliance.org
SUMMARY:Live Performances: Sergio Gomez and Joanna Pinsky with Beate Axmann
DESCRIPTION:Live Performances will take place in the DANK Treffpunkt (1st floor gallery)\, where guests are encouraged to watch at any time during the session. Performances begin at 5:00pm and go until the artists are done painting (about 2 hours).\n\nPerformance dates:\n\nWednesday\, May 4 – Sergio Gomez with Beate Axmann\n\n5-7 PM\n\n\nTuesday\, May 17 – Joanna Pinsky with Beate Axmann\n\n5-7 PM\n\n\n\nAbout the performances:\nBeate Axmann has invited two Chicago-based artists to collaborate with her on this dynamic exhibition. Each artist will begin with their own large canvas. During this performance\, there will be several exchanges of the two canvases – meaning that each artist will add to the other artist’s work! This encounter will make visible the meaning of creative intervention\, trust and respect between the artists\, and the differences in their artistic expression.\n\nSpectators will have the unique opportunity to experience a very special art encounter – certainly not one that you see every day.
URL:https://www.chicagoculturalalliance.org/event/live-performances-sergio-gomez-and-joanna-pinsky-with-beate-axmann/2022-05-04/
LOCATION:DANK Haus German American Cultural Center\, 4740 N. Western Ave.\, Chicago\, IL\, 60625\, United States
CATEGORIES:Cultural Festivals and Fairs,Exhibitions and Gallery Events,Talks and Gatherings,Workshops and Classes
ATTACH;FMTTYPE=image/png:https://www.chicagoculturalalliance.org/wp-content/uploads/2022/04/FB-event-cover-Sergio-Gomez-3.png
GEO:41.9680013;-87.6890642
X-APPLE-STRUCTURED-LOCATION;VALUE=URI;X-ADDRESS=DANK Haus German American Cultural Center 4740 N. Western Ave. Chicago IL 60625 United States;X-APPLE-RADIUS=500;X-TITLE=4740 N. Western Ave.:geo:-87.6890642,41.9680013
END:VEVENT
BEGIN:VEVENT
DTSTART;TZID=America/Chicago:20220505T180000
DTEND;TZID=America/Chicago:20220505T190000
DTSTAMP:20260422T035808
CREATED:20220422T203447Z
LAST-MODIFIED:20220422T203447Z
UID:10001478-1651773600-1651777200@www.chicagoculturalalliance.org
SUMMARY:Artecito Virtual: Aguilas
DESCRIPTION:Artecito Virtual is a Spanish-language online arts workshop for families\, presented by OPEN Center for the Arts and Lincoln Park Zoo. \nEl águila calva y el águila real son aves simbólicas representadas en los Estados Unidos y en México. Ambos son fuertes\, rápidos y se encuentran en la parte superior de la cadena alimentaria.\n¡Únase a nosotros mientras exploramos más sobre águilas con nuestros amigos en Lincoln Park Zoo!\nConéctate aquí: https://bit.ly/ArtecitoAguilas\n____________________________________\nThe Bald Eagle and Golden Eagle are symbolic birds represented in the United States and in Mexico. Both are strong fast\, and are at the top of the food chain.\nJoin us as we explore more about eagles with our friends at Lincoln Park Zoo!\nConnect here: https://bit.ly/ArtecitoAguilas
URL:https://www.chicagoculturalalliance.org/event/artecito-virtual-aguilas/
LOCATION:Online Event
CATEGORIES:Online Events,Workshops and Classes
ATTACH;FMTTYPE=image/jpeg:https://www.chicagoculturalalliance.org/wp-content/uploads/2022/04/artecito-aguilas.jpeg
END:VEVENT
END:VCALENDAR