BEGIN:VCALENDAR
VERSION:2.0
PRODID:-//Chicago Cultural Alliance - ECPv6.15.20//NONSGML v1.0//EN
CALSCALE:GREGORIAN
METHOD:PUBLISH
X-WR-CALNAME:Chicago Cultural Alliance
X-ORIGINAL-URL:https://www.chicagoculturalalliance.org
X-WR-CALDESC:Events for Chicago Cultural Alliance
REFRESH-INTERVAL;VALUE=DURATION:PT1H
X-Robots-Tag:noindex
X-PUBLISHED-TTL:PT1H
BEGIN:VTIMEZONE
TZID:America/Chicago
BEGIN:DAYLIGHT
TZOFFSETFROM:-0600
TZOFFSETTO:-0500
TZNAME:CDT
DTSTART:20210314T080000
END:DAYLIGHT
BEGIN:STANDARD
TZOFFSETFROM:-0500
TZOFFSETTO:-0600
TZNAME:CST
DTSTART:20211107T070000
END:STANDARD
BEGIN:DAYLIGHT
TZOFFSETFROM:-0600
TZOFFSETTO:-0500
TZNAME:CDT
DTSTART:20220313T080000
END:DAYLIGHT
BEGIN:STANDARD
TZOFFSETFROM:-0500
TZOFFSETTO:-0600
TZNAME:CST
DTSTART:20221106T070000
END:STANDARD
BEGIN:DAYLIGHT
TZOFFSETFROM:-0600
TZOFFSETTO:-0500
TZNAME:CDT
DTSTART:20230312T080000
END:DAYLIGHT
BEGIN:STANDARD
TZOFFSETFROM:-0500
TZOFFSETTO:-0600
TZNAME:CST
DTSTART:20231105T070000
END:STANDARD
END:VTIMEZONE
BEGIN:VEVENT
DTSTART;TZID=America/Chicago:20220517T170000
DTEND;TZID=America/Chicago:20220517T190000
DTSTAMP:20260422T051409
CREATED:20220421T184316Z
LAST-MODIFIED:20220421T184316Z
UID:10001474-1652806800-1652814000@www.chicagoculturalalliance.org
SUMMARY:Live Performances: Sergio Gomez and Joanna Pinsky with Beate Axmann
DESCRIPTION:Live Performances will take place in the DANK Treffpunkt (1st floor gallery)\, where guests are encouraged to watch at any time during the session. Performances begin at 5:00pm and go until the artists are done painting (about 2 hours).\n\nPerformance dates:\n\nWednesday\, May 4 – Sergio Gomez with Beate Axmann\n\n5-7 PM\n\n\nTuesday\, May 17 – Joanna Pinsky with Beate Axmann\n\n5-7 PM\n\n\n\nAbout the performances:\nBeate Axmann has invited two Chicago-based artists to collaborate with her on this dynamic exhibition. Each artist will begin with their own large canvas. During this performance\, there will be several exchanges of the two canvases – meaning that each artist will add to the other artist’s work! This encounter will make visible the meaning of creative intervention\, trust and respect between the artists\, and the differences in their artistic expression.\n\nSpectators will have the unique opportunity to experience a very special art encounter – certainly not one that you see every day.
URL:https://www.chicagoculturalalliance.org/event/live-performances-sergio-gomez-and-joanna-pinsky-with-beate-axmann/2022-05-17/
LOCATION:DANK Haus German American Cultural Center\, 4740 N. Western Ave.\, Chicago\, IL\, 60625\, United States
CATEGORIES:Cultural Festivals and Fairs,Exhibitions and Gallery Events,Talks and Gatherings,Workshops and Classes
ATTACH;FMTTYPE=image/png:https://www.chicagoculturalalliance.org/wp-content/uploads/2022/04/FB-event-cover-Sergio-Gomez-3.png
GEO:41.9680013;-87.6890642
X-APPLE-STRUCTURED-LOCATION;VALUE=URI;X-ADDRESS=DANK Haus German American Cultural Center 4740 N. Western Ave. Chicago IL 60625 United States;X-APPLE-RADIUS=500;X-TITLE=4740 N. Western Ave.:geo:-87.6890642,41.9680013
END:VEVENT
BEGIN:VEVENT
DTSTART;TZID=America/Chicago:20220518T190000
DTEND;TZID=America/Chicago:20220518T210000
DTSTAMP:20260422T051409
CREATED:20220506T162430Z
LAST-MODIFIED:20220506T162430Z
UID:10001499-1652900400-1652907600@www.chicagoculturalalliance.org
SUMMARY:Experimental Collage Workshop
DESCRIPTION:Kunst Workshop im DANK Haus \nmit der Künstlerin Beate Axmann aus dem Schwarzwald/Deutschland \nEine experimentelle Collage zum Thema „Sichtverrückt“ \nExperimentelle Collage bedeutet mit Schneiden\, Reißen\, Kleben und Übermalen mit Acryl-Farben seine eigene lustige\, ernsthafte oder skurrile Geschichte entstehen zu lassen. Der Kreativität für ein originelles Werk sind keine Grenzen gesetzt….  \nAlle Materialien\, sowie Collagen-Materialien aus Zeitschriften\, Zeitungen\, Büchern\, Notenheften\, Kalendern usw sind vorhanden. \nGerne können jedoch eigene Fotos oder selbst gesammeltes Material für die eigene Collage mitgebracht werden. \nkeine Vorkenntnisse notwendig \nkeine Altersbeschränkung \n// \nArt Workshop at the DANK Haus \nwork alongside artist Beate Axmann from the Black Forest in Germany – Beate Axmann will lead the this workshop in German. Beginners are welcome. \nAn experimental collage around the theme “Sichtverrückt” \nIn this “experimental collage” workshop\, you will cut\, tear\, glue\, and paint over images and text we provide. Use your materials and acrylic paint to create a fun\, serious\, or fantastical story. No limits will be places on your creativity while creating your original work.  \nAll materials will be provided\, as well as a stockpile of newspapers\, magazine\, books\, calendars\, catalogues to sample from. Of course\, you can also bring your own personal photos and materials to incorporate into the collage.  \nNo experience necessary \nOpen to all ages
URL:https://www.chicagoculturalalliance.org/event/experimental-collage-workshop/
LOCATION:DANK Haus German American Cultural Center\, 4740 N. Western Ave.\, Chicago\, IL\, 60625\, United States
CATEGORIES:Cultural Festivals and Fairs,Exhibitions and Gallery Events,Talks and Gatherings,Workshops and Classes
ATTACH;FMTTYPE=image/png:https://www.chicagoculturalalliance.org/wp-content/uploads/2022/05/Copy-of-FB-event-cover-Sergio-Gomez.png
GEO:41.9680013;-87.6890642
X-APPLE-STRUCTURED-LOCATION;VALUE=URI;X-ADDRESS=DANK Haus German American Cultural Center 4740 N. Western Ave. Chicago IL 60625 United States;X-APPLE-RADIUS=500;X-TITLE=4740 N. Western Ave.:geo:-87.6890642,41.9680013
END:VEVENT
BEGIN:VEVENT
DTSTART;TZID=America/Chicago:20220519T180000
DTEND;TZID=America/Chicago:20220519T190000
DTSTAMP:20260422T051409
CREATED:20220512T155242Z
LAST-MODIFIED:20220512T155242Z
UID:10001506-1652983200-1652986800@www.chicagoculturalalliance.org
SUMMARY:Artecito Virtual: Mono Araña
DESCRIPTION:Artecito Virtual is a virtual arts workshop for families in Spanish\, presented by OPEN Center for the Arts in partnership with Lincoln Park Zoo. \n¡Los monos araña son mamíferos clasificados como primates como tú y yo! Son vistos como animales traviesos\, pero hay mucho que conocer sobre ellos.\n¡Únase a nosotros mientras exploramos más sobre el Mono Araña con nuestros amigos en Lincoln Park Zoo!\nConéctate aquí: https://bit.ly/ArtecitoMono\n____________________________________\nSpider Monkeys are mammals classified as primates like you and I! They are portrayed as mischievous animals but there is so much more to them.\nJoin us as we explore more about Spider Monkeys with our friends at Lincoln Park Zoo!\nConnect here:\nhttps://bit.ly/ArtecitoMono
URL:https://www.chicagoculturalalliance.org/event/artecito-virtual-mono-arana/
LOCATION:Online Event
CATEGORIES:Online Events,Workshops and Classes
ATTACH;FMTTYPE=image/jpeg:https://www.chicagoculturalalliance.org/wp-content/uploads/2022/05/MONO-ARANA-IG-PROMO.jpg
END:VEVENT
END:VCALENDAR