BEGIN:VCALENDAR
VERSION:2.0
PRODID:-//Chicago Cultural Alliance - ECPv6.15.20//NONSGML v1.0//EN
CALSCALE:GREGORIAN
METHOD:PUBLISH
X-ORIGINAL-URL:https://www.chicagoculturalalliance.org
X-WR-CALDESC:Events for Chicago Cultural Alliance
REFRESH-INTERVAL;VALUE=DURATION:PT1H
X-Robots-Tag:noindex
X-PUBLISHED-TTL:PT1H
BEGIN:VTIMEZONE
TZID:America/Chicago
BEGIN:DAYLIGHT
TZOFFSETFROM:-0600
TZOFFSETTO:-0500
TZNAME:CDT
DTSTART:20230312T080000
END:DAYLIGHT
BEGIN:STANDARD
TZOFFSETFROM:-0500
TZOFFSETTO:-0600
TZNAME:CST
DTSTART:20231105T070000
END:STANDARD
BEGIN:DAYLIGHT
TZOFFSETFROM:-0600
TZOFFSETTO:-0500
TZNAME:CDT
DTSTART:20240310T080000
END:DAYLIGHT
BEGIN:STANDARD
TZOFFSETFROM:-0500
TZOFFSETTO:-0600
TZNAME:CST
DTSTART:20241103T070000
END:STANDARD
BEGIN:DAYLIGHT
TZOFFSETFROM:-0600
TZOFFSETTO:-0500
TZNAME:CDT
DTSTART:20250309T080000
END:DAYLIGHT
BEGIN:STANDARD
TZOFFSETFROM:-0500
TZOFFSETTO:-0600
TZNAME:CST
DTSTART:20251102T070000
END:STANDARD
END:VTIMEZONE
BEGIN:VEVENT
DTSTART;VALUE=DATE:20240101
DTEND;VALUE=DATE:20250101
DTSTAMP:20260422T054026
CREATED:20240215T173415Z
LAST-MODIFIED:20240215T174149Z
UID:10006019-1704067200-1735689599@www.chicagoculturalalliance.org
SUMMARY:German Intercultural Classes
DESCRIPTION:Are you looking for an intercultural program for your employees which will prepare them for their stay in a German-speaking country?\nThen contact us at languageschool@dankhaus.com for more information.
URL:https://www.chicagoculturalalliance.org/event/intercultural-classes/
LOCATION:DANK Haus German American Cultural Center\, 4740 N. Western Ave.\, Chicago\, IL\, 60625\, United States
CATEGORIES:Workshops and Classes
ATTACH;FMTTYPE=image/jpeg:https://www.chicagoculturalalliance.org/wp-content/uploads/2024/02/intercult-classes-24.jpg
GEO:41.9680013;-87.6890642
X-APPLE-STRUCTURED-LOCATION;VALUE=URI;X-ADDRESS=DANK Haus German American Cultural Center 4740 N. Western Ave. Chicago IL 60625 United States;X-APPLE-RADIUS=500;X-TITLE=4740 N. Western Ave.:geo:-87.6890642,41.9680013
END:VEVENT
BEGIN:VEVENT
DTSTART;TZID=America/Chicago:20240209T100000
DTEND;TZID=America/Chicago:20240310T170000
DTSTAMP:20260422T054026
CREATED:20240122T182338Z
LAST-MODIFIED:20240129T172806Z
UID:10004722-1707472800-1710090000@www.chicagoculturalalliance.org
SUMMARY:BRAND-NEW LEGO NINJAGO Event at LEGOLAND Discovery Center Chicago
DESCRIPTION:Find your ‘Dragon Power!’\nFamilies can become Spinjitzu masters with powered-up activities\, experiences and LEGO builds during the all-new LEGO NINJAGO Dragon’s Rising Event happening February 9 – March 10\, 2024!\nActivities & Experiences Include:\nBuild the baby dragon Riyu in the Master Builder Academy and see what baby Riyu sparks in you\nCollect limited edition dragon power pop badges and stickers and touch a plasma ball to spark your dragon energy\nThe Ninja’s have been separated from each other in MINILAND – search for them to bring them back together\nJoin an epic dance party at the Crossroads Carnival\nAnd More!
URL:https://www.chicagoculturalalliance.org/event/brand-new-lego-ninjago-event-at-legoland-discovery-center-chicago/
LOCATION:LEGOLAND Discovery Center Chicago\, 601 N Martingale Road Suite 130\, Schaumburg\, IL 60173\, 601 N Martingale Road Suite 130\, Schaumburg\, 60173
CATEGORIES:Workshops and Classes
ATTACH;FMTTYPE=image/jpeg:https://www.chicagoculturalalliance.org/wp-content/uploads/2024/01/BRAND-NEW-LEGO-NINJAGO-Event-at-LEGOLAND-Discovery-Center-Chicago.jpg
GEO:42.0411055;-88.0339013
X-APPLE-STRUCTURED-LOCATION;VALUE=URI;X-ADDRESS=LEGOLAND Discovery Center Chicago 601 N Martingale Road Suite 130 Schaumburg IL 60173 601 N Martingale Road Suite 130 Schaumburg 60173;X-APPLE-RADIUS=500;X-TITLE=601 N Martingale Road Suite 130:geo:-88.0339013,42.0411055
END:VEVENT
BEGIN:VEVENT
DTSTART;TZID=America/Chicago:20240315T180000
DTEND;TZID=America/Chicago:20240315T200000
DTSTAMP:20260422T054026
CREATED:20240212T201346Z
LAST-MODIFIED:20240228T195558Z
UID:10006011-1710525600-1710532800@www.chicagoculturalalliance.org
SUMMARY:If the Sky Could Dream: Interactive Installation\, Performance\,  & Workshop Series
DESCRIPTION:Heritage Museum of Asian Art is collaborating with 2024 Resident Artist Irene Hsiao to create a new interactive installation\, performance\, and workshop series called If the Sky Could Dream. Coinciding with the Lunar Year of the Dragon\, the museum will showcase dragon artworks from throughout Asia\, as well as include an original\, contemporary vision of the dragon from an Asian American perspective by Hsiao.\n​\nIf the Sky Could Dream combines drawing\, painting\, dance\, found materials and found spaces at the museum to reveal and celebrate the dragons among us—structural\, ancestral\, architectural\, internal\, and environmental. Because the dragon is a water deity in Chinese culture\, this work also features projections of the waters of Chicago: Lake Michigan\, the Chicago River\, and the lakes\, ponds\, and lagoons of Chicago Parks. \nDates:\nFriday\, Feb 9\, 6:00 – 8:30 PM: Preview of the Dragon Exhibition\nSaturday\, Feb 10\, 11:00AM-12:00PM: Dragon Exhibition Opening Ceremony\nFriday\, Feb 16\, 6:00 – 8:00 PM: 3rd Friday with Irene Hsiao\nFriday\, Mar 15\, 6:00 – 8:00 PM: 3rd Friday with Irene Hsiao\nSaturday\, Mar 16\, 1:00 – 3:00PM: If the Sky Could Dream Workshop – Series One\nFriday\, Apr 19\, 6:00 – 8:00 PM: 3rd Friday with Irene Hsiao\nSaturday\, May 11\, 1:00 – 3:00PM: If the Sky Could Dream Workshop – Series Two\n​\nIf the Sky Could Dream is supported\, in part\, by a Foundation for Contemporary Arts Emergency Grant.\n​\nAbout the Artist:\nIrene Hsiao is a dancer\, writer\, and multidisciplinary artist. She creates performances in conversation with visual art in museums\, galleries\, and public spaces\, a practice that includes site-specific interaction with visual artworks and experimental engagement with artists\, institutions\, and the public. She is inaugural Artist in Residence at the Smart Museum of Art in 2020 and 2021\, 2022-23 Fellow at High Concept Labs\, first Artist in Residence at 21c Museum Hotel in 2022-2023\, and a 2020 Chicago Dancemakers Forum Lab Artist.Her performances have been presented at Museum of Contemporary Art Chicago\, Smart Museum\, EXPO Chicago\, Chicago Textile Week\, Ragdale Foundation\, Krannert Art Museum\, Alma Art Gallery\, Kavi Gupta Gallery\, and more
URL:https://www.chicagoculturalalliance.org/event/f-the-sky-could-dream-interactive-installation-performance-workshop-series/2024-03-15/
LOCATION:Heritage Museum of Asian Art\, 3500 S Morgan St\, Chicago\, IL\, 60609\, United States
CATEGORIES:Exhibitions and Gallery Events,Music, Film, and Theater,Workshops and Classes
ATTACH;FMTTYPE=image/webp:https://www.chicagoculturalalliance.org/wp-content/uploads/2024/02/if-the-sky-could-dream.webp
ORGANIZER;CN="Heritage Museum of Asian Art":MAILTO:info@heritageasianart.org
GEO:41.8304864;-87.6513977
X-APPLE-STRUCTURED-LOCATION;VALUE=URI;X-ADDRESS=Heritage Museum of Asian Art 3500 S Morgan St Chicago IL 60609 United States;X-APPLE-RADIUS=500;X-TITLE=3500 S Morgan St:geo:-87.6513977,41.8304864
END:VEVENT
BEGIN:VEVENT
DTSTART;TZID=America/Chicago:20240316T103000
DTEND;TZID=America/Chicago:20240316T143000
DTSTAMP:20260422T054026
CREATED:20240205T165426Z
LAST-MODIFIED:20240205T165426Z
UID:10005196-1710585000-1710599400@www.chicagoculturalalliance.org
SUMMARY:Puerto Rican Arts Alliance: Studio Arts Program
DESCRIPTION:El Rinconcito is a free open art space for creative expression for people ages 12-25. You can meet people like you who are interested in arts\, painting\, drawing\, printmaking\, and others. El Riconcito provides a safe and welcoming studio for art making. An artist and a counselor in the studio can guide you in creative experiences\, but you can opt to do your own artwork. \nJoin us! We provide the art supplies\, and you bring your creativity.
URL:https://www.chicagoculturalalliance.org/event/puerto-rican-arts-alliance-studio-arts-program/2024-03-16/
LOCATION:IL
CATEGORIES:Workshops and Classes
ATTACH;FMTTYPE=image/png:https://www.chicagoculturalalliance.org/wp-content/uploads/2024/02/art-studio.png
END:VEVENT
BEGIN:VEVENT
DTSTART;TZID=America/Chicago:20240316T130000
DTEND;TZID=America/Chicago:20240316T150000
DTSTAMP:20260422T054026
CREATED:20240212T201346Z
LAST-MODIFIED:20240228T195558Z
UID:10006012-1710594000-1710601200@www.chicagoculturalalliance.org
SUMMARY:If the Sky Could Dream: Interactive Installation\, Performance\,  & Workshop Series
DESCRIPTION:Heritage Museum of Asian Art is collaborating with 2024 Resident Artist Irene Hsiao to create a new interactive installation\, performance\, and workshop series called If the Sky Could Dream. Coinciding with the Lunar Year of the Dragon\, the museum will showcase dragon artworks from throughout Asia\, as well as include an original\, contemporary vision of the dragon from an Asian American perspective by Hsiao.\n​\nIf the Sky Could Dream combines drawing\, painting\, dance\, found materials and found spaces at the museum to reveal and celebrate the dragons among us—structural\, ancestral\, architectural\, internal\, and environmental. Because the dragon is a water deity in Chinese culture\, this work also features projections of the waters of Chicago: Lake Michigan\, the Chicago River\, and the lakes\, ponds\, and lagoons of Chicago Parks. \nDates:\nFriday\, Feb 9\, 6:00 – 8:30 PM: Preview of the Dragon Exhibition\nSaturday\, Feb 10\, 11:00AM-12:00PM: Dragon Exhibition Opening Ceremony\nFriday\, Feb 16\, 6:00 – 8:00 PM: 3rd Friday with Irene Hsiao\nFriday\, Mar 15\, 6:00 – 8:00 PM: 3rd Friday with Irene Hsiao\nSaturday\, Mar 16\, 1:00 – 3:00PM: If the Sky Could Dream Workshop – Series One\nFriday\, Apr 19\, 6:00 – 8:00 PM: 3rd Friday with Irene Hsiao\nSaturday\, May 11\, 1:00 – 3:00PM: If the Sky Could Dream Workshop – Series Two\n​\nIf the Sky Could Dream is supported\, in part\, by a Foundation for Contemporary Arts Emergency Grant.\n​\nAbout the Artist:\nIrene Hsiao is a dancer\, writer\, and multidisciplinary artist. She creates performances in conversation with visual art in museums\, galleries\, and public spaces\, a practice that includes site-specific interaction with visual artworks and experimental engagement with artists\, institutions\, and the public. She is inaugural Artist in Residence at the Smart Museum of Art in 2020 and 2021\, 2022-23 Fellow at High Concept Labs\, first Artist in Residence at 21c Museum Hotel in 2022-2023\, and a 2020 Chicago Dancemakers Forum Lab Artist.Her performances have been presented at Museum of Contemporary Art Chicago\, Smart Museum\, EXPO Chicago\, Chicago Textile Week\, Ragdale Foundation\, Krannert Art Museum\, Alma Art Gallery\, Kavi Gupta Gallery\, and more
URL:https://www.chicagoculturalalliance.org/event/f-the-sky-could-dream-interactive-installation-performance-workshop-series/2024-03-16/
LOCATION:Heritage Museum of Asian Art\, 3500 S Morgan St\, Chicago\, IL\, 60609\, United States
CATEGORIES:Exhibitions and Gallery Events,Music, Film, and Theater,Workshops and Classes
ATTACH;FMTTYPE=image/webp:https://www.chicagoculturalalliance.org/wp-content/uploads/2024/02/if-the-sky-could-dream.webp
ORGANIZER;CN="Heritage Museum of Asian Art":MAILTO:info@heritageasianart.org
GEO:41.8304864;-87.6513977
X-APPLE-STRUCTURED-LOCATION;VALUE=URI;X-ADDRESS=Heritage Museum of Asian Art 3500 S Morgan St Chicago IL 60609 United States;X-APPLE-RADIUS=500;X-TITLE=3500 S Morgan St:geo:-87.6513977,41.8304864
END:VEVENT
END:VCALENDAR