BEGIN:VCALENDAR
VERSION:2.0
PRODID:-//Chicago Cultural Alliance - ECPv6.15.20//NONSGML v1.0//EN
CALSCALE:GREGORIAN
METHOD:PUBLISH
X-ORIGINAL-URL:https://www.chicagoculturalalliance.org
X-WR-CALDESC:Events for Chicago Cultural Alliance
REFRESH-INTERVAL;VALUE=DURATION:PT1H
X-Robots-Tag:noindex
X-PUBLISHED-TTL:PT1H
BEGIN:VTIMEZONE
TZID:America/Chicago
BEGIN:DAYLIGHT
TZOFFSETFROM:-0600
TZOFFSETTO:-0500
TZNAME:CDT
DTSTART:20230312T080000
END:DAYLIGHT
BEGIN:STANDARD
TZOFFSETFROM:-0500
TZOFFSETTO:-0600
TZNAME:CST
DTSTART:20231105T070000
END:STANDARD
BEGIN:DAYLIGHT
TZOFFSETFROM:-0600
TZOFFSETTO:-0500
TZNAME:CDT
DTSTART:20240310T080000
END:DAYLIGHT
BEGIN:STANDARD
TZOFFSETFROM:-0500
TZOFFSETTO:-0600
TZNAME:CST
DTSTART:20241103T070000
END:STANDARD
BEGIN:DAYLIGHT
TZOFFSETFROM:-0600
TZOFFSETTO:-0500
TZNAME:CDT
DTSTART:20250309T080000
END:DAYLIGHT
BEGIN:STANDARD
TZOFFSETFROM:-0500
TZOFFSETTO:-0600
TZNAME:CST
DTSTART:20251102T070000
END:STANDARD
END:VTIMEZONE
BEGIN:VEVENT
DTSTART;VALUE=DATE:20240101
DTEND;VALUE=DATE:20250101
DTSTAMP:20260422T052142
CREATED:20240215T173415Z
LAST-MODIFIED:20240215T174149Z
UID:10006019-1704067200-1735689599@www.chicagoculturalalliance.org
SUMMARY:German Intercultural Classes
DESCRIPTION:Are you looking for an intercultural program for your employees which will prepare them for their stay in a German-speaking country?\nThen contact us at languageschool@dankhaus.com for more information.
URL:https://www.chicagoculturalalliance.org/event/intercultural-classes/
LOCATION:DANK Haus German American Cultural Center\, 4740 N. Western Ave.\, Chicago\, IL\, 60625\, United States
CATEGORIES:Workshops and Classes
ATTACH;FMTTYPE=image/jpeg:https://www.chicagoculturalalliance.org/wp-content/uploads/2024/02/intercult-classes-24.jpg
GEO:41.9680013;-87.6890642
X-APPLE-STRUCTURED-LOCATION;VALUE=URI;X-ADDRESS=DANK Haus German American Cultural Center 4740 N. Western Ave. Chicago IL 60625 United States;X-APPLE-RADIUS=500;X-TITLE=4740 N. Western Ave.:geo:-87.6890642,41.9680013
END:VEVENT
BEGIN:VEVENT
DTSTART;TZID=America/Chicago:20240617T140000
DTEND;TZID=America/Chicago:20240617T150000
DTSTAMP:20260422T052142
CREATED:20240612T161344Z
LAST-MODIFIED:20240612T161514Z
UID:10006567-1718632800-1718636400@www.chicagoculturalalliance.org
SUMMARY:Afro-Peruvian Percussion Workshop with Center for Peruvian Arts
DESCRIPTION:The center of Peruvian Arts in partnership with Chicago Public Library and Culture and Eduation of Chicago city present the next cajon workshop. Have fun and relax with the different rhythms of Afro-Peruvian music\, join and Cajonéate to awaken your musical vibration\, your emotions and connect with your inner musician! \nFor ages 3 and up. \nHow to Attend\nRegister by 2:00 p.m. Thursday\, June 20. Chicago Public Library cannot collect personal information online from kids 0 to 13. A parent or guardian’s email address must be used to register. As a reminder\, school email addresses may block external emails such as those from CPL. \nDue to space limitations\, please include the total number of children and adults as attendees when you register. \nAccessibility\nNeed sign language interpretation or other accessibility assistance for this event? Please call (312) 747-8184 or email access@chipublib.org to request accommodations. Requests must be made at least 14 business days before the event.
URL:https://www.chicagoculturalalliance.org/event/afro-peruvian-percussion-workshop-with-center-for-peruvian-arts/2024-06-17/
LOCATION:IL
CATEGORIES:Dance,Music, Film, and Theater,Workshops and Classes
ATTACH;FMTTYPE=image/png:https://www.chicagoculturalalliance.org/wp-content/uploads/2024/06/CHICAGO-PUBLIC-LIBRARY-WOODSON-REGIONAL-BRANCH.png
END:VEVENT
BEGIN:VEVENT
DTSTART;TZID=America/Chicago:20240618T140000
DTEND;TZID=America/Chicago:20240618T150000
DTSTAMP:20260422T052142
CREATED:20240612T161344Z
LAST-MODIFIED:20240612T161514Z
UID:10006568-1718719200-1718722800@www.chicagoculturalalliance.org
SUMMARY:Afro-Peruvian Percussion Workshop with Center for Peruvian Arts
DESCRIPTION:The center of Peruvian Arts in partnership with Chicago Public Library and Culture and Eduation of Chicago city present the next cajon workshop. Have fun and relax with the different rhythms of Afro-Peruvian music\, join and Cajonéate to awaken your musical vibration\, your emotions and connect with your inner musician! \nFor ages 3 and up. \nHow to Attend\nRegister by 2:00 p.m. Thursday\, June 20. Chicago Public Library cannot collect personal information online from kids 0 to 13. A parent or guardian’s email address must be used to register. As a reminder\, school email addresses may block external emails such as those from CPL. \nDue to space limitations\, please include the total number of children and adults as attendees when you register. \nAccessibility\nNeed sign language interpretation or other accessibility assistance for this event? Please call (312) 747-8184 or email access@chipublib.org to request accommodations. Requests must be made at least 14 business days before the event.
URL:https://www.chicagoculturalalliance.org/event/afro-peruvian-percussion-workshop-with-center-for-peruvian-arts/2024-06-18/
LOCATION:IL
CATEGORIES:Dance,Music, Film, and Theater,Workshops and Classes
ATTACH;FMTTYPE=image/png:https://www.chicagoculturalalliance.org/wp-content/uploads/2024/06/CHICAGO-PUBLIC-LIBRARY-WOODSON-REGIONAL-BRANCH.png
END:VEVENT
BEGIN:VEVENT
DTSTART;TZID=America/Chicago:20240620T140000
DTEND;TZID=America/Chicago:20240620T150000
DTSTAMP:20260422T052142
CREATED:20240612T161344Z
LAST-MODIFIED:20240612T161514Z
UID:10006569-1718892000-1718895600@www.chicagoculturalalliance.org
SUMMARY:Afro-Peruvian Percussion Workshop with Center for Peruvian Arts
DESCRIPTION:The center of Peruvian Arts in partnership with Chicago Public Library and Culture and Eduation of Chicago city present the next cajon workshop. Have fun and relax with the different rhythms of Afro-Peruvian music\, join and Cajonéate to awaken your musical vibration\, your emotions and connect with your inner musician! \nFor ages 3 and up. \nHow to Attend\nRegister by 2:00 p.m. Thursday\, June 20. Chicago Public Library cannot collect personal information online from kids 0 to 13. A parent or guardian’s email address must be used to register. As a reminder\, school email addresses may block external emails such as those from CPL. \nDue to space limitations\, please include the total number of children and adults as attendees when you register. \nAccessibility\nNeed sign language interpretation or other accessibility assistance for this event? Please call (312) 747-8184 or email access@chipublib.org to request accommodations. Requests must be made at least 14 business days before the event.
URL:https://www.chicagoculturalalliance.org/event/afro-peruvian-percussion-workshop-with-center-for-peruvian-arts/2024-06-20/
LOCATION:IL
CATEGORIES:Dance,Music, Film, and Theater,Workshops and Classes
ATTACH;FMTTYPE=image/png:https://www.chicagoculturalalliance.org/wp-content/uploads/2024/06/CHICAGO-PUBLIC-LIBRARY-WOODSON-REGIONAL-BRANCH.png
END:VEVENT
BEGIN:VEVENT
DTSTART;TZID=America/Chicago:20240621T140000
DTEND;TZID=America/Chicago:20240621T150000
DTSTAMP:20260422T052142
CREATED:20240612T161344Z
LAST-MODIFIED:20240612T161514Z
UID:10006566-1718978400-1718982000@www.chicagoculturalalliance.org
SUMMARY:Afro-Peruvian Percussion Workshop with Center for Peruvian Arts
DESCRIPTION:The center of Peruvian Arts in partnership with Chicago Public Library and Culture and Eduation of Chicago city present the next cajon workshop. Have fun and relax with the different rhythms of Afro-Peruvian music\, join and Cajonéate to awaken your musical vibration\, your emotions and connect with your inner musician! \nFor ages 3 and up. \nHow to Attend\nRegister by 2:00 p.m. Thursday\, June 20. Chicago Public Library cannot collect personal information online from kids 0 to 13. A parent or guardian’s email address must be used to register. As a reminder\, school email addresses may block external emails such as those from CPL. \nDue to space limitations\, please include the total number of children and adults as attendees when you register. \nAccessibility\nNeed sign language interpretation or other accessibility assistance for this event? Please call (312) 747-8184 or email access@chipublib.org to request accommodations. Requests must be made at least 14 business days before the event.
URL:https://www.chicagoculturalalliance.org/event/afro-peruvian-percussion-workshop-with-center-for-peruvian-arts/2024-06-21/
LOCATION:IL
CATEGORIES:Dance,Music, Film, and Theater,Workshops and Classes
ATTACH;FMTTYPE=image/png:https://www.chicagoculturalalliance.org/wp-content/uploads/2024/06/CHICAGO-PUBLIC-LIBRARY-WOODSON-REGIONAL-BRANCH.png
END:VEVENT
BEGIN:VEVENT
DTSTART;TZID=America/Chicago:20240622T103000
DTEND;TZID=America/Chicago:20240622T143000
DTSTAMP:20260422T052142
CREATED:20240205T165426Z
LAST-MODIFIED:20240205T165426Z
UID:10005210-1719052200-1719066600@www.chicagoculturalalliance.org
SUMMARY:Puerto Rican Arts Alliance: Studio Arts Program
DESCRIPTION:El Rinconcito is a free open art space for creative expression for people ages 12-25. You can meet people like you who are interested in arts\, painting\, drawing\, printmaking\, and others. El Riconcito provides a safe and welcoming studio for art making. An artist and a counselor in the studio can guide you in creative experiences\, but you can opt to do your own artwork. \nJoin us! We provide the art supplies\, and you bring your creativity.
URL:https://www.chicagoculturalalliance.org/event/puerto-rican-arts-alliance-studio-arts-program/2024-06-22/
LOCATION:IL
CATEGORIES:Workshops and Classes
ATTACH;FMTTYPE=image/png:https://www.chicagoculturalalliance.org/wp-content/uploads/2024/02/art-studio.png
END:VEVENT
END:VCALENDAR