BEGIN:VCALENDAR
VERSION:2.0
PRODID:-//Chicago Cultural Alliance - ECPv6.15.20//NONSGML v1.0//EN
CALSCALE:GREGORIAN
METHOD:PUBLISH
X-WR-CALNAME:Chicago Cultural Alliance
X-ORIGINAL-URL:https://www.chicagoculturalalliance.org
X-WR-CALDESC:Events for Chicago Cultural Alliance
REFRESH-INTERVAL;VALUE=DURATION:PT1H
X-Robots-Tag:noindex
X-PUBLISHED-TTL:PT1H
BEGIN:VTIMEZONE
TZID:America/Chicago
BEGIN:DAYLIGHT
TZOFFSETFROM:-0600
TZOFFSETTO:-0500
TZNAME:CDT
DTSTART:20210314T080000
END:DAYLIGHT
BEGIN:STANDARD
TZOFFSETFROM:-0500
TZOFFSETTO:-0600
TZNAME:CST
DTSTART:20211107T070000
END:STANDARD
BEGIN:DAYLIGHT
TZOFFSETFROM:-0600
TZOFFSETTO:-0500
TZNAME:CDT
DTSTART:20220313T080000
END:DAYLIGHT
BEGIN:STANDARD
TZOFFSETFROM:-0500
TZOFFSETTO:-0600
TZNAME:CST
DTSTART:20221106T070000
END:STANDARD
BEGIN:DAYLIGHT
TZOFFSETFROM:-0600
TZOFFSETTO:-0500
TZNAME:CDT
DTSTART:20230312T080000
END:DAYLIGHT
BEGIN:STANDARD
TZOFFSETFROM:-0500
TZOFFSETTO:-0600
TZNAME:CST
DTSTART:20231105T070000
END:STANDARD
END:VTIMEZONE
BEGIN:VEVENT
DTSTART;TZID=America/Chicago:20221103T190000
DTEND;TZID=America/Chicago:20221103T203000
DTSTAMP:20260425T111812
CREATED:20221102T150703Z
LAST-MODIFIED:20221102T150703Z
UID:10001844-1667502000-1667507400@www.chicagoculturalalliance.org
SUMMARY:Three Lithuanian Threaded Straw Ornament-Making Master Classes
DESCRIPTION:Join us at the Balzekas Museum for a special three-evening Master Class on making traditional Lithuanian straw ornaments. Classes will be conducted by artist/educator Laura Lapinskas. Traditionally\, ornaments were made from natural straw\, but resourceful city-dwellers began to use more easily available paper and plastic straws for this purpose. \nParticipants will also have an apportunity to view examples of paper\, plastic\, and natural straw ornaments from the Museum’s exhibits and collections\, and to learn about the origin and significance of ornaments and sodai\, their pagan predecessors. The history of decorating Lithuanian Christmas trees in the United States will also be highlighted.
URL:https://www.chicagoculturalalliance.org/event/three-lithuanian-threaded-straw-ornament-making-master-classes/
LOCATION:Balzekas Museum of Lithuanian Culture\, 6500 South Pulaski Road\, Chicago\, IL\, 60629\, United States
CATEGORIES:Workshops and Classes
ATTACH;FMTTYPE=image/jpeg:https://www.chicagoculturalalliance.org/wp-content/uploads/2022/11/2022_11_03_balzekas_museum_threaded_straw_ornaments_master_class.jpeg
GEO:41.7746508;-87.7229183
X-APPLE-STRUCTURED-LOCATION;VALUE=URI;X-ADDRESS=Balzekas Museum of Lithuanian Culture 6500 South Pulaski Road Chicago IL 60629 United States;X-APPLE-RADIUS=500;X-TITLE=6500 South Pulaski Road:geo:-87.7229183,41.7746508
END:VEVENT
BEGIN:VEVENT
DTSTART;TZID=America/Chicago:20221103T190000
DTEND;TZID=America/Chicago:20221103T203000
DTSTAMP:20260425T111812
CREATED:20221102T151904Z
LAST-MODIFIED:20221102T151904Z
UID:10001845-1667502000-1667507400@www.chicagoculturalalliance.org
SUMMARY:Three Lithuanian Threaded Straw Ornament-Making Master Classes
DESCRIPTION:Join us at the Balzekas Museum for a special three-evening Master Class on making traditional Lithuanian straw ornaments. Classes will be conducted by artist/educator Laura Lapinskas. Traditionally\, ornaments were made from natural straw\, but resourceful city-dwellers began to use more easily available paper and plastic straws for this purpose. \nParticipants will also have an apportunity to view examples of paper\, plastic\, and natural straw ornaments from the Museum’s exhibits and collections\, and to learn about the origin and significance of ornaments and sodai\, their pagan predecessors. The history of decorating Lithuanian Christmas trees in the United States will also be highlighted.
URL:https://www.chicagoculturalalliance.org/event/three-lithuanian-threaded-straw-ornament-making-master-classes-2/2022-11-03/
LOCATION:Balzekas Museum of Lithuanian Culture\, 6500 South Pulaski Road\, Chicago\, IL\, 60629\, United States
CATEGORIES:Workshops and Classes
ATTACH;FMTTYPE=image/jpeg:https://www.chicagoculturalalliance.org/wp-content/uploads/2022/11/2022_11_03_balzekas_museum_threaded_straw_ornaments_master_class.jpeg
GEO:41.7746508;-87.7229183
X-APPLE-STRUCTURED-LOCATION;VALUE=URI;X-ADDRESS=Balzekas Museum of Lithuanian Culture 6500 South Pulaski Road Chicago IL 60629 United States;X-APPLE-RADIUS=500;X-TITLE=6500 South Pulaski Road:geo:-87.7229183,41.7746508
END:VEVENT
END:VCALENDAR