BEGIN:VCALENDAR
VERSION:2.0
PRODID:-//Chicago Cultural Alliance - ECPv6.15.20//NONSGML v1.0//EN
CALSCALE:GREGORIAN
METHOD:PUBLISH
X-WR-CALNAME:Chicago Cultural Alliance
X-ORIGINAL-URL:https://www.chicagoculturalalliance.org
X-WR-CALDESC:Events for Chicago Cultural Alliance
REFRESH-INTERVAL;VALUE=DURATION:PT1H
X-Robots-Tag:noindex
X-PUBLISHED-TTL:PT1H
BEGIN:VTIMEZONE
TZID:America/Chicago
BEGIN:DAYLIGHT
TZOFFSETFROM:-0600
TZOFFSETTO:-0500
TZNAME:CDT
DTSTART:20220313T080000
END:DAYLIGHT
BEGIN:STANDARD
TZOFFSETFROM:-0500
TZOFFSETTO:-0600
TZNAME:CST
DTSTART:20221106T070000
END:STANDARD
BEGIN:DAYLIGHT
TZOFFSETFROM:-0600
TZOFFSETTO:-0500
TZNAME:CDT
DTSTART:20230312T080000
END:DAYLIGHT
BEGIN:STANDARD
TZOFFSETFROM:-0500
TZOFFSETTO:-0600
TZNAME:CST
DTSTART:20231105T070000
END:STANDARD
BEGIN:DAYLIGHT
TZOFFSETFROM:-0600
TZOFFSETTO:-0500
TZNAME:CDT
DTSTART:20240310T080000
END:DAYLIGHT
BEGIN:STANDARD
TZOFFSETFROM:-0500
TZOFFSETTO:-0600
TZNAME:CST
DTSTART:20241103T070000
END:STANDARD
END:VTIMEZONE
BEGIN:VEVENT
DTSTART;TZID=America/Chicago:20230117T093746
DTEND;TZID=America/Chicago:20230117T093746
DTSTAMP:20260425T111811
CREATED:20230117T153746Z
LAST-MODIFIED:20230117T153746Z
UID:10003188-1673948266-1673948266@www.chicagoculturalalliance.org
SUMMARY:The Road to Global Conquest: Stalinist Expansionism and the Baltic Region\, 1917-1953
DESCRIPTION:This Friday\, January 12\, 2023\, at 7 PM the Balzekas Museum of Lithuanian Culture\, Chicago\, presents: \n“The Road to Global Conquest: Stalinist Expansionism and the Baltic Region\, 1917-1953” \nA lecture by Dr. Alexander Gogun from the Free University of Berlin \nDr. Gogun is the author of Stalin’s Commandos: Ukrainian Partisan Forces on the Eastern Front (2016)\, which documents Soviet dictator Josef Stalin’s scorched earth tactics in Ukraine and the looting\, boozing\, rapes\, and violence of Stalin’s guerrilla forces. As Russia’s brutal attack on Ukraine bares witness\, aspects of Putin’s conduct of war chillingly mirror Stalin’s. This Friday\, January 13\, 7 PM at the Balzekas Museum\, Dr. Alexander Gogun will shed light on Stalin’s expansionism\, its implications for the Baltic region\, and what lessons these historical events have for today.  \nAbout Dr. Alexander Gogun \nDr. Alexander Gogun is currently pursuing research at the Friedrich Meinecke Institute at the Free University of Berlin. He has taught at Potsdam University and held a fellowship at the NIOD Institute for War\, Holocaust and Genocide Studies in Amsterdam\, the Daymel Shklar Fellowship at the Harvard Ukrainian Research Institute\, a postdoctoral fellowship at the International Institute for the Holocaust Studies Yad Vashem\, the Diane and Howard Wohl Fellowship at the US Holocaust Memorial Museum as well a research fellowship at the Haddasah-Brandeis Institute – Brandeis Genesis Institute. He is the author of several monographs and editor of the document collections on Ukrainian nationalism\, Soviet partisans\, Nazi propaganda\, and the foreign policy of the Soviet Union.  \nHis film Stalin’s Apocalypse: Third \nAddress: Balzekas Museum of Lithuanian Culture\n6500 S. Pulaski Rd.\, Chicago\, IL 60629. \nAdmission: FREE OF CHARGE  Donations at the door are always welcome.\nReservations requested by telephone: 773-582-6500\nOr by email here: admin@balzekasmuseum.org. \nRefreshments\, including Lithuanian beer and Kugelis\, will be served \nThis program is sponsored in part by the Members and Donors of the Balzekas Museum and a CityArts grant through the City of Chicago’s Department of Cultural Affairs and Special Events. The Museum gratefully acknowledges these contributors for their support.
URL:https://www.chicagoculturalalliance.org/event/the-road-to-global-conquest-stalinist-expansionism-and-the-baltic-region-1917-1953/
LOCATION:IL\, United States
ATTACH;FMTTYPE=image/jpeg:https://www.chicagoculturalalliance.org/wp-content/uploads/2023/01/Dr.-Alexander-Gogun-at-the-Balzekas-Museum-Fri.-Jan.-13-2023_sm.jpg
GEO:41.8781136;-87.6297982
END:VEVENT
END:VCALENDAR