BEGIN:VCALENDAR
VERSION:2.0
PRODID:-//Chicago Cultural Alliance - ECPv6.15.20//NONSGML v1.0//EN
CALSCALE:GREGORIAN
METHOD:PUBLISH
X-WR-CALNAME:Chicago Cultural Alliance
X-ORIGINAL-URL:https://www.chicagoculturalalliance.org
X-WR-CALDESC:Events for Chicago Cultural Alliance
REFRESH-INTERVAL;VALUE=DURATION:PT1H
X-Robots-Tag:noindex
X-PUBLISHED-TTL:PT1H
BEGIN:VTIMEZONE
TZID:America/Chicago
BEGIN:DAYLIGHT
TZOFFSETFROM:-0600
TZOFFSETTO:-0500
TZNAME:CDT
DTSTART:20230312T080000
END:DAYLIGHT
BEGIN:STANDARD
TZOFFSETFROM:-0500
TZOFFSETTO:-0600
TZNAME:CST
DTSTART:20231105T070000
END:STANDARD
BEGIN:DAYLIGHT
TZOFFSETFROM:-0600
TZOFFSETTO:-0500
TZNAME:CDT
DTSTART:20240310T080000
END:DAYLIGHT
BEGIN:STANDARD
TZOFFSETFROM:-0500
TZOFFSETTO:-0600
TZNAME:CST
DTSTART:20241103T070000
END:STANDARD
BEGIN:DAYLIGHT
TZOFFSETFROM:-0600
TZOFFSETTO:-0500
TZNAME:CDT
DTSTART:20250309T080000
END:DAYLIGHT
BEGIN:STANDARD
TZOFFSETFROM:-0500
TZOFFSETTO:-0600
TZNAME:CST
DTSTART:20251102T070000
END:STANDARD
END:VTIMEZONE
BEGIN:VEVENT
DTSTART;TZID=America/Chicago:20240226T190000
DTEND;TZID=America/Chicago:20240226T200000
DTSTAMP:20260425T100208
CREATED:20240202T211051Z
LAST-MODIFIED:20240202T211054Z
UID:10005187-1708974000-1708977600@www.chicagoculturalalliance.org
SUMMARY:The First Black Archaeologist: John Wesley Gilbert
DESCRIPTION:Join NHM Online Discussions for an extraordinary evening with Professor John W.I. Lee from UC Santa Barbara as we delve into his groundbreaking biography\, “The First Black Archaeologist: A Life of John Wesley Gilbert” (Oxford University Press 2022). \nJohn Wesley Gilbert\, born enslaved in Hephzibah\, Georgia\, during the American Civil War\, went on to become one of the first ten Black students admitted to Brown University in Classics. His educational journey continued with a scholarship to study at the American School of Classical Studies in Athens\, Greece\, where he became the first African-American to attend. Gilbert’s contributions include his 1891 Master’s thesis\, “The Demes of Attica\,” and his pioneering role as the first Black faculty member at Paine College\, where he taught Greek and Latin.\nIn this special discussion\, Professor Lee offers unique insights into the life of this extraordinary scholar and Philhellene. Don’t miss this important exploration. \nAbout John W.I. Lee:\nJohn W.I. Lee is a Professor of History at UC Santa Barbara. With a background shaped by Asia and Hawai’i\, he holds a PhD in History from Cornell University. His publications include “A Greek Army on the March: Soldiers and Survival in Xenophon’s Anabasis” (Cambridge University Press 2007) and “The First Black Archaeologist: A Life of John Wesley Gilbert” (Oxford University Press 2022). Professor Lee has also participated in archaeological excavations in Greece. \nThe National Hellenic Museum gratefully acknowledges the Hellenic Foundation\, whose generous support makes our NHM Online Discussions possible.
URL:https://www.chicagoculturalalliance.org/event/the-first-black-archaeologist-john-wesley-gilbert/
LOCATION:Virtual\, Chicago\, IL\, United States
CATEGORIES:Talks and Gatherings
ATTACH;FMTTYPE=image/jpeg:https://www.chicagoculturalalliance.org/wp-content/uploads/2024/02/nhm-image.jpeg
GEO:41.8781136;-87.6297982
END:VEVENT
END:VCALENDAR