BEGIN:VCALENDAR
VERSION:2.0
PRODID:-//Chicago Cultural Alliance - ECPv6.15.20//NONSGML v1.0//EN
CALSCALE:GREGORIAN
METHOD:PUBLISH
X-WR-CALNAME:Chicago Cultural Alliance
X-ORIGINAL-URL:https://www.chicagoculturalalliance.org
X-WR-CALDESC:Events for Chicago Cultural Alliance
REFRESH-INTERVAL;VALUE=DURATION:PT1H
X-Robots-Tag:noindex
X-PUBLISHED-TTL:PT1H
BEGIN:VTIMEZONE
TZID:America/Chicago
BEGIN:DAYLIGHT
TZOFFSETFROM:-0600
TZOFFSETTO:-0500
TZNAME:CDT
DTSTART:20210314T080000
END:DAYLIGHT
BEGIN:STANDARD
TZOFFSETFROM:-0500
TZOFFSETTO:-0600
TZNAME:CST
DTSTART:20211107T070000
END:STANDARD
BEGIN:DAYLIGHT
TZOFFSETFROM:-0600
TZOFFSETTO:-0500
TZNAME:CDT
DTSTART:20220313T080000
END:DAYLIGHT
BEGIN:STANDARD
TZOFFSETFROM:-0500
TZOFFSETTO:-0600
TZNAME:CST
DTSTART:20221106T070000
END:STANDARD
BEGIN:DAYLIGHT
TZOFFSETFROM:-0600
TZOFFSETTO:-0500
TZNAME:CDT
DTSTART:20230312T080000
END:DAYLIGHT
BEGIN:STANDARD
TZOFFSETFROM:-0500
TZOFFSETTO:-0600
TZNAME:CST
DTSTART:20231105T070000
END:STANDARD
END:VTIMEZONE
BEGIN:VEVENT
DTSTART;TZID=America/Chicago:20220312T040000
DTEND;TZID=America/Chicago:20220312T090000
DTSTAMP:20260425T094008
CREATED:20220224T005322Z
LAST-MODIFIED:20220224T010553Z
UID:10001336-1647057600-1647075600@www.chicagoculturalalliance.org
SUMMARY:FOUNDATION Exhibition
DESCRIPTION:The Korean Cultural Center of Chicago is pleased to present FOUNDATION\, a group exhibition curated by Dabin Ahn\, bringing together a group of emerging artists\, FOUNDATION hopes to offer experience of identifying how each artist structures their practice by employing [Culture] [Longing] [Color] [Identity] [Process] [Memory] [Site-Specificity] as its foundation. \nOpening Reception Friday\, March 12\, 2pm
URL:https://www.chicagoculturalalliance.org/event/foundation-exhibition-at-korean-cultural-center-of-chicago/2022-03-12/
LOCATION:Korean Cultural Center of Chicago\, 9925 Capitol Dr\, Wheeling\, IL\, United States
CATEGORIES:Cultural Festivals and Fairs,Exhibitions and Gallery Events
ATTACH;FMTTYPE=image/jpeg:https://www.chicagoculturalalliance.org/wp-content/uploads/2022/02/foundation.jpg
GEO:42.1107829;-87.9082415
X-APPLE-STRUCTURED-LOCATION;VALUE=URI;X-ADDRESS=Korean Cultural Center of Chicago 9925 Capitol Dr Wheeling IL United States;X-APPLE-RADIUS=500;X-TITLE=9925 Capitol Dr:geo:-87.9082415,42.1107829
END:VEVENT
BEGIN:VEVENT
DTSTART;TZID=America/Chicago:20220314T040000
DTEND;TZID=America/Chicago:20220314T120000
DTSTAMP:20260425T094008
CREATED:20220926T183618Z
LAST-MODIFIED:20220926T183618Z
UID:10001340-1647230400-1647259200@www.chicagoculturalalliance.org
SUMMARY:FOUNDATION Exhibition
DESCRIPTION:The Korean Cultural Center of Chicago is pleased to present FOUNDATION\, a group exhibition curated by Dabin Ahn\, bringing together a group of emerging artists\, FOUNDATION hopes to offer experience of identifying how each artist structures their practice by employing [Culture] [Longing] [Color] [Identity] [Process] [Memory] [Site-Specificity] as its foundation. \nOpening Reception Friday\, March 12\, 2pm
URL:https://www.chicagoculturalalliance.org/event/foundation-exhibition-at-korean-cultural-center-of-chicago/2022-03-14/
LOCATION:Korean Cultural Center of Chicago\, 9925 Capitol Dr\, Wheeling\, IL\, United States
CATEGORIES:Cultural Festivals and Fairs,Exhibitions and Gallery Events
ATTACH;FMTTYPE=image/jpeg:https://www.chicagoculturalalliance.org/wp-content/uploads/2022/02/foundation.jpg
GEO:42.1107829;-87.9082415
X-APPLE-STRUCTURED-LOCATION;VALUE=URI;X-ADDRESS=Korean Cultural Center of Chicago 9925 Capitol Dr Wheeling IL United States;X-APPLE-RADIUS=500;X-TITLE=9925 Capitol Dr:geo:-87.9082415,42.1107829
END:VEVENT
BEGIN:VEVENT
DTSTART;TZID=America/Chicago:20220315T040000
DTEND;TZID=America/Chicago:20220315T120000
DTSTAMP:20260425T094008
CREATED:20220926T183618Z
LAST-MODIFIED:20220926T183618Z
UID:10001341-1647316800-1647345600@www.chicagoculturalalliance.org
SUMMARY:FOUNDATION Exhibition
DESCRIPTION:The Korean Cultural Center of Chicago is pleased to present FOUNDATION\, a group exhibition curated by Dabin Ahn\, bringing together a group of emerging artists\, FOUNDATION hopes to offer experience of identifying how each artist structures their practice by employing [Culture] [Longing] [Color] [Identity] [Process] [Memory] [Site-Specificity] as its foundation. \nOpening Reception Friday\, March 12\, 2pm
URL:https://www.chicagoculturalalliance.org/event/foundation-exhibition-at-korean-cultural-center-of-chicago/2022-03-15/
LOCATION:Korean Cultural Center of Chicago\, 9925 Capitol Dr\, Wheeling\, IL\, United States
CATEGORIES:Cultural Festivals and Fairs,Exhibitions and Gallery Events
ATTACH;FMTTYPE=image/jpeg:https://www.chicagoculturalalliance.org/wp-content/uploads/2022/02/foundation.jpg
GEO:42.1107829;-87.9082415
X-APPLE-STRUCTURED-LOCATION;VALUE=URI;X-ADDRESS=Korean Cultural Center of Chicago 9925 Capitol Dr Wheeling IL United States;X-APPLE-RADIUS=500;X-TITLE=9925 Capitol Dr:geo:-87.9082415,42.1107829
END:VEVENT
BEGIN:VEVENT
DTSTART;TZID=America/Chicago:20220316T040000
DTEND;TZID=America/Chicago:20220316T120000
DTSTAMP:20260425T094008
CREATED:20220926T183618Z
LAST-MODIFIED:20220926T183618Z
UID:10001342-1647403200-1647432000@www.chicagoculturalalliance.org
SUMMARY:FOUNDATION Exhibition
DESCRIPTION:The Korean Cultural Center of Chicago is pleased to present FOUNDATION\, a group exhibition curated by Dabin Ahn\, bringing together a group of emerging artists\, FOUNDATION hopes to offer experience of identifying how each artist structures their practice by employing [Culture] [Longing] [Color] [Identity] [Process] [Memory] [Site-Specificity] as its foundation. \nOpening Reception Friday\, March 12\, 2pm
URL:https://www.chicagoculturalalliance.org/event/foundation-exhibition-at-korean-cultural-center-of-chicago/2022-03-16/
LOCATION:Korean Cultural Center of Chicago\, 9925 Capitol Dr\, Wheeling\, IL\, United States
CATEGORIES:Cultural Festivals and Fairs,Exhibitions and Gallery Events
ATTACH;FMTTYPE=image/jpeg:https://www.chicagoculturalalliance.org/wp-content/uploads/2022/02/foundation.jpg
GEO:42.1107829;-87.9082415
X-APPLE-STRUCTURED-LOCATION;VALUE=URI;X-ADDRESS=Korean Cultural Center of Chicago 9925 Capitol Dr Wheeling IL United States;X-APPLE-RADIUS=500;X-TITLE=9925 Capitol Dr:geo:-87.9082415,42.1107829
END:VEVENT
BEGIN:VEVENT
DTSTART;TZID=America/Chicago:20220317T040000
DTEND;TZID=America/Chicago:20220317T120000
DTSTAMP:20260425T094008
CREATED:20220926T183618Z
LAST-MODIFIED:20220926T183618Z
UID:10001343-1647489600-1647518400@www.chicagoculturalalliance.org
SUMMARY:FOUNDATION Exhibition
DESCRIPTION:The Korean Cultural Center of Chicago is pleased to present FOUNDATION\, a group exhibition curated by Dabin Ahn\, bringing together a group of emerging artists\, FOUNDATION hopes to offer experience of identifying how each artist structures their practice by employing [Culture] [Longing] [Color] [Identity] [Process] [Memory] [Site-Specificity] as its foundation. \nOpening Reception Friday\, March 12\, 2pm
URL:https://www.chicagoculturalalliance.org/event/foundation-exhibition-at-korean-cultural-center-of-chicago/2022-03-17/
LOCATION:Korean Cultural Center of Chicago\, 9925 Capitol Dr\, Wheeling\, IL\, United States
CATEGORIES:Cultural Festivals and Fairs,Exhibitions and Gallery Events
ATTACH;FMTTYPE=image/jpeg:https://www.chicagoculturalalliance.org/wp-content/uploads/2022/02/foundation.jpg
GEO:42.1107829;-87.9082415
X-APPLE-STRUCTURED-LOCATION;VALUE=URI;X-ADDRESS=Korean Cultural Center of Chicago 9925 Capitol Dr Wheeling IL United States;X-APPLE-RADIUS=500;X-TITLE=9925 Capitol Dr:geo:-87.9082415,42.1107829
END:VEVENT
BEGIN:VEVENT
DTSTART;TZID=America/Chicago:20220318T040000
DTEND;TZID=America/Chicago:20220318T120000
DTSTAMP:20260425T094008
CREATED:20220926T183618Z
LAST-MODIFIED:20220926T183618Z
UID:10001344-1647576000-1647604800@www.chicagoculturalalliance.org
SUMMARY:FOUNDATION Exhibition
DESCRIPTION:The Korean Cultural Center of Chicago is pleased to present FOUNDATION\, a group exhibition curated by Dabin Ahn\, bringing together a group of emerging artists\, FOUNDATION hopes to offer experience of identifying how each artist structures their practice by employing [Culture] [Longing] [Color] [Identity] [Process] [Memory] [Site-Specificity] as its foundation. \nOpening Reception Friday\, March 12\, 2pm
URL:https://www.chicagoculturalalliance.org/event/foundation-exhibition-at-korean-cultural-center-of-chicago/2022-03-18/
LOCATION:Korean Cultural Center of Chicago\, 9925 Capitol Dr\, Wheeling\, IL\, United States
CATEGORIES:Cultural Festivals and Fairs,Exhibitions and Gallery Events
ATTACH;FMTTYPE=image/jpeg:https://www.chicagoculturalalliance.org/wp-content/uploads/2022/02/foundation.jpg
GEO:42.1107829;-87.9082415
X-APPLE-STRUCTURED-LOCATION;VALUE=URI;X-ADDRESS=Korean Cultural Center of Chicago 9925 Capitol Dr Wheeling IL United States;X-APPLE-RADIUS=500;X-TITLE=9925 Capitol Dr:geo:-87.9082415,42.1107829
END:VEVENT
BEGIN:VEVENT
DTSTART;TZID=America/Chicago:20220319T050000
DTEND;TZID=America/Chicago:20220319T100000
DTSTAMP:20260425T094008
CREATED:20220224T005322Z
LAST-MODIFIED:20220224T010553Z
UID:10001337-1647666000-1647684000@www.chicagoculturalalliance.org
SUMMARY:FOUNDATION Exhibition
DESCRIPTION:The Korean Cultural Center of Chicago is pleased to present FOUNDATION\, a group exhibition curated by Dabin Ahn\, bringing together a group of emerging artists\, FOUNDATION hopes to offer experience of identifying how each artist structures their practice by employing [Culture] [Longing] [Color] [Identity] [Process] [Memory] [Site-Specificity] as its foundation. \nOpening Reception Friday\, March 12\, 2pm
URL:https://www.chicagoculturalalliance.org/event/foundation-exhibition-at-korean-cultural-center-of-chicago/2022-03-19/
LOCATION:Korean Cultural Center of Chicago\, 9925 Capitol Dr\, Wheeling\, IL\, United States
CATEGORIES:Cultural Festivals and Fairs,Exhibitions and Gallery Events
ATTACH;FMTTYPE=image/jpeg:https://www.chicagoculturalalliance.org/wp-content/uploads/2022/02/foundation.jpg
GEO:42.1107829;-87.9082415
X-APPLE-STRUCTURED-LOCATION;VALUE=URI;X-ADDRESS=Korean Cultural Center of Chicago 9925 Capitol Dr Wheeling IL United States;X-APPLE-RADIUS=500;X-TITLE=9925 Capitol Dr:geo:-87.9082415,42.1107829
END:VEVENT
BEGIN:VEVENT
DTSTART;TZID=America/Chicago:20220321T040000
DTEND;TZID=America/Chicago:20220321T120000
DTSTAMP:20260425T094008
CREATED:20220926T183618Z
LAST-MODIFIED:20220926T183618Z
UID:10001345-1647835200-1647864000@www.chicagoculturalalliance.org
SUMMARY:FOUNDATION Exhibition
DESCRIPTION:The Korean Cultural Center of Chicago is pleased to present FOUNDATION\, a group exhibition curated by Dabin Ahn\, bringing together a group of emerging artists\, FOUNDATION hopes to offer experience of identifying how each artist structures their practice by employing [Culture] [Longing] [Color] [Identity] [Process] [Memory] [Site-Specificity] as its foundation. \nOpening Reception Friday\, March 12\, 2pm
URL:https://www.chicagoculturalalliance.org/event/foundation-exhibition-at-korean-cultural-center-of-chicago/2022-03-21/
LOCATION:Korean Cultural Center of Chicago\, 9925 Capitol Dr\, Wheeling\, IL\, United States
CATEGORIES:Cultural Festivals and Fairs,Exhibitions and Gallery Events
ATTACH;FMTTYPE=image/jpeg:https://www.chicagoculturalalliance.org/wp-content/uploads/2022/02/foundation.jpg
GEO:42.1107829;-87.9082415
X-APPLE-STRUCTURED-LOCATION;VALUE=URI;X-ADDRESS=Korean Cultural Center of Chicago 9925 Capitol Dr Wheeling IL United States;X-APPLE-RADIUS=500;X-TITLE=9925 Capitol Dr:geo:-87.9082415,42.1107829
END:VEVENT
BEGIN:VEVENT
DTSTART;TZID=America/Chicago:20220322T040000
DTEND;TZID=America/Chicago:20220322T120000
DTSTAMP:20260425T094008
CREATED:20220926T183618Z
LAST-MODIFIED:20220926T183618Z
UID:10001346-1647921600-1647950400@www.chicagoculturalalliance.org
SUMMARY:FOUNDATION Exhibition
DESCRIPTION:The Korean Cultural Center of Chicago is pleased to present FOUNDATION\, a group exhibition curated by Dabin Ahn\, bringing together a group of emerging artists\, FOUNDATION hopes to offer experience of identifying how each artist structures their practice by employing [Culture] [Longing] [Color] [Identity] [Process] [Memory] [Site-Specificity] as its foundation. \nOpening Reception Friday\, March 12\, 2pm
URL:https://www.chicagoculturalalliance.org/event/foundation-exhibition-at-korean-cultural-center-of-chicago/2022-03-22/
LOCATION:Korean Cultural Center of Chicago\, 9925 Capitol Dr\, Wheeling\, IL\, United States
CATEGORIES:Cultural Festivals and Fairs,Exhibitions and Gallery Events
ATTACH;FMTTYPE=image/jpeg:https://www.chicagoculturalalliance.org/wp-content/uploads/2022/02/foundation.jpg
GEO:42.1107829;-87.9082415
X-APPLE-STRUCTURED-LOCATION;VALUE=URI;X-ADDRESS=Korean Cultural Center of Chicago 9925 Capitol Dr Wheeling IL United States;X-APPLE-RADIUS=500;X-TITLE=9925 Capitol Dr:geo:-87.9082415,42.1107829
END:VEVENT
BEGIN:VEVENT
DTSTART;TZID=America/Chicago:20220323T040000
DTEND;TZID=America/Chicago:20220323T120000
DTSTAMP:20260425T094008
CREATED:20220926T183618Z
LAST-MODIFIED:20220926T183618Z
UID:10001347-1648008000-1648036800@www.chicagoculturalalliance.org
SUMMARY:FOUNDATION Exhibition
DESCRIPTION:The Korean Cultural Center of Chicago is pleased to present FOUNDATION\, a group exhibition curated by Dabin Ahn\, bringing together a group of emerging artists\, FOUNDATION hopes to offer experience of identifying how each artist structures their practice by employing [Culture] [Longing] [Color] [Identity] [Process] [Memory] [Site-Specificity] as its foundation. \nOpening Reception Friday\, March 12\, 2pm
URL:https://www.chicagoculturalalliance.org/event/foundation-exhibition-at-korean-cultural-center-of-chicago/2022-03-23/
LOCATION:Korean Cultural Center of Chicago\, 9925 Capitol Dr\, Wheeling\, IL\, United States
CATEGORIES:Cultural Festivals and Fairs,Exhibitions and Gallery Events
ATTACH;FMTTYPE=image/jpeg:https://www.chicagoculturalalliance.org/wp-content/uploads/2022/02/foundation.jpg
GEO:42.1107829;-87.9082415
X-APPLE-STRUCTURED-LOCATION;VALUE=URI;X-ADDRESS=Korean Cultural Center of Chicago 9925 Capitol Dr Wheeling IL United States;X-APPLE-RADIUS=500;X-TITLE=9925 Capitol Dr:geo:-87.9082415,42.1107829
END:VEVENT
BEGIN:VEVENT
DTSTART;TZID=America/Chicago:20220324T040000
DTEND;TZID=America/Chicago:20220324T120000
DTSTAMP:20260425T094008
CREATED:20220926T183618Z
LAST-MODIFIED:20220926T183618Z
UID:10001348-1648094400-1648123200@www.chicagoculturalalliance.org
SUMMARY:FOUNDATION Exhibition
DESCRIPTION:The Korean Cultural Center of Chicago is pleased to present FOUNDATION\, a group exhibition curated by Dabin Ahn\, bringing together a group of emerging artists\, FOUNDATION hopes to offer experience of identifying how each artist structures their practice by employing [Culture] [Longing] [Color] [Identity] [Process] [Memory] [Site-Specificity] as its foundation. \nOpening Reception Friday\, March 12\, 2pm
URL:https://www.chicagoculturalalliance.org/event/foundation-exhibition-at-korean-cultural-center-of-chicago/2022-03-24/
LOCATION:Korean Cultural Center of Chicago\, 9925 Capitol Dr\, Wheeling\, IL\, United States
CATEGORIES:Cultural Festivals and Fairs,Exhibitions and Gallery Events
ATTACH;FMTTYPE=image/jpeg:https://www.chicagoculturalalliance.org/wp-content/uploads/2022/02/foundation.jpg
GEO:42.1107829;-87.9082415
X-APPLE-STRUCTURED-LOCATION;VALUE=URI;X-ADDRESS=Korean Cultural Center of Chicago 9925 Capitol Dr Wheeling IL United States;X-APPLE-RADIUS=500;X-TITLE=9925 Capitol Dr:geo:-87.9082415,42.1107829
END:VEVENT
BEGIN:VEVENT
DTSTART;TZID=America/Chicago:20220325T040000
DTEND;TZID=America/Chicago:20220325T120000
DTSTAMP:20260425T094008
CREATED:20220926T183618Z
LAST-MODIFIED:20220926T183618Z
UID:10001349-1648180800-1648209600@www.chicagoculturalalliance.org
SUMMARY:FOUNDATION Exhibition
DESCRIPTION:The Korean Cultural Center of Chicago is pleased to present FOUNDATION\, a group exhibition curated by Dabin Ahn\, bringing together a group of emerging artists\, FOUNDATION hopes to offer experience of identifying how each artist structures their practice by employing [Culture] [Longing] [Color] [Identity] [Process] [Memory] [Site-Specificity] as its foundation. \nOpening Reception Friday\, March 12\, 2pm
URL:https://www.chicagoculturalalliance.org/event/foundation-exhibition-at-korean-cultural-center-of-chicago/2022-03-25/
LOCATION:Korean Cultural Center of Chicago\, 9925 Capitol Dr\, Wheeling\, IL\, United States
CATEGORIES:Cultural Festivals and Fairs,Exhibitions and Gallery Events
ATTACH;FMTTYPE=image/jpeg:https://www.chicagoculturalalliance.org/wp-content/uploads/2022/02/foundation.jpg
GEO:42.1107829;-87.9082415
X-APPLE-STRUCTURED-LOCATION;VALUE=URI;X-ADDRESS=Korean Cultural Center of Chicago 9925 Capitol Dr Wheeling IL United States;X-APPLE-RADIUS=500;X-TITLE=9925 Capitol Dr:geo:-87.9082415,42.1107829
END:VEVENT
BEGIN:VEVENT
DTSTART;TZID=America/Chicago:20220326T050000
DTEND;TZID=America/Chicago:20220326T100000
DTSTAMP:20260425T094008
CREATED:20220224T005322Z
LAST-MODIFIED:20220224T010553Z
UID:10001338-1648270800-1648288800@www.chicagoculturalalliance.org
SUMMARY:FOUNDATION Exhibition
DESCRIPTION:The Korean Cultural Center of Chicago is pleased to present FOUNDATION\, a group exhibition curated by Dabin Ahn\, bringing together a group of emerging artists\, FOUNDATION hopes to offer experience of identifying how each artist structures their practice by employing [Culture] [Longing] [Color] [Identity] [Process] [Memory] [Site-Specificity] as its foundation. \nOpening Reception Friday\, March 12\, 2pm
URL:https://www.chicagoculturalalliance.org/event/foundation-exhibition-at-korean-cultural-center-of-chicago/2022-03-26/
LOCATION:Korean Cultural Center of Chicago\, 9925 Capitol Dr\, Wheeling\, IL\, United States
CATEGORIES:Cultural Festivals and Fairs,Exhibitions and Gallery Events
ATTACH;FMTTYPE=image/jpeg:https://www.chicagoculturalalliance.org/wp-content/uploads/2022/02/foundation.jpg
GEO:42.1107829;-87.9082415
X-APPLE-STRUCTURED-LOCATION;VALUE=URI;X-ADDRESS=Korean Cultural Center of Chicago 9925 Capitol Dr Wheeling IL United States;X-APPLE-RADIUS=500;X-TITLE=9925 Capitol Dr:geo:-87.9082415,42.1107829
END:VEVENT
BEGIN:VEVENT
DTSTART;TZID=America/Chicago:20220328T040000
DTEND;TZID=America/Chicago:20220328T120000
DTSTAMP:20260425T094008
CREATED:20220926T183618Z
LAST-MODIFIED:20220926T183618Z
UID:10001350-1648440000-1648468800@www.chicagoculturalalliance.org
SUMMARY:FOUNDATION Exhibition
DESCRIPTION:The Korean Cultural Center of Chicago is pleased to present FOUNDATION\, a group exhibition curated by Dabin Ahn\, bringing together a group of emerging artists\, FOUNDATION hopes to offer experience of identifying how each artist structures their practice by employing [Culture] [Longing] [Color] [Identity] [Process] [Memory] [Site-Specificity] as its foundation. \nOpening Reception Friday\, March 12\, 2pm
URL:https://www.chicagoculturalalliance.org/event/foundation-exhibition-at-korean-cultural-center-of-chicago/2022-03-28/
LOCATION:Korean Cultural Center of Chicago\, 9925 Capitol Dr\, Wheeling\, IL\, United States
CATEGORIES:Cultural Festivals and Fairs,Exhibitions and Gallery Events
ATTACH;FMTTYPE=image/jpeg:https://www.chicagoculturalalliance.org/wp-content/uploads/2022/02/foundation.jpg
GEO:42.1107829;-87.9082415
X-APPLE-STRUCTURED-LOCATION;VALUE=URI;X-ADDRESS=Korean Cultural Center of Chicago 9925 Capitol Dr Wheeling IL United States;X-APPLE-RADIUS=500;X-TITLE=9925 Capitol Dr:geo:-87.9082415,42.1107829
END:VEVENT
BEGIN:VEVENT
DTSTART;TZID=America/Chicago:20220329T040000
DTEND;TZID=America/Chicago:20220329T120000
DTSTAMP:20260425T094008
CREATED:20220926T183618Z
LAST-MODIFIED:20220926T183618Z
UID:10001351-1648526400-1648555200@www.chicagoculturalalliance.org
SUMMARY:FOUNDATION Exhibition
DESCRIPTION:The Korean Cultural Center of Chicago is pleased to present FOUNDATION\, a group exhibition curated by Dabin Ahn\, bringing together a group of emerging artists\, FOUNDATION hopes to offer experience of identifying how each artist structures their practice by employing [Culture] [Longing] [Color] [Identity] [Process] [Memory] [Site-Specificity] as its foundation. \nOpening Reception Friday\, March 12\, 2pm
URL:https://www.chicagoculturalalliance.org/event/foundation-exhibition-at-korean-cultural-center-of-chicago/2022-03-29/
LOCATION:Korean Cultural Center of Chicago\, 9925 Capitol Dr\, Wheeling\, IL\, United States
CATEGORIES:Cultural Festivals and Fairs,Exhibitions and Gallery Events
ATTACH;FMTTYPE=image/jpeg:https://www.chicagoculturalalliance.org/wp-content/uploads/2022/02/foundation.jpg
GEO:42.1107829;-87.9082415
X-APPLE-STRUCTURED-LOCATION;VALUE=URI;X-ADDRESS=Korean Cultural Center of Chicago 9925 Capitol Dr Wheeling IL United States;X-APPLE-RADIUS=500;X-TITLE=9925 Capitol Dr:geo:-87.9082415,42.1107829
END:VEVENT
BEGIN:VEVENT
DTSTART;TZID=America/Chicago:20220330T040000
DTEND;TZID=America/Chicago:20220330T120000
DTSTAMP:20260425T094008
CREATED:20220926T183618Z
LAST-MODIFIED:20220926T183618Z
UID:10001352-1648612800-1648641600@www.chicagoculturalalliance.org
SUMMARY:FOUNDATION Exhibition
DESCRIPTION:The Korean Cultural Center of Chicago is pleased to present FOUNDATION\, a group exhibition curated by Dabin Ahn\, bringing together a group of emerging artists\, FOUNDATION hopes to offer experience of identifying how each artist structures their practice by employing [Culture] [Longing] [Color] [Identity] [Process] [Memory] [Site-Specificity] as its foundation. \nOpening Reception Friday\, March 12\, 2pm
URL:https://www.chicagoculturalalliance.org/event/foundation-exhibition-at-korean-cultural-center-of-chicago/2022-03-30/
LOCATION:Korean Cultural Center of Chicago\, 9925 Capitol Dr\, Wheeling\, IL\, United States
CATEGORIES:Cultural Festivals and Fairs,Exhibitions and Gallery Events
ATTACH;FMTTYPE=image/jpeg:https://www.chicagoculturalalliance.org/wp-content/uploads/2022/02/foundation.jpg
GEO:42.1107829;-87.9082415
X-APPLE-STRUCTURED-LOCATION;VALUE=URI;X-ADDRESS=Korean Cultural Center of Chicago 9925 Capitol Dr Wheeling IL United States;X-APPLE-RADIUS=500;X-TITLE=9925 Capitol Dr:geo:-87.9082415,42.1107829
END:VEVENT
BEGIN:VEVENT
DTSTART;TZID=America/Chicago:20220331T040000
DTEND;TZID=America/Chicago:20220331T120000
DTSTAMP:20260425T094008
CREATED:20220926T183618Z
LAST-MODIFIED:20220926T183618Z
UID:10001353-1648699200-1648728000@www.chicagoculturalalliance.org
SUMMARY:FOUNDATION Exhibition
DESCRIPTION:The Korean Cultural Center of Chicago is pleased to present FOUNDATION\, a group exhibition curated by Dabin Ahn\, bringing together a group of emerging artists\, FOUNDATION hopes to offer experience of identifying how each artist structures their practice by employing [Culture] [Longing] [Color] [Identity] [Process] [Memory] [Site-Specificity] as its foundation. \nOpening Reception Friday\, March 12\, 2pm
URL:https://www.chicagoculturalalliance.org/event/foundation-exhibition-at-korean-cultural-center-of-chicago/2022-03-31/
LOCATION:Korean Cultural Center of Chicago\, 9925 Capitol Dr\, Wheeling\, IL\, United States
CATEGORIES:Cultural Festivals and Fairs,Exhibitions and Gallery Events
ATTACH;FMTTYPE=image/jpeg:https://www.chicagoculturalalliance.org/wp-content/uploads/2022/02/foundation.jpg
GEO:42.1107829;-87.9082415
X-APPLE-STRUCTURED-LOCATION;VALUE=URI;X-ADDRESS=Korean Cultural Center of Chicago 9925 Capitol Dr Wheeling IL United States;X-APPLE-RADIUS=500;X-TITLE=9925 Capitol Dr:geo:-87.9082415,42.1107829
END:VEVENT
END:VCALENDAR