BEGIN:VCALENDAR
VERSION:2.0
PRODID:-//Chicago Cultural Alliance - ECPv6.15.20//NONSGML v1.0//EN
CALSCALE:GREGORIAN
METHOD:PUBLISH
X-WR-CALNAME:Chicago Cultural Alliance
X-ORIGINAL-URL:https://www.chicagoculturalalliance.org
X-WR-CALDESC:Events for Chicago Cultural Alliance
REFRESH-INTERVAL;VALUE=DURATION:PT1H
X-Robots-Tag:noindex
X-PUBLISHED-TTL:PT1H
BEGIN:VTIMEZONE
TZID:America/Chicago
BEGIN:DAYLIGHT
TZOFFSETFROM:-0600
TZOFFSETTO:-0500
TZNAME:CDT
DTSTART:20210314T080000
END:DAYLIGHT
BEGIN:STANDARD
TZOFFSETFROM:-0500
TZOFFSETTO:-0600
TZNAME:CST
DTSTART:20211107T070000
END:STANDARD
BEGIN:DAYLIGHT
TZOFFSETFROM:-0600
TZOFFSETTO:-0500
TZNAME:CDT
DTSTART:20220313T080000
END:DAYLIGHT
BEGIN:STANDARD
TZOFFSETFROM:-0500
TZOFFSETTO:-0600
TZNAME:CST
DTSTART:20221106T070000
END:STANDARD
BEGIN:DAYLIGHT
TZOFFSETFROM:-0600
TZOFFSETTO:-0500
TZNAME:CDT
DTSTART:20230312T080000
END:DAYLIGHT
BEGIN:STANDARD
TZOFFSETFROM:-0500
TZOFFSETTO:-0600
TZNAME:CST
DTSTART:20231105T070000
END:STANDARD
END:VTIMEZONE
BEGIN:VEVENT
DTSTART;TZID=America/Chicago:20220603T150000
DTEND;TZID=America/Chicago:20220603T170000
DTSTAMP:20260425T100049
CREATED:20220527T163450Z
LAST-MODIFIED:20220527T163450Z
UID:10001530-1654268400-1654275600@www.chicagoculturalalliance.org
SUMMARY:Opening Reception: Harry Ahn:  'I am not worthless\, just homeless'
DESCRIPTION:Ahn’s affinity for people who are struggling came from his own experiences as a refugee in Korea. In all his rendering of the homeless\, we are called to recognize the worth and dignity of every human being\, knowing that each has untold stories behind their homelessness.
URL:https://www.chicagoculturalalliance.org/event/opening-reception-harry-ahn-i-am-not-worthless-just-homeless/
LOCATION:Korean Cultural Center of Chicago\, 9925 Capitol Dr\, Wheeling\, IL\, United States
CATEGORIES:Cultural Festivals and Fairs,Exhibitions and Gallery Events,Music, Film, and Theater
ATTACH;FMTTYPE=image/jpeg:https://www.chicagoculturalalliance.org/wp-content/uploads/2022/05/Harry-Ahn-exhibition2-scaled.jpg
GEO:42.1107829;-87.9082415
X-APPLE-STRUCTURED-LOCATION;VALUE=URI;X-ADDRESS=Korean Cultural Center of Chicago 9925 Capitol Dr Wheeling IL United States;X-APPLE-RADIUS=500;X-TITLE=9925 Capitol Dr:geo:-87.9082415,42.1107829
END:VEVENT
END:VCALENDAR