BEGIN:VCALENDAR
VERSION:2.0
PRODID:-//Chicago Cultural Alliance - ECPv6.15.20//NONSGML v1.0//EN
CALSCALE:GREGORIAN
METHOD:PUBLISH
X-WR-CALNAME:Chicago Cultural Alliance
X-ORIGINAL-URL:https://www.chicagoculturalalliance.org
X-WR-CALDESC:Events for Chicago Cultural Alliance
REFRESH-INTERVAL;VALUE=DURATION:PT1H
X-Robots-Tag:noindex
X-PUBLISHED-TTL:PT1H
BEGIN:VTIMEZONE
TZID:America/Chicago
BEGIN:DAYLIGHT
TZOFFSETFROM:-0600
TZOFFSETTO:-0500
TZNAME:CDT
DTSTART:20220313T080000
END:DAYLIGHT
BEGIN:STANDARD
TZOFFSETFROM:-0500
TZOFFSETTO:-0600
TZNAME:CST
DTSTART:20221106T070000
END:STANDARD
BEGIN:DAYLIGHT
TZOFFSETFROM:-0600
TZOFFSETTO:-0500
TZNAME:CDT
DTSTART:20230312T080000
END:DAYLIGHT
BEGIN:STANDARD
TZOFFSETFROM:-0500
TZOFFSETTO:-0600
TZNAME:CST
DTSTART:20231105T070000
END:STANDARD
BEGIN:DAYLIGHT
TZOFFSETFROM:-0600
TZOFFSETTO:-0500
TZNAME:CDT
DTSTART:20240310T080000
END:DAYLIGHT
BEGIN:STANDARD
TZOFFSETFROM:-0500
TZOFFSETTO:-0600
TZNAME:CST
DTSTART:20241103T070000
END:STANDARD
END:VTIMEZONE
BEGIN:VEVENT
DTSTART;TZID=America/Chicago:20230416T140000
DTEND;TZID=America/Chicago:20230416T150000
DTSTAMP:20260425T055143
CREATED:20230410T180917Z
LAST-MODIFIED:20230410T180917Z
UID:10003826-1681653600-1681657200@www.chicagoculturalalliance.org
SUMMARY:Public Museum Field Tour
DESCRIPTION:The Field Tour Program is designed for children of all ages to journey through Asia’s rich and diverse cultures. The program runs Sunday from 2 to 3 pm and is free for children . \nWe are excited to offer a special tour designed just for children. \nOn this tour\, Children will embark on a journey through the rich and diverse cultures of Asia. Our expert guides will take them on a fun and educational exploration of our exhibits\, including vibrant pottery\, intricate sculptures\, and fascinating artifacts from different regions of Asia. \nChildren will learn about the art and traditions of China\, Japan\, Indian and other countries and discover how these different cultures have influenced each other over time. They will get to see real artifacts\, learn about their history and meaning\, and even create their own art inspired by what they have seen. \nOur tour guides are specially trained to engage children of all ages and make learning fun and interactive. We use stories\, games\, and other activities to help children connect with the art and cultures they are learning about. \nNot only is this program educational\, but it’s also a fun way for kids to experience the museum. They’ll have the chance to ask questions\, interact with exhibits\, and engage with other kids who share their curiosity. Come and join us on this special children’s tour of the Heritage Museum of Asian Art\, and let child’s imaginations soar as they discover the wonders of Asian art and culture. We hope that the Field Tour Program will inspire a lifelong love of learning and exploration in the kids who participate. \nThis tour starts at the reception desk of the Museum. \n  \nAccessibility \nThe Heritage Museum of Asian Art’s Entrance is on West 35th Street. Take the elevator to the third floor and turn right to the Museum Reception Desk. Accessible and standard toilets are located on the same floor. \nFree parking space is available next to the museum\, accessed via West 35th Street. \n 
URL:https://www.chicagoculturalalliance.org/event/public-museum-field-tour/
LOCATION:3500 S Morgan Street\, 3500 S Morgan St 3F\, Chicago\, IL\, 60609\, United States
CATEGORIES:Exhibitions and Gallery Events,Tour
ATTACH;FMTTYPE=image/png:https://www.chicagoculturalalliance.org/wp-content/uploads/2023/04/filed-tour.png
ORGANIZER;CN="Heritage Museum of Asian Art":MAILTO:info@heritageasianart.org
GEO:41.8304864;-87.6513977
X-APPLE-STRUCTURED-LOCATION;VALUE=URI;X-ADDRESS=3500 S Morgan Street 3500 S Morgan St 3F Chicago IL 60609 United States;X-APPLE-RADIUS=500;X-TITLE=3500 S Morgan St 3F:geo:-87.6513977,41.8304864
END:VEVENT
END:VCALENDAR