BEGIN:VCALENDAR
VERSION:2.0
PRODID:-//Chicago Cultural Alliance - ECPv6.15.20//NONSGML v1.0//EN
CALSCALE:GREGORIAN
METHOD:PUBLISH
X-WR-CALNAME:Chicago Cultural Alliance
X-ORIGINAL-URL:https://www.chicagoculturalalliance.org
X-WR-CALDESC:Events for Chicago Cultural Alliance
REFRESH-INTERVAL;VALUE=DURATION:PT1H
X-Robots-Tag:noindex
X-PUBLISHED-TTL:PT1H
BEGIN:VTIMEZONE
TZID:America/Chicago
BEGIN:DAYLIGHT
TZOFFSETFROM:-0600
TZOFFSETTO:-0500
TZNAME:CDT
DTSTART:20210314T080000
END:DAYLIGHT
BEGIN:STANDARD
TZOFFSETFROM:-0500
TZOFFSETTO:-0600
TZNAME:CST
DTSTART:20211107T070000
END:STANDARD
BEGIN:DAYLIGHT
TZOFFSETFROM:-0600
TZOFFSETTO:-0500
TZNAME:CDT
DTSTART:20220313T080000
END:DAYLIGHT
BEGIN:STANDARD
TZOFFSETFROM:-0500
TZOFFSETTO:-0600
TZNAME:CST
DTSTART:20221106T070000
END:STANDARD
BEGIN:DAYLIGHT
TZOFFSETFROM:-0600
TZOFFSETTO:-0500
TZNAME:CDT
DTSTART:20230312T080000
END:DAYLIGHT
BEGIN:STANDARD
TZOFFSETFROM:-0500
TZOFFSETTO:-0600
TZNAME:CST
DTSTART:20231105T070000
END:STANDARD
END:VTIMEZONE
BEGIN:VEVENT
DTSTART;TZID=America/Chicago:20220902T203000
DTEND;TZID=America/Chicago:20220902T203000
DTSTAMP:20260425T125026
CREATED:20220809T180622Z
LAST-MODIFIED:20220809T180622Z
UID:10001681-1662150600-1662150600@www.chicagoculturalalliance.org
SUMMARY:ILCC Latino Music Series: Sidi Wacho
DESCRIPTION:For the first time in Chicago\, Sidi Wacho will put on a performance you can’t miss! The group hails from Chile\, France\, and Algeria\, but claim to be from all over the world. Sidi Wacho has produced four acclaimed albums and have toured the world with their Cumbia\, Hip-Hop\, Balkan fusion in the vein of Manu Chao\, Chico Trujillo\, and Sargent Garcia.\n\n\nGet your tickets at: https://bit.ly/sidiwacho\n—–\n¡Por primera vez en Chicago\, Sidi Wacho realizará una actuación que no te puedes perder! El grupo proviene de Chile\, Francia y Argelia\, pero afirma ser de todo el mundo. Sidi Wacho ha producido cuatro aclamados discos y ha recorrido el mundo con su cumbia\, hip-hop\, fusión balcánica en la línea de Manu Chao\, Chico Trujillo y Sargent García.\n\n\nCompra tus boletos aqui: https://bit.ly/sidiwacho
URL:https://www.chicagoculturalalliance.org/event/ilcc-latino-music-series-sidi-wacho/
LOCATION:Martyrs’\, 3855 N Lincoln Ave\, Chicago\, IL\, United States
CATEGORIES:Member Events,Music, Film, and Theater
ATTACH;FMTTYPE=image/jpeg:https://www.chicagoculturalalliance.org/wp-content/uploads/2022/08/296469404_5721878821165382_6565970352313517698_n.jpg
GEO:41.952231;-87.676819
X-APPLE-STRUCTURED-LOCATION;VALUE=URI;X-ADDRESS=Martyrs’ 3855 N Lincoln Ave Chicago IL United States;X-APPLE-RADIUS=500;X-TITLE=3855 N Lincoln Ave:geo:-87.676819,41.952231
END:VEVENT
END:VCALENDAR